BEGIN:VCALENDAR
VERSION:2.0
PRODID:-//Streamwood Park District - ECPv6.15.18//NONSGML v1.0//EN
CALSCALE:GREGORIAN
METHOD:PUBLISH
X-WR-CALNAME:Streamwood Park District
X-ORIGINAL-URL:https://streamwoodparks.org
X-WR-CALDESC:Events for Streamwood Park District
REFRESH-INTERVAL;VALUE=DURATION:PT1H
X-Robots-Tag:noindex
X-PUBLISHED-TTL:PT1H
BEGIN:VTIMEZONE
TZID:America/Chicago
BEGIN:DAYLIGHT
TZOFFSETFROM:-0600
TZOFFSETTO:-0500
TZNAME:CDT
DTSTART:20240310T080000
END:DAYLIGHT
BEGIN:STANDARD
TZOFFSETFROM:-0500
TZOFFSETTO:-0600
TZNAME:CST
DTSTART:20241103T070000
END:STANDARD
BEGIN:DAYLIGHT
TZOFFSETFROM:-0600
TZOFFSETTO:-0500
TZNAME:CDT
DTSTART:20250309T080000
END:DAYLIGHT
BEGIN:STANDARD
TZOFFSETFROM:-0500
TZOFFSETTO:-0600
TZNAME:CST
DTSTART:20251102T070000
END:STANDARD
BEGIN:DAYLIGHT
TZOFFSETFROM:-0600
TZOFFSETTO:-0500
TZNAME:CDT
DTSTART:20260308T080000
END:DAYLIGHT
BEGIN:STANDARD
TZOFFSETFROM:-0500
TZOFFSETTO:-0600
TZNAME:CST
DTSTART:20261101T070000
END:STANDARD
END:VTIMEZONE
BEGIN:VEVENT
DTSTART;TZID=America/Chicago:20250420T104500
DTEND;TZID=America/Chicago:20250420T114500
DTSTAMP:20260420T104820
CREATED:20230630T173629Z
LAST-MODIFIED:20230630T173629Z
UID:21760-1745145900-1745149500@streamwoodparks.org
SUMMARY:Jazzercise®
DESCRIPTION:
URL:https://streamwoodparks.org/event/jazzercise/2025-04-20/
LOCATION:Park Place Family Recreation Center\, 550 S. Park Blvd.\, Park Place Family Rec Center\, Streamwood\, IL\, 60107\, United States
CATEGORIES:Recreation
ORGANIZER;CN="Adam Vasquez":MAILTO:avasquez@spdcares.com
END:VEVENT
BEGIN:VEVENT
DTSTART;TZID=America/Chicago:20250421T083000
DTEND;TZID=America/Chicago:20250421T091500
DTSTAMP:20260420T104820
CREATED:20231127T201901Z
LAST-MODIFIED:20231127T201901Z
UID:24089-1745224200-1745226900@streamwoodparks.org
SUMMARY:Interval Training
DESCRIPTION:with Lisa \nThis high-intensity interval training class combines calisthenics\, plyometrics\, and bodyweight exercises in cardio intervals. Exercises are done in time bursts with short recovery periods\, with a goal of reaching an anaerobic state\, increasing metabolism for 24-72 hours after the workout.
URL:https://streamwoodparks.org/event/interval-training-2/2025-04-21/
LOCATION:Park Place Family Recreation Center\, 550 S. Park Blvd.\, Park Place Family Rec Center\, Streamwood\, IL\, 60107\, United States
ORGANIZER;CN="Adam Vasquez":MAILTO:avasquez@spdcares.com
END:VEVENT
BEGIN:VEVENT
DTSTART;TZID=America/Chicago:20250421T090000
DTEND;TZID=America/Chicago:20250421T100000
DTSTAMP:20260420T104820
CREATED:20230630T165814Z
LAST-MODIFIED:20230630T165814Z
UID:20018-1745226000-1745229600@streamwoodparks.org
SUMMARY:Aqua Fit
DESCRIPTION:INSTRUCTOR: MARY \nAqua Fit is a challenging water workout fit for everyone\, especially those with joint ailments or injuries. The class begins with a gentle warm-up and from there\, you’ll ease into exercises using your own body weight and water-resistance dumbbells. This 60-minute cardio and resistance training class will have you splashing your way to improved strength and overall refreshment.
URL:https://streamwoodparks.org/event/aqua-fit/2025-04-21/
LOCATION:Park Place Family Recreation Center\, 550 S. Park Blvd.\, Park Place Family Rec Center\, Streamwood\, IL\, 60107\, United States
CATEGORIES:Recreation
ORGANIZER;CN="Adam Vasquez":MAILTO:avasquez@spdcares.com
END:VEVENT
BEGIN:VEVENT
DTSTART;TZID=America/Chicago:20250421T093000
DTEND;TZID=America/Chicago:20250421T103000
DTSTAMP:20260420T104820
CREATED:20230630T170050Z
LAST-MODIFIED:20230630T170050Z
UID:21041-1745227800-1745231400@streamwoodparks.org
SUMMARY:Spin®
DESCRIPTION:INSTRUCTOR: CATHY \nGet your sweat on to time or music-based aerobic endurance\, conditioning\, and anaerobic interval training motivated by expert instruction. Classes focus on drills that build power and endurance on the bike and brief\, high-intensity bursts that push past your anaerobic threshold to increase your cycling power.
URL:https://streamwoodparks.org/event/spin/2025-04-21/
LOCATION:Park Place Family Recreation Center\, 550 S. Park Blvd.\, Park Place Family Rec Center\, Streamwood\, IL\, 60107\, United States
CATEGORIES:Recreation
ORGANIZER;CN="Adam Vasquez":MAILTO:avasquez@spdcares.com
END:VEVENT
BEGIN:VEVENT
DTSTART;TZID=America/Chicago:20250421T171000
DTEND;TZID=America/Chicago:20250421T181000
DTSTAMP:20260420T104820
CREATED:20230630T173629Z
LAST-MODIFIED:20230630T173629Z
UID:21761-1745255400-1745259000@streamwoodparks.org
SUMMARY:Jazzercise®
DESCRIPTION:
URL:https://streamwoodparks.org/event/jazzercise/2025-04-21/
LOCATION:Park Place Family Recreation Center\, 550 S. Park Blvd.\, Park Place Family Rec Center\, Streamwood\, IL\, 60107\, United States
CATEGORIES:Recreation
ORGANIZER;CN="Adam Vasquez":MAILTO:avasquez@spdcares.com
END:VEVENT
BEGIN:VEVENT
DTSTART;TZID=America/Chicago:20250422T084000
DTEND;TZID=America/Chicago:20250422T094000
DTSTAMP:20260420T104820
CREATED:20230630T173629Z
LAST-MODIFIED:20230921T155856Z
UID:18670-1745311200-1745314800@streamwoodparks.org
SUMMARY:Jazzercise®
DESCRIPTION:
URL:https://streamwoodparks.org/event/jazzercise/2025-04-22/
LOCATION:Park Place Family Recreation Center\, 550 S. Park Blvd.\, Park Place Family Rec Center\, Streamwood\, IL\, 60107\, United States
CATEGORIES:Recreation
ORGANIZER;CN="Adam Vasquez":MAILTO:avasquez@spdcares.com
END:VEVENT
BEGIN:VEVENT
DTSTART;TZID=America/Chicago:20250422T171000
DTEND;TZID=America/Chicago:20250422T181000
DTSTAMP:20260420T104820
CREATED:20230630T173629Z
LAST-MODIFIED:20230630T173629Z
UID:21762-1745341800-1745345400@streamwoodparks.org
SUMMARY:Jazzercise®
DESCRIPTION:
URL:https://streamwoodparks.org/event/jazzercise/2025-04-22/
LOCATION:Park Place Family Recreation Center\, 550 S. Park Blvd.\, Park Place Family Rec Center\, Streamwood\, IL\, 60107\, United States
CATEGORIES:Recreation
ORGANIZER;CN="Adam Vasquez":MAILTO:avasquez@spdcares.com
END:VEVENT
BEGIN:VEVENT
DTSTART;TZID=America/Chicago:20250423T090000
DTEND;TZID=America/Chicago:20250423T100000
DTSTAMP:20260420T104820
CREATED:20230630T165814Z
LAST-MODIFIED:20230630T165814Z
UID:20019-1745398800-1745402400@streamwoodparks.org
SUMMARY:Aqua Fit
DESCRIPTION:INSTRUCTOR: MARY \nAqua Fit is a challenging water workout fit for everyone\, especially those with joint ailments or injuries. The class begins with a gentle warm-up and from there\, you’ll ease into exercises using your own body weight and water-resistance dumbbells. This 60-minute cardio and resistance training class will have you splashing your way to improved strength and overall refreshment.
URL:https://streamwoodparks.org/event/aqua-fit/2025-04-23/
LOCATION:Park Place Family Recreation Center\, 550 S. Park Blvd.\, Park Place Family Rec Center\, Streamwood\, IL\, 60107\, United States
CATEGORIES:Recreation
ORGANIZER;CN="Adam Vasquez":MAILTO:avasquez@spdcares.com
END:VEVENT
BEGIN:VEVENT
DTSTART;TZID=America/Chicago:20250423T093000
DTEND;TZID=America/Chicago:20250423T101500
DTSTAMP:20260420T104820
CREATED:20231128T192330Z
LAST-MODIFIED:20240112T153355Z
UID:25313-1745400600-1745403300@streamwoodparks.org
SUMMARY:Stretch Infusion
DESCRIPTION:Instructor: Cathy \nFloor-based mat class designed for everyone. Non-impact\, safe\, and effective\, you
URL:https://streamwoodparks.org/event/stretch-infusion/2025-04-23/
LOCATION:Park Place Family Recreation Center\, 550 S. Park Blvd.\, Park Place Family Rec Center\, Streamwood\, IL\, 60107\, United States
ORGANIZER;CN="Adam Vasquez":MAILTO:avasquez@spdcares.com
END:VEVENT
BEGIN:VEVENT
DTSTART;TZID=America/Chicago:20250423T171000
DTEND;TZID=America/Chicago:20250423T181000
DTSTAMP:20260420T104820
CREATED:20230630T173629Z
LAST-MODIFIED:20230630T173629Z
UID:21763-1745428200-1745431800@streamwoodparks.org
SUMMARY:Jazzercise®
DESCRIPTION:
URL:https://streamwoodparks.org/event/jazzercise/2025-04-23/
LOCATION:Park Place Family Recreation Center\, 550 S. Park Blvd.\, Park Place Family Rec Center\, Streamwood\, IL\, 60107\, United States
CATEGORIES:Recreation
ORGANIZER;CN="Adam Vasquez":MAILTO:avasquez@spdcares.com
END:VEVENT
BEGIN:VEVENT
DTSTART;TZID=America/Chicago:20250423T183000
DTEND;TZID=America/Chicago:20250423T193000
DTSTAMP:20260420T104820
CREATED:20230630T170050Z
LAST-MODIFIED:20230919T144523Z
UID:20248-1745433000-1745436600@streamwoodparks.org
SUMMARY:Spin®
DESCRIPTION:INSTRUCTOR: CATHY \nGet your sweat on to time or music-based aerobic endurance\, conditioning\, and anaerobic interval training motivated by expert instruction. Classes focus on drills that build power and endurance on the bike and brief\, high-intensity bursts that push past your anaerobic threshold to increase your cycling power.
URL:https://streamwoodparks.org/event/spin/2025-04-23/
LOCATION:Park Place Family Recreation Center\, 550 S. Park Blvd.\, Park Place Family Rec Center\, Streamwood\, IL\, 60107\, United States
CATEGORIES:Recreation
ORGANIZER;CN="Adam Vasquez":MAILTO:avasquez@spdcares.com
END:VEVENT
BEGIN:VEVENT
DTSTART;TZID=America/Chicago:20250424T084000
DTEND;TZID=America/Chicago:20250424T094000
DTSTAMP:20260420T104820
CREATED:20230630T173629Z
LAST-MODIFIED:20230921T155857Z
UID:18671-1745484000-1745487600@streamwoodparks.org
SUMMARY:Jazzercise®
DESCRIPTION:
URL:https://streamwoodparks.org/event/jazzercise/2025-04-24/
LOCATION:Park Place Family Recreation Center\, 550 S. Park Blvd.\, Park Place Family Rec Center\, Streamwood\, IL\, 60107\, United States
CATEGORIES:Recreation
ORGANIZER;CN="Adam Vasquez":MAILTO:avasquez@spdcares.com
END:VEVENT
BEGIN:VEVENT
DTSTART;TZID=America/Chicago:20250425T090000
DTEND;TZID=America/Chicago:20250425T100000
DTSTAMP:20260420T104820
CREATED:20230630T165814Z
LAST-MODIFIED:20230630T165814Z
UID:20020-1745571600-1745575200@streamwoodparks.org
SUMMARY:Aqua Fit
DESCRIPTION:INSTRUCTOR: MARY \nAqua Fit is a challenging water workout fit for everyone\, especially those with joint ailments or injuries. The class begins with a gentle warm-up and from there\, you’ll ease into exercises using your own body weight and water-resistance dumbbells. This 60-minute cardio and resistance training class will have you splashing your way to improved strength and overall refreshment.
URL:https://streamwoodparks.org/event/aqua-fit/2025-04-25/
LOCATION:Park Place Family Recreation Center\, 550 S. Park Blvd.\, Park Place Family Rec Center\, Streamwood\, IL\, 60107\, United States
CATEGORIES:Recreation
ORGANIZER;CN="Adam Vasquez":MAILTO:avasquez@spdcares.com
END:VEVENT
BEGIN:VEVENT
DTSTART;TZID=America/Chicago:20250425T090000
DTEND;TZID=America/Chicago:20250425T100000
DTSTAMP:20260420T104820
CREATED:20230630T170050Z
LAST-MODIFIED:20230919T144524Z
UID:20249-1745571600-1745575200@streamwoodparks.org
SUMMARY:Spin®
DESCRIPTION:INSTRUCTOR: CATHY \nGet your sweat on to time or music-based aerobic endurance\, conditioning\, and anaerobic interval training motivated by expert instruction. Classes focus on drills that build power and endurance on the bike and brief\, high-intensity bursts that push past your anaerobic threshold to increase your cycling power.
URL:https://streamwoodparks.org/event/spin/2025-04-25/
LOCATION:Park Place Family Recreation Center\, 550 S. Park Blvd.\, Park Place Family Rec Center\, Streamwood\, IL\, 60107\, United States
CATEGORIES:Recreation
ORGANIZER;CN="Adam Vasquez":MAILTO:avasquez@spdcares.com
END:VEVENT
BEGIN:VEVENT
DTSTART;TZID=America/Chicago:20250425T101500
DTEND;TZID=America/Chicago:20250425T110000
DTSTAMP:20260420T104820
CREATED:20231128T192330Z
LAST-MODIFIED:20240112T153357Z
UID:25315-1745576100-1745578800@streamwoodparks.org
SUMMARY:Stretch Infusion
DESCRIPTION:Instructor: Cathy \nFloor-based mat class designed for everyone. Non-impact\, safe\, and effective\, you
URL:https://streamwoodparks.org/event/stretch-infusion/2025-04-25/
LOCATION:Park Place Family Recreation Center\, 550 S. Park Blvd.\, Park Place Family Rec Center\, Streamwood\, IL\, 60107\, United States
ORGANIZER;CN="Adam Vasquez":MAILTO:avasquez@spdcares.com
END:VEVENT
BEGIN:VEVENT
DTSTART;TZID=America/Chicago:20250425T171000
DTEND;TZID=America/Chicago:20250425T181000
DTSTAMP:20260420T104820
CREATED:20230630T173629Z
LAST-MODIFIED:20230630T173629Z
UID:21764-1745601000-1745604600@streamwoodparks.org
SUMMARY:Jazzercise®
DESCRIPTION:
URL:https://streamwoodparks.org/event/jazzercise/2025-04-25/
LOCATION:Park Place Family Recreation Center\, 550 S. Park Blvd.\, Park Place Family Rec Center\, Streamwood\, IL\, 60107\, United States
CATEGORIES:Recreation
ORGANIZER;CN="Adam Vasquez":MAILTO:avasquez@spdcares.com
END:VEVENT
BEGIN:VEVENT
DTSTART;TZID=America/Chicago:20250426T070000
DTEND;TZID=America/Chicago:20250426T080000
DTSTAMP:20260420T104820
CREATED:20240306T192554Z
LAST-MODIFIED:20240306T192554Z
UID:26798-1745650800-1745654400@streamwoodparks.org
SUMMARY:Alignment Yoga
DESCRIPTION:with Diane \nThis all-levels class is a slow-paced flow with a focus on the foundations of postures.  The class has a combination of mobility\, strength\, and alignment drills that enhance any level of practitioner interested in developing more awareness in breath and movement.
URL:https://streamwoodparks.org/event/alignment-yoga/2025-04-26/
LOCATION:Park Place Family Recreation Center\, 550 S. Park Blvd.\, Park Place Family Rec Center\, Streamwood\, IL\, 60107\, United States
CATEGORIES:Recreation
ORGANIZER;CN="Adam Vasquez":MAILTO:avasquez@spdcares.com
END:VEVENT
BEGIN:VEVENT
DTSTART;TZID=America/Chicago:20250426T083000
DTEND;TZID=America/Chicago:20250426T093000
DTSTAMP:20260420T104820
CREATED:20240110T175054Z
LAST-MODIFIED:20240110T175054Z
UID:26332-1745656200-1745659800@streamwoodparks.org
SUMMARY:Boot Camp
DESCRIPTION:with Debbie & Cari \nWork at your own pace and ability as your instructor takes you through a series of both strength training and cardio full body movements that will help you improve your strength\, power\, and movement. Class variety designed to push and challenge the body.
URL:https://streamwoodparks.org/event/boot-camp/2025-04-26/
LOCATION:Park Place Family Recreation Center\, 550 S. Park Blvd.\, Park Place Family Rec Center\, Streamwood\, IL\, 60107\, United States
CATEGORIES:Recreation
ORGANIZER;CN="Adam Vasquez":MAILTO:avasquez@spdcares.com
END:VEVENT
END:VCALENDAR