BEGIN:VCALENDAR
VERSION:2.0
PRODID:-//Streamwood Park District - ECPv6.15.18//NONSGML v1.0//EN
CALSCALE:GREGORIAN
METHOD:PUBLISH
X-ORIGINAL-URL:https://streamwoodparks.org
X-WR-CALDESC:Events for Streamwood Park District
REFRESH-INTERVAL;VALUE=DURATION:PT1H
X-Robots-Tag:noindex
X-PUBLISHED-TTL:PT1H
BEGIN:VTIMEZONE
TZID:America/Chicago
BEGIN:DAYLIGHT
TZOFFSETFROM:-0600
TZOFFSETTO:-0500
TZNAME:CDT
DTSTART:20230312T080000
END:DAYLIGHT
BEGIN:STANDARD
TZOFFSETFROM:-0500
TZOFFSETTO:-0600
TZNAME:CST
DTSTART:20231105T070000
END:STANDARD
BEGIN:DAYLIGHT
TZOFFSETFROM:-0600
TZOFFSETTO:-0500
TZNAME:CDT
DTSTART:20240310T080000
END:DAYLIGHT
BEGIN:STANDARD
TZOFFSETFROM:-0500
TZOFFSETTO:-0600
TZNAME:CST
DTSTART:20241103T070000
END:STANDARD
BEGIN:DAYLIGHT
TZOFFSETFROM:-0600
TZOFFSETTO:-0500
TZNAME:CDT
DTSTART:20250309T080000
END:DAYLIGHT
BEGIN:STANDARD
TZOFFSETFROM:-0500
TZOFFSETTO:-0600
TZNAME:CST
DTSTART:20251102T070000
END:STANDARD
END:VTIMEZONE
BEGIN:VEVENT
DTSTART;TZID=America/Chicago:20241201T080000
DTEND;TZID=America/Chicago:20241215T170000
DTSTAMP:20260422T182952
CREATED:20240813T141757Z
LAST-MODIFIED:20240813T141757Z
UID:27570-1733040000-1734282000@streamwoodparks.org
SUMMARY:Letters to Santa
DESCRIPTION:Santa Claus will once again have a special mailbox placed at Park Place\, Community Center\, and Hoosier Grove Barn. All children who write a letter to Santa will receive a letter directly from the North Pole! \nDrop off your letter in one of Santa’s mailboxes\, or mail your letter directly to:\nSanta Claus\nc/o Streamwood Park District\n550 S Park Blvd\nStreamwood\, IL 60107 \nPlease remember to include your child’s name and address on the back of the envelope. We don’t want any letters to get lost!
URL:https://streamwoodparks.org/event/letters-to-santa-3/
LOCATION:IL
CATEGORIES:Events,Programs,Special Event
ATTACH;FMTTYPE=image/png:https://streamwoodparks.org/wp-content/uploads/2022/09/SPD_Web_Event_LettersToSanta.png
ORGANIZER;CN="Adam Vasquez":MAILTO:avasquez@spdcares.com
END:VEVENT
BEGIN:VEVENT
DTSTART;TZID=America/Chicago:20241208T104500
DTEND;TZID=America/Chicago:20241208T114500
DTSTAMP:20260422T182952
CREATED:20230630T173629Z
LAST-MODIFIED:20230630T173629Z
UID:21665-1733654700-1733658300@streamwoodparks.org
SUMMARY:Jazzercise®
DESCRIPTION:
URL:https://streamwoodparks.org/event/jazzercise/2024-12-08/
LOCATION:Park Place Family Recreation Center\, 550 S. Park Blvd.\, Park Place Family Rec Center\, Streamwood\, IL\, 60107\, United States
CATEGORIES:Recreation
ORGANIZER;CN="Adam Vasquez":MAILTO:avasquez@spdcares.com
END:VEVENT
BEGIN:VEVENT
DTSTART;TZID=America/Chicago:20241209T090000
DTEND;TZID=America/Chicago:20241209T100000
DTSTAMP:20260422T182952
CREATED:20230630T165814Z
LAST-MODIFIED:20230630T165814Z
UID:19961-1733734800-1733738400@streamwoodparks.org
SUMMARY:Aqua Fit
DESCRIPTION:INSTRUCTOR: MARY \nAqua Fit is a challenging water workout fit for everyone\, especially those with joint ailments or injuries. The class begins with a gentle warm-up and from there\, you’ll ease into exercises using your own body weight and water-resistance dumbbells. This 60-minute cardio and resistance training class will have you splashing your way to improved strength and overall refreshment.
URL:https://streamwoodparks.org/event/aqua-fit/2024-12-09/
LOCATION:Park Place Family Recreation Center\, 550 S. Park Blvd.\, Park Place Family Rec Center\, Streamwood\, IL\, 60107\, United States
CATEGORIES:Recreation
ORGANIZER;CN="Adam Vasquez":MAILTO:avasquez@spdcares.com
END:VEVENT
BEGIN:VEVENT
DTSTART;TZID=America/Chicago:20241209T093000
DTEND;TZID=America/Chicago:20241209T103000
DTSTAMP:20260422T182952
CREATED:20230630T170050Z
LAST-MODIFIED:20230630T170050Z
UID:21022-1733736600-1733740200@streamwoodparks.org
SUMMARY:Spin®
DESCRIPTION:INSTRUCTOR: CATHY \nGet your sweat on to time or music-based aerobic endurance\, conditioning\, and anaerobic interval training motivated by expert instruction. Classes focus on drills that build power and endurance on the bike and brief\, high-intensity bursts that push past your anaerobic threshold to increase your cycling power.
URL:https://streamwoodparks.org/event/spin/2024-12-09/
LOCATION:Park Place Family Recreation Center\, 550 S. Park Blvd.\, Park Place Family Rec Center\, Streamwood\, IL\, 60107\, United States
CATEGORIES:Recreation
ORGANIZER;CN="Adam Vasquez":MAILTO:avasquez@spdcares.com
END:VEVENT
BEGIN:VEVENT
DTSTART;TZID=America/Chicago:20241209T171000
DTEND;TZID=America/Chicago:20241209T181000
DTSTAMP:20260422T182952
CREATED:20230630T173629Z
LAST-MODIFIED:20230630T173629Z
UID:21666-1733764200-1733767800@streamwoodparks.org
SUMMARY:Jazzercise®
DESCRIPTION:
URL:https://streamwoodparks.org/event/jazzercise/2024-12-09/
LOCATION:Park Place Family Recreation Center\, 550 S. Park Blvd.\, Park Place Family Rec Center\, Streamwood\, IL\, 60107\, United States
CATEGORIES:Recreation
ORGANIZER;CN="Adam Vasquez":MAILTO:avasquez@spdcares.com
END:VEVENT
BEGIN:VEVENT
DTSTART;TZID=America/Chicago:20241210T084000
DTEND;TZID=America/Chicago:20241210T094000
DTSTAMP:20260422T182952
CREATED:20230630T173629Z
LAST-MODIFIED:20230921T155824Z
UID:18632-1733820000-1733823600@streamwoodparks.org
SUMMARY:Jazzercise®
DESCRIPTION:
URL:https://streamwoodparks.org/event/jazzercise/2024-12-10/
LOCATION:Park Place Family Recreation Center\, 550 S. Park Blvd.\, Park Place Family Rec Center\, Streamwood\, IL\, 60107\, United States
CATEGORIES:Recreation
ORGANIZER;CN="Adam Vasquez":MAILTO:avasquez@spdcares.com
END:VEVENT
BEGIN:VEVENT
DTSTART;TZID=America/Chicago:20241210T171000
DTEND;TZID=America/Chicago:20241210T181000
DTSTAMP:20260422T182952
CREATED:20230630T173629Z
LAST-MODIFIED:20230630T173629Z
UID:21667-1733850600-1733854200@streamwoodparks.org
SUMMARY:Jazzercise®
DESCRIPTION:
URL:https://streamwoodparks.org/event/jazzercise/2024-12-10/
LOCATION:Park Place Family Recreation Center\, 550 S. Park Blvd.\, Park Place Family Rec Center\, Streamwood\, IL\, 60107\, United States
CATEGORIES:Recreation
ORGANIZER;CN="Adam Vasquez":MAILTO:avasquez@spdcares.com
END:VEVENT
BEGIN:VEVENT
DTSTART;TZID=America/Chicago:20241210T183000
DTEND;TZID=America/Chicago:20241210T200000
DTSTAMP:20260422T182952
CREATED:20240813T143103Z
LAST-MODIFIED:20240813T143103Z
UID:27572-1733855400-1733860800@streamwoodparks.org
SUMMARY:Mixology
DESCRIPTION:Join us for a festive evening of cocktail crafting as we celebrate the holiday season. \nLearn to make wintery cocktails perfect for Christmas and New Year’s Eve. \nTuesday\, December 10\n6:30 – 8pm\nHoosier Grove Barn\n$49/$59 \n21 years +
URL:https://streamwoodparks.org/event/mixology-2/
LOCATION:Hoosier Grove Barn\, 700 W. Irving Park Road\, Streamwood\, IL\, 60107\, United States
CATEGORIES:Adult Event,Events,Programs,Special Event
ATTACH;FMTTYPE=image/png:https://streamwoodparks.org/wp-content/uploads/2024/08/Web-Event-Mixology.png
ORGANIZER;CN="Adam Vasquez":MAILTO:avasquez@spdcares.com
END:VEVENT
BEGIN:VEVENT
DTSTART;TZID=America/Chicago:20241211T090000
DTEND;TZID=America/Chicago:20241211T100000
DTSTAMP:20260422T182952
CREATED:20230630T165814Z
LAST-MODIFIED:20230630T165814Z
UID:19962-1733907600-1733911200@streamwoodparks.org
SUMMARY:Aqua Fit
DESCRIPTION:INSTRUCTOR: MARY \nAqua Fit is a challenging water workout fit for everyone\, especially those with joint ailments or injuries. The class begins with a gentle warm-up and from there\, you’ll ease into exercises using your own body weight and water-resistance dumbbells. This 60-minute cardio and resistance training class will have you splashing your way to improved strength and overall refreshment.
URL:https://streamwoodparks.org/event/aqua-fit/2024-12-11/
LOCATION:Park Place Family Recreation Center\, 550 S. Park Blvd.\, Park Place Family Rec Center\, Streamwood\, IL\, 60107\, United States
CATEGORIES:Recreation
ORGANIZER;CN="Adam Vasquez":MAILTO:avasquez@spdcares.com
END:VEVENT
BEGIN:VEVENT
DTSTART;TZID=America/Chicago:20241211T093000
DTEND;TZID=America/Chicago:20241211T101500
DTSTAMP:20260422T182952
CREATED:20231128T192330Z
LAST-MODIFIED:20240112T153335Z
UID:25256-1733909400-1733912100@streamwoodparks.org
SUMMARY:Stretch Infusion
DESCRIPTION:Instructor: Cathy \nFloor-based mat class designed for everyone. Non-impact\, safe\, and effective\, you
URL:https://streamwoodparks.org/event/stretch-infusion/2024-12-11/
LOCATION:Park Place Family Recreation Center\, 550 S. Park Blvd.\, Park Place Family Rec Center\, Streamwood\, IL\, 60107\, United States
ORGANIZER;CN="Adam Vasquez":MAILTO:avasquez@spdcares.com
END:VEVENT
BEGIN:VEVENT
DTSTART;TZID=America/Chicago:20241211T171000
DTEND;TZID=America/Chicago:20241211T181000
DTSTAMP:20260422T182952
CREATED:20230630T173629Z
LAST-MODIFIED:20230630T173629Z
UID:21668-1733937000-1733940600@streamwoodparks.org
SUMMARY:Jazzercise®
DESCRIPTION:
URL:https://streamwoodparks.org/event/jazzercise/2024-12-11/
LOCATION:Park Place Family Recreation Center\, 550 S. Park Blvd.\, Park Place Family Rec Center\, Streamwood\, IL\, 60107\, United States
CATEGORIES:Recreation
ORGANIZER;CN="Adam Vasquez":MAILTO:avasquez@spdcares.com
END:VEVENT
BEGIN:VEVENT
DTSTART;TZID=America/Chicago:20241211T183000
DTEND;TZID=America/Chicago:20241211T193000
DTSTAMP:20260422T182952
CREATED:20230630T170050Z
LAST-MODIFIED:20230919T144446Z
UID:20210-1733941800-1733945400@streamwoodparks.org
SUMMARY:Spin®
DESCRIPTION:INSTRUCTOR: CATHY \nGet your sweat on to time or music-based aerobic endurance\, conditioning\, and anaerobic interval training motivated by expert instruction. Classes focus on drills that build power and endurance on the bike and brief\, high-intensity bursts that push past your anaerobic threshold to increase your cycling power.
URL:https://streamwoodparks.org/event/spin/2024-12-11/
LOCATION:Park Place Family Recreation Center\, 550 S. Park Blvd.\, Park Place Family Rec Center\, Streamwood\, IL\, 60107\, United States
CATEGORIES:Recreation
ORGANIZER;CN="Adam Vasquez":MAILTO:avasquez@spdcares.com
END:VEVENT
BEGIN:VEVENT
DTSTART;TZID=America/Chicago:20241212T084000
DTEND;TZID=America/Chicago:20241212T094000
DTSTAMP:20260422T182952
CREATED:20230630T173629Z
LAST-MODIFIED:20230921T155825Z
UID:18633-1733992800-1733996400@streamwoodparks.org
SUMMARY:Jazzercise®
DESCRIPTION:
URL:https://streamwoodparks.org/event/jazzercise/2024-12-12/
LOCATION:Park Place Family Recreation Center\, 550 S. Park Blvd.\, Park Place Family Rec Center\, Streamwood\, IL\, 60107\, United States
CATEGORIES:Recreation
ORGANIZER;CN="Adam Vasquez":MAILTO:avasquez@spdcares.com
END:VEVENT
BEGIN:VEVENT
DTSTART;TZID=America/Chicago:20241213T090000
DTEND;TZID=America/Chicago:20241213T100000
DTSTAMP:20260422T182952
CREATED:20230630T165814Z
LAST-MODIFIED:20230630T165814Z
UID:19963-1734080400-1734084000@streamwoodparks.org
SUMMARY:Aqua Fit
DESCRIPTION:INSTRUCTOR: MARY \nAqua Fit is a challenging water workout fit for everyone\, especially those with joint ailments or injuries. The class begins with a gentle warm-up and from there\, you’ll ease into exercises using your own body weight and water-resistance dumbbells. This 60-minute cardio and resistance training class will have you splashing your way to improved strength and overall refreshment.
URL:https://streamwoodparks.org/event/aqua-fit/2024-12-13/
LOCATION:Park Place Family Recreation Center\, 550 S. Park Blvd.\, Park Place Family Rec Center\, Streamwood\, IL\, 60107\, United States
CATEGORIES:Recreation
ORGANIZER;CN="Adam Vasquez":MAILTO:avasquez@spdcares.com
END:VEVENT
BEGIN:VEVENT
DTSTART;TZID=America/Chicago:20241213T090000
DTEND;TZID=America/Chicago:20241213T100000
DTSTAMP:20260422T182952
CREATED:20230630T170050Z
LAST-MODIFIED:20230919T144446Z
UID:20211-1734080400-1734084000@streamwoodparks.org
SUMMARY:Spin®
DESCRIPTION:INSTRUCTOR: CATHY \nGet your sweat on to time or music-based aerobic endurance\, conditioning\, and anaerobic interval training motivated by expert instruction. Classes focus on drills that build power and endurance on the bike and brief\, high-intensity bursts that push past your anaerobic threshold to increase your cycling power.
URL:https://streamwoodparks.org/event/spin/2024-12-13/
LOCATION:Park Place Family Recreation Center\, 550 S. Park Blvd.\, Park Place Family Rec Center\, Streamwood\, IL\, 60107\, United States
CATEGORIES:Recreation
ORGANIZER;CN="Adam Vasquez":MAILTO:avasquez@spdcares.com
END:VEVENT
BEGIN:VEVENT
DTSTART;TZID=America/Chicago:20241213T101500
DTEND;TZID=America/Chicago:20241213T110000
DTSTAMP:20260422T182952
CREATED:20231128T192330Z
LAST-MODIFIED:20240112T153335Z
UID:25258-1734084900-1734087600@streamwoodparks.org
SUMMARY:Stretch Infusion
DESCRIPTION:Instructor: Cathy \nFloor-based mat class designed for everyone. Non-impact\, safe\, and effective\, you
URL:https://streamwoodparks.org/event/stretch-infusion/2024-12-13/
LOCATION:Park Place Family Recreation Center\, 550 S. Park Blvd.\, Park Place Family Rec Center\, Streamwood\, IL\, 60107\, United States
ORGANIZER;CN="Adam Vasquez":MAILTO:avasquez@spdcares.com
END:VEVENT
BEGIN:VEVENT
DTSTART;TZID=America/Chicago:20241213T171000
DTEND;TZID=America/Chicago:20241213T181000
DTSTAMP:20260422T182952
CREATED:20230630T173629Z
LAST-MODIFIED:20230630T173629Z
UID:21669-1734109800-1734113400@streamwoodparks.org
SUMMARY:Jazzercise®
DESCRIPTION:
URL:https://streamwoodparks.org/event/jazzercise/2024-12-13/
LOCATION:Park Place Family Recreation Center\, 550 S. Park Blvd.\, Park Place Family Rec Center\, Streamwood\, IL\, 60107\, United States
CATEGORIES:Recreation
ORGANIZER;CN="Adam Vasquez":MAILTO:avasquez@spdcares.com
END:VEVENT
BEGIN:VEVENT
DTSTART;TZID=America/Chicago:20241214T070000
DTEND;TZID=America/Chicago:20241214T080000
DTSTAMP:20260422T182952
CREATED:20240306T192554Z
LAST-MODIFIED:20240306T192554Z
UID:26779-1734159600-1734163200@streamwoodparks.org
SUMMARY:Alignment Yoga
DESCRIPTION:with Diane \nThis all-levels class is a slow-paced flow with a focus on the foundations of postures.  The class has a combination of mobility\, strength\, and alignment drills that enhance any level of practitioner interested in developing more awareness in breath and movement.
URL:https://streamwoodparks.org/event/alignment-yoga/2024-12-14/
LOCATION:Park Place Family Recreation Center\, 550 S. Park Blvd.\, Park Place Family Rec Center\, Streamwood\, IL\, 60107\, United States
CATEGORIES:Recreation
ORGANIZER;CN="Adam Vasquez":MAILTO:avasquez@spdcares.com
END:VEVENT
BEGIN:VEVENT
DTSTART;TZID=America/Chicago:20241214T083000
DTEND;TZID=America/Chicago:20241214T093000
DTSTAMP:20260422T182952
CREATED:20240110T175054Z
LAST-MODIFIED:20240110T175054Z
UID:26313-1734165000-1734168600@streamwoodparks.org
SUMMARY:Boot Camp
DESCRIPTION:with Debbie & Cari \nWork at your own pace and ability as your instructor takes you through a series of both strength training and cardio full body movements that will help you improve your strength\, power\, and movement. Class variety designed to push and challenge the body.
URL:https://streamwoodparks.org/event/boot-camp/2024-12-14/
LOCATION:Park Place Family Recreation Center\, 550 S. Park Blvd.\, Park Place Family Rec Center\, Streamwood\, IL\, 60107\, United States
CATEGORIES:Recreation
ORGANIZER;CN="Adam Vasquez":MAILTO:avasquez@spdcares.com
END:VEVENT
END:VCALENDAR