BEGIN:VCALENDAR
VERSION:2.0
PRODID:-//Streamwood Park District - ECPv6.15.18//NONSGML v1.0//EN
CALSCALE:GREGORIAN
METHOD:PUBLISH
X-ORIGINAL-URL:https://streamwoodparks.org
X-WR-CALDESC:Events for Streamwood Park District
REFRESH-INTERVAL;VALUE=DURATION:PT1H
X-Robots-Tag:noindex
X-PUBLISHED-TTL:PT1H
BEGIN:VTIMEZONE
TZID:America/Chicago
BEGIN:DAYLIGHT
TZOFFSETFROM:-0600
TZOFFSETTO:-0500
TZNAME:CDT
DTSTART:20230312T080000
END:DAYLIGHT
BEGIN:STANDARD
TZOFFSETFROM:-0500
TZOFFSETTO:-0600
TZNAME:CST
DTSTART:20231105T070000
END:STANDARD
BEGIN:DAYLIGHT
TZOFFSETFROM:-0600
TZOFFSETTO:-0500
TZNAME:CDT
DTSTART:20240310T080000
END:DAYLIGHT
BEGIN:STANDARD
TZOFFSETFROM:-0500
TZOFFSETTO:-0600
TZNAME:CST
DTSTART:20241103T070000
END:STANDARD
BEGIN:DAYLIGHT
TZOFFSETFROM:-0600
TZOFFSETTO:-0500
TZNAME:CDT
DTSTART:20250309T080000
END:DAYLIGHT
BEGIN:STANDARD
TZOFFSETFROM:-0500
TZOFFSETTO:-0600
TZNAME:CST
DTSTART:20251102T070000
END:STANDARD
END:VTIMEZONE
BEGIN:VEVENT
DTSTART;TZID=America/Chicago:20240915T104500
DTEND;TZID=America/Chicago:20240915T114500
DTSTAMP:20260419T160438
CREATED:20230630T173629Z
LAST-MODIFIED:20230630T173629Z
UID:21605-1726397100-1726400700@streamwoodparks.org
SUMMARY:Jazzercise®
DESCRIPTION:
URL:https://streamwoodparks.org/event/jazzercise/2024-09-15/
LOCATION:Park Place Family Recreation Center\, 550 S. Park Blvd.\, Park Place Family Rec Center\, Streamwood\, IL\, 60107\, United States
CATEGORIES:Recreation
ORGANIZER;CN="Adam Vasquez":MAILTO:avasquez@spdcares.com
END:VEVENT
BEGIN:VEVENT
DTSTART;TZID=America/Chicago:20240916T090000
DTEND;TZID=America/Chicago:20240916T100000
DTSTAMP:20260419T160438
CREATED:20230630T165814Z
LAST-MODIFIED:20230630T165814Z
UID:19925-1726477200-1726480800@streamwoodparks.org
SUMMARY:Aqua Fit
DESCRIPTION:INSTRUCTOR: MARY \nAqua Fit is a challenging water workout fit for everyone\, especially those with joint ailments or injuries. The class begins with a gentle warm-up and from there\, you’ll ease into exercises using your own body weight and water-resistance dumbbells. This 60-minute cardio and resistance training class will have you splashing your way to improved strength and overall refreshment.
URL:https://streamwoodparks.org/event/aqua-fit/2024-09-16/
LOCATION:Park Place Family Recreation Center\, 550 S. Park Blvd.\, Park Place Family Rec Center\, Streamwood\, IL\, 60107\, United States
CATEGORIES:Recreation
ORGANIZER;CN="Adam Vasquez":MAILTO:avasquez@spdcares.com
END:VEVENT
BEGIN:VEVENT
DTSTART;TZID=America/Chicago:20240916T093000
DTEND;TZID=America/Chicago:20240916T103000
DTSTAMP:20260419T160438
CREATED:20230630T170050Z
LAST-MODIFIED:20230630T170050Z
UID:21010-1726479000-1726482600@streamwoodparks.org
SUMMARY:Spin®
DESCRIPTION:INSTRUCTOR: CATHY \nGet your sweat on to time or music-based aerobic endurance\, conditioning\, and anaerobic interval training motivated by expert instruction. Classes focus on drills that build power and endurance on the bike and brief\, high-intensity bursts that push past your anaerobic threshold to increase your cycling power.
URL:https://streamwoodparks.org/event/spin/2024-09-16/
LOCATION:Park Place Family Recreation Center\, 550 S. Park Blvd.\, Park Place Family Rec Center\, Streamwood\, IL\, 60107\, United States
CATEGORIES:Recreation
ORGANIZER;CN="Adam Vasquez":MAILTO:avasquez@spdcares.com
END:VEVENT
BEGIN:VEVENT
DTSTART;TZID=America/Chicago:20240916T104500
DTEND;TZID=America/Chicago:20240916T114500
DTSTAMP:20260419T160438
CREATED:20231127T204259Z
LAST-MODIFIED:20231127T204259Z
UID:27031-1726483500-1726487100@streamwoodparks.org
SUMMARY:Zumba®
DESCRIPTION:with Lilly \nZumba® fuses hypnotic Latin and international rhythms with easy-to-follow moves to create a dynamic workout system that will blow you away. Zumba® utilizes principles of fitness interval training and resistance training to maximize caloric output\, fat burning\, and total body toning.
URL:https://streamwoodparks.org/event/zumba/2024-09-16/
LOCATION:Park Place Family Recreation Center\, 550 S. Park Blvd.\, Park Place Family Rec Center\, Streamwood\, IL\, 60107\, United States
ORGANIZER;CN="Adam Vasquez":MAILTO:avasquez@spdcares.com
END:VEVENT
BEGIN:VEVENT
DTSTART;TZID=America/Chicago:20240916T171000
DTEND;TZID=America/Chicago:20240916T181000
DTSTAMP:20260419T160438
CREATED:20230630T173629Z
LAST-MODIFIED:20230630T173629Z
UID:21606-1726506600-1726510200@streamwoodparks.org
SUMMARY:Jazzercise®
DESCRIPTION:
URL:https://streamwoodparks.org/event/jazzercise/2024-09-16/
LOCATION:Park Place Family Recreation Center\, 550 S. Park Blvd.\, Park Place Family Rec Center\, Streamwood\, IL\, 60107\, United States
CATEGORIES:Recreation
ORGANIZER;CN="Adam Vasquez":MAILTO:avasquez@spdcares.com
END:VEVENT
BEGIN:VEVENT
DTSTART;TZID=America/Chicago:20240917T084000
DTEND;TZID=America/Chicago:20240917T094000
DTSTAMP:20260419T160438
CREATED:20230630T173629Z
LAST-MODIFIED:20230921T155802Z
UID:18608-1726562400-1726566000@streamwoodparks.org
SUMMARY:Jazzercise®
DESCRIPTION:
URL:https://streamwoodparks.org/event/jazzercise/2024-09-17/
LOCATION:Park Place Family Recreation Center\, 550 S. Park Blvd.\, Park Place Family Rec Center\, Streamwood\, IL\, 60107\, United States
CATEGORIES:Recreation
ORGANIZER;CN="Adam Vasquez":MAILTO:avasquez@spdcares.com
END:VEVENT
BEGIN:VEVENT
DTSTART;TZID=America/Chicago:20240917T171000
DTEND;TZID=America/Chicago:20240917T181000
DTSTAMP:20260419T160438
CREATED:20230630T173629Z
LAST-MODIFIED:20230630T173629Z
UID:21607-1726593000-1726596600@streamwoodparks.org
SUMMARY:Jazzercise®
DESCRIPTION:
URL:https://streamwoodparks.org/event/jazzercise/2024-09-17/
LOCATION:Park Place Family Recreation Center\, 550 S. Park Blvd.\, Park Place Family Rec Center\, Streamwood\, IL\, 60107\, United States
CATEGORIES:Recreation
ORGANIZER;CN="Adam Vasquez":MAILTO:avasquez@spdcares.com
END:VEVENT
BEGIN:VEVENT
DTSTART;TZID=America/Chicago:20240918T090000
DTEND;TZID=America/Chicago:20240918T100000
DTSTAMP:20260419T160438
CREATED:20230630T165814Z
LAST-MODIFIED:20230630T165814Z
UID:19926-1726650000-1726653600@streamwoodparks.org
SUMMARY:Aqua Fit
DESCRIPTION:INSTRUCTOR: MARY \nAqua Fit is a challenging water workout fit for everyone\, especially those with joint ailments or injuries. The class begins with a gentle warm-up and from there\, you’ll ease into exercises using your own body weight and water-resistance dumbbells. This 60-minute cardio and resistance training class will have you splashing your way to improved strength and overall refreshment.
URL:https://streamwoodparks.org/event/aqua-fit/2024-09-18/
LOCATION:Park Place Family Recreation Center\, 550 S. Park Blvd.\, Park Place Family Rec Center\, Streamwood\, IL\, 60107\, United States
CATEGORIES:Recreation
ORGANIZER;CN="Adam Vasquez":MAILTO:avasquez@spdcares.com
END:VEVENT
BEGIN:VEVENT
DTSTART;TZID=America/Chicago:20240918T093000
DTEND;TZID=America/Chicago:20240918T101500
DTSTAMP:20260419T160438
CREATED:20231128T192330Z
LAST-MODIFIED:20240112T153318Z
UID:25220-1726651800-1726654500@streamwoodparks.org
SUMMARY:Stretch Infusion
DESCRIPTION:Instructor: Cathy \nFloor-based mat class designed for everyone. Non-impact\, safe\, and effective\, you
URL:https://streamwoodparks.org/event/stretch-infusion/2024-09-18/
LOCATION:Park Place Family Recreation Center\, 550 S. Park Blvd.\, Park Place Family Rec Center\, Streamwood\, IL\, 60107\, United States
ORGANIZER;CN="Adam Vasquez":MAILTO:avasquez@spdcares.com
END:VEVENT
BEGIN:VEVENT
DTSTART;TZID=America/Chicago:20240918T103000
DTEND;TZID=America/Chicago:20240918T113000
DTSTAMP:20260419T160438
CREATED:20231127T204259Z
LAST-MODIFIED:20231127T204259Z
UID:27032-1726655400-1726659000@streamwoodparks.org
SUMMARY:Zumba®
DESCRIPTION:with Lilly \nZumba® fuses hypnotic Latin and international rhythms with easy-to-follow moves to create a dynamic workout system that will blow you away. Zumba® utilizes principles of fitness interval training and resistance training to maximize caloric output\, fat burning\, and total body toning.
URL:https://streamwoodparks.org/event/zumba/2024-09-18/
LOCATION:Park Place Family Recreation Center\, 550 S. Park Blvd.\, Park Place Family Rec Center\, Streamwood\, IL\, 60107\, United States
ORGANIZER;CN="Adam Vasquez":MAILTO:avasquez@spdcares.com
END:VEVENT
BEGIN:VEVENT
DTSTART;TZID=America/Chicago:20240918T171000
DTEND;TZID=America/Chicago:20240918T181000
DTSTAMP:20260419T160438
CREATED:20230630T173629Z
LAST-MODIFIED:20230630T173629Z
UID:21608-1726679400-1726683000@streamwoodparks.org
SUMMARY:Jazzercise®
DESCRIPTION:
URL:https://streamwoodparks.org/event/jazzercise/2024-09-18/
LOCATION:Park Place Family Recreation Center\, 550 S. Park Blvd.\, Park Place Family Rec Center\, Streamwood\, IL\, 60107\, United States
CATEGORIES:Recreation
ORGANIZER;CN="Adam Vasquez":MAILTO:avasquez@spdcares.com
END:VEVENT
BEGIN:VEVENT
DTSTART;TZID=America/Chicago:20240918T183000
DTEND;TZID=America/Chicago:20240918T193000
DTSTAMP:20260419T160438
CREATED:20230630T170050Z
LAST-MODIFIED:20230919T144423Z
UID:20186-1726684200-1726687800@streamwoodparks.org
SUMMARY:Spin®
DESCRIPTION:INSTRUCTOR: CATHY \nGet your sweat on to time or music-based aerobic endurance\, conditioning\, and anaerobic interval training motivated by expert instruction. Classes focus on drills that build power and endurance on the bike and brief\, high-intensity bursts that push past your anaerobic threshold to increase your cycling power.
URL:https://streamwoodparks.org/event/spin/2024-09-18/
LOCATION:Park Place Family Recreation Center\, 550 S. Park Blvd.\, Park Place Family Rec Center\, Streamwood\, IL\, 60107\, United States
CATEGORIES:Recreation
ORGANIZER;CN="Adam Vasquez":MAILTO:avasquez@spdcares.com
END:VEVENT
BEGIN:VEVENT
DTSTART;TZID=America/Chicago:20240918T193000
DTEND;TZID=America/Chicago:20240918T193000
DTSTAMP:20260419T160438
CREATED:20240816T190229Z
LAST-MODIFIED:20240816T190229Z
UID:27649-1726687800-1726687800@streamwoodparks.org
SUMMARY:Girls Basketball Camp Begins
DESCRIPTION:Players will work on shooting as well as focusing on running offensive plays and team defense. This basketball camp helps to create a cohesive team environment for the players in the basketball program. \nWednesdays\, September 18 – October 23\n7:30-9 p.m.\n$60/$85
URL:https://streamwoodparks.org/event/girls-basketball-camp-begins/
LOCATION:Park Place Family Recreation Center\, 550 S. Park Blvd.\, Park Place Family Rec Center\, Streamwood\, IL\, 60107\, United States
CATEGORIES:Athletics,Programs,Recreation
ATTACH;FMTTYPE=image/jpeg:https://streamwoodparks.org/wp-content/uploads/2024/08/Girls-Basketball1.jpg
END:VEVENT
BEGIN:VEVENT
DTSTART;TZID=America/Chicago:20240919T084000
DTEND;TZID=America/Chicago:20240919T094000
DTSTAMP:20260419T160438
CREATED:20230630T173629Z
LAST-MODIFIED:20230921T155803Z
UID:18609-1726735200-1726738800@streamwoodparks.org
SUMMARY:Jazzercise®
DESCRIPTION:
URL:https://streamwoodparks.org/event/jazzercise/2024-09-19/
LOCATION:Park Place Family Recreation Center\, 550 S. Park Blvd.\, Park Place Family Rec Center\, Streamwood\, IL\, 60107\, United States
CATEGORIES:Recreation
ORGANIZER;CN="Adam Vasquez":MAILTO:avasquez@spdcares.com
END:VEVENT
BEGIN:VEVENT
DTSTART;TZID=America/Chicago:20240919T172000
DTEND;TZID=America/Chicago:20240919T182000
DTSTAMP:20260419T160438
CREATED:20231127T204259Z
LAST-MODIFIED:20231127T204259Z
UID:27033-1726766400-1726770000@streamwoodparks.org
SUMMARY:Zumba®
DESCRIPTION:with Lilly \nZumba® fuses hypnotic Latin and international rhythms with easy-to-follow moves to create a dynamic workout system that will blow you away. Zumba® utilizes principles of fitness interval training and resistance training to maximize caloric output\, fat burning\, and total body toning.
URL:https://streamwoodparks.org/event/zumba/2024-09-19/
LOCATION:Park Place Family Recreation Center\, 550 S. Park Blvd.\, Park Place Family Rec Center\, Streamwood\, IL\, 60107\, United States
ORGANIZER;CN="Adam Vasquez":MAILTO:avasquez@spdcares.com
END:VEVENT
BEGIN:VEVENT
DTSTART;TZID=America/Chicago:20240920T090000
DTEND;TZID=America/Chicago:20240920T100000
DTSTAMP:20260419T160438
CREATED:20230630T165814Z
LAST-MODIFIED:20230630T165814Z
UID:19927-1726822800-1726826400@streamwoodparks.org
SUMMARY:Aqua Fit
DESCRIPTION:INSTRUCTOR: MARY \nAqua Fit is a challenging water workout fit for everyone\, especially those with joint ailments or injuries. The class begins with a gentle warm-up and from there\, you’ll ease into exercises using your own body weight and water-resistance dumbbells. This 60-minute cardio and resistance training class will have you splashing your way to improved strength and overall refreshment.
URL:https://streamwoodparks.org/event/aqua-fit/2024-09-20/
LOCATION:Park Place Family Recreation Center\, 550 S. Park Blvd.\, Park Place Family Rec Center\, Streamwood\, IL\, 60107\, United States
CATEGORIES:Recreation
ORGANIZER;CN="Adam Vasquez":MAILTO:avasquez@spdcares.com
END:VEVENT
BEGIN:VEVENT
DTSTART;TZID=America/Chicago:20240920T090000
DTEND;TZID=America/Chicago:20240920T100000
DTSTAMP:20260419T160438
CREATED:20230630T170050Z
LAST-MODIFIED:20230919T144424Z
UID:20187-1726822800-1726826400@streamwoodparks.org
SUMMARY:Spin®
DESCRIPTION:INSTRUCTOR: CATHY \nGet your sweat on to time or music-based aerobic endurance\, conditioning\, and anaerobic interval training motivated by expert instruction. Classes focus on drills that build power and endurance on the bike and brief\, high-intensity bursts that push past your anaerobic threshold to increase your cycling power.
URL:https://streamwoodparks.org/event/spin/2024-09-20/
LOCATION:Park Place Family Recreation Center\, 550 S. Park Blvd.\, Park Place Family Rec Center\, Streamwood\, IL\, 60107\, United States
CATEGORIES:Recreation
ORGANIZER;CN="Adam Vasquez":MAILTO:avasquez@spdcares.com
END:VEVENT
BEGIN:VEVENT
DTSTART;TZID=America/Chicago:20240920T101500
DTEND;TZID=America/Chicago:20240920T110000
DTSTAMP:20260419T160438
CREATED:20231128T192330Z
LAST-MODIFIED:20240112T153319Z
UID:25222-1726827300-1726830000@streamwoodparks.org
SUMMARY:Stretch Infusion
DESCRIPTION:Instructor: Cathy \nFloor-based mat class designed for everyone. Non-impact\, safe\, and effective\, you
URL:https://streamwoodparks.org/event/stretch-infusion/2024-09-20/
LOCATION:Park Place Family Recreation Center\, 550 S. Park Blvd.\, Park Place Family Rec Center\, Streamwood\, IL\, 60107\, United States
ORGANIZER;CN="Adam Vasquez":MAILTO:avasquez@spdcares.com
END:VEVENT
BEGIN:VEVENT
DTSTART;TZID=America/Chicago:20240920T103000
DTEND;TZID=America/Chicago:20240920T113000
DTSTAMP:20260419T160438
CREATED:20231127T204259Z
LAST-MODIFIED:20231127T204259Z
UID:27034-1726828200-1726831800@streamwoodparks.org
SUMMARY:Zumba®
DESCRIPTION:with Lilly \nZumba® fuses hypnotic Latin and international rhythms with easy-to-follow moves to create a dynamic workout system that will blow you away. Zumba® utilizes principles of fitness interval training and resistance training to maximize caloric output\, fat burning\, and total body toning.
URL:https://streamwoodparks.org/event/zumba/2024-09-20/
LOCATION:Park Place Family Recreation Center\, 550 S. Park Blvd.\, Park Place Family Rec Center\, Streamwood\, IL\, 60107\, United States
ORGANIZER;CN="Adam Vasquez":MAILTO:avasquez@spdcares.com
END:VEVENT
BEGIN:VEVENT
DTSTART;TZID=America/Chicago:20240920T171000
DTEND;TZID=America/Chicago:20240920T181000
DTSTAMP:20260419T160438
CREATED:20230630T173629Z
LAST-MODIFIED:20230630T173629Z
UID:21609-1726852200-1726855800@streamwoodparks.org
SUMMARY:Jazzercise®
DESCRIPTION:
URL:https://streamwoodparks.org/event/jazzercise/2024-09-20/
LOCATION:Park Place Family Recreation Center\, 550 S. Park Blvd.\, Park Place Family Rec Center\, Streamwood\, IL\, 60107\, United States
CATEGORIES:Recreation
ORGANIZER;CN="Adam Vasquez":MAILTO:avasquez@spdcares.com
END:VEVENT
BEGIN:VEVENT
DTSTART;TZID=America/Chicago:20240921T070000
DTEND;TZID=America/Chicago:20240921T080000
DTSTAMP:20260419T160438
CREATED:20240306T192554Z
LAST-MODIFIED:20240306T192554Z
UID:26767-1726902000-1726905600@streamwoodparks.org
SUMMARY:Alignment Yoga
DESCRIPTION:with Diane \nThis all-levels class is a slow-paced flow with a focus on the foundations of postures.  The class has a combination of mobility\, strength\, and alignment drills that enhance any level of practitioner interested in developing more awareness in breath and movement.
URL:https://streamwoodparks.org/event/alignment-yoga/2024-09-21/
LOCATION:Park Place Family Recreation Center\, 550 S. Park Blvd.\, Park Place Family Rec Center\, Streamwood\, IL\, 60107\, United States
CATEGORIES:Recreation
ORGANIZER;CN="Adam Vasquez":MAILTO:avasquez@spdcares.com
END:VEVENT
BEGIN:VEVENT
DTSTART;TZID=America/Chicago:20240921T083000
DTEND;TZID=America/Chicago:20240921T093000
DTSTAMP:20260419T160438
CREATED:20240110T175054Z
LAST-MODIFIED:20240110T175054Z
UID:26301-1726907400-1726911000@streamwoodparks.org
SUMMARY:Boot Camp
DESCRIPTION:with Debbie & Cari \nWork at your own pace and ability as your instructor takes you through a series of both strength training and cardio full body movements that will help you improve your strength\, power\, and movement. Class variety designed to push and challenge the body.
URL:https://streamwoodparks.org/event/boot-camp/2024-09-21/
LOCATION:Park Place Family Recreation Center\, 550 S. Park Blvd.\, Park Place Family Rec Center\, Streamwood\, IL\, 60107\, United States
CATEGORIES:Recreation
ORGANIZER;CN="Adam Vasquez":MAILTO:avasquez@spdcares.com
END:VEVENT
BEGIN:VEVENT
DTSTART;TZID=America/Chicago:20240921T083000
DTEND;TZID=America/Chicago:20240921T113000
DTSTAMP:20260419T160438
CREATED:20240510T163901Z
LAST-MODIFIED:20240816T162904Z
UID:27194-1726907400-1726918200@streamwoodparks.org
SUMMARY:Girls Flag Football Begins
DESCRIPTION:5th – 8th Graders \nThis inter-village league consists of mid-week practices and weekend games each week for one of the fastest-growing sports in the world!  Girls’ Flag Football will be introduced to the world in the 2028 Olympic games in Los Angeles! \nRegister online!
URL:https://streamwoodparks.org/event/girls-flag-football-begins/
LOCATION:Canton Middle School\, 1100 Sunset Circle\, Streamwood
CATEGORIES:Athletics,Programs,Recreation
ATTACH;FMTTYPE=image/png:https://streamwoodparks.org/wp-content/uploads/2024/02/Web-Event-Girls-Flag-FB.png
ORGANIZER;CN="Chris Fetterman":MAILTO:cfetterman@spdcares.com
END:VEVENT
END:VCALENDAR