BEGIN:VCALENDAR
VERSION:2.0
PRODID:-//Streamwood Park District - ECPv6.15.18//NONSGML v1.0//EN
CALSCALE:GREGORIAN
METHOD:PUBLISH
X-WR-CALNAME:Streamwood Park District
X-ORIGINAL-URL:https://streamwoodparks.org
X-WR-CALDESC:Events for Streamwood Park District
REFRESH-INTERVAL;VALUE=DURATION:PT1H
X-Robots-Tag:noindex
X-PUBLISHED-TTL:PT1H
BEGIN:VTIMEZONE
TZID:America/Chicago
BEGIN:DAYLIGHT
TZOFFSETFROM:-0600
TZOFFSETTO:-0500
TZNAME:CDT
DTSTART:20230312T080000
END:DAYLIGHT
BEGIN:STANDARD
TZOFFSETFROM:-0500
TZOFFSETTO:-0600
TZNAME:CST
DTSTART:20231105T070000
END:STANDARD
BEGIN:DAYLIGHT
TZOFFSETFROM:-0600
TZOFFSETTO:-0500
TZNAME:CDT
DTSTART:20240310T080000
END:DAYLIGHT
BEGIN:STANDARD
TZOFFSETFROM:-0500
TZOFFSETTO:-0600
TZNAME:CST
DTSTART:20241103T070000
END:STANDARD
BEGIN:DAYLIGHT
TZOFFSETFROM:-0600
TZOFFSETTO:-0500
TZNAME:CDT
DTSTART:20250309T080000
END:DAYLIGHT
BEGIN:STANDARD
TZOFFSETFROM:-0500
TZOFFSETTO:-0600
TZNAME:CST
DTSTART:20251102T070000
END:STANDARD
END:VTIMEZONE
BEGIN:VEVENT
DTSTART;TZID=America/Chicago:20240311T180000
DTEND;TZID=America/Chicago:20240311T190000
DTSTAMP:20260420T105324
CREATED:20240212T203847Z
LAST-MODIFIED:20240212T203847Z
UID:26606-1710180000-1710183600@streamwoodparks.org
SUMMARY:Young Rembrandts Begins
DESCRIPTION:6-12 year olds \nYour student will be exposed to the excitement of drawing and animating dinosaur expressions and funny anime characters. These drawings will delight our students as they learn how to draw dynamic figures and action-filled scenes. Your funny bone will be tickled when you see the humorous\, floral-inspired personas created in our flower characters lesson. And we’ll have an enormous amount of fun as we draw cartoon animals of all shapes and sizes doing their favorite hobbies. No Class March 25. \nREGISTER ONLINE HERE!
URL:https://streamwoodparks.org/event/young-rembrandts-begins/
LOCATION:Park Place Family Recreation Center\, 550 S. Park Blvd.\, Park Place Family Rec Center\, Streamwood\, IL\, 60107\, United States
ATTACH;FMTTYPE=image/png:https://streamwoodparks.org/wp-content/uploads/2024/02/Web-Event-YOUNG-REMBRANDTS.png
END:VEVENT
BEGIN:VEVENT
DTSTART;VALUE=DATE:20240315
DTEND;VALUE=DATE:20240316
DTSTAMP:20260420T105324
CREATED:20240212T194053Z
LAST-MODIFIED:20240212T194053Z
UID:26585-1710460800-1710547199@streamwoodparks.org
SUMMARY:Men's Softball League Deadline
DESCRIPTION:18 years + \nWelcome back to our Thursday night men’s 12” softball league!  This 6-8 team league has cash prizes for league and end-of-season tournament champions. A $300 deposit is due upon registration. The championship game will be on Thursday\, July 25. \nREGISTER ONLINE HERE!
URL:https://streamwoodparks.org/event/mens-softball-league-deadline/
LOCATION:Park Place Family Recreation Center\, 550 S. Park Blvd.\, Park Place Family Rec Center\, Streamwood\, IL\, 60107\, United States
CATEGORIES:Athletics,Programs,Recreation,Registration Deadline
ATTACH;FMTTYPE=image/png:https://streamwoodparks.org/wp-content/uploads/2024/02/Web-Event-MENS-SOFTBALL.png
ORGANIZER;CN="Chris Fetterman":MAILTO:cfetterman@spdcares.com
END:VEVENT
END:VCALENDAR