BEGIN:VCALENDAR
VERSION:2.0
PRODID:-//Streamwood Park District - ECPv6.15.18//NONSGML v1.0//EN
CALSCALE:GREGORIAN
METHOD:PUBLISH
X-WR-CALNAME:Streamwood Park District
X-ORIGINAL-URL:https://streamwoodparks.org
X-WR-CALDESC:Events for Streamwood Park District
REFRESH-INTERVAL;VALUE=DURATION:PT1H
X-Robots-Tag:noindex
X-PUBLISHED-TTL:PT1H
BEGIN:VTIMEZONE
TZID:America/Chicago
BEGIN:DAYLIGHT
TZOFFSETFROM:-0600
TZOFFSETTO:-0500
TZNAME:CDT
DTSTART:20220313T080000
END:DAYLIGHT
BEGIN:STANDARD
TZOFFSETFROM:-0500
TZOFFSETTO:-0600
TZNAME:CST
DTSTART:20221106T070000
END:STANDARD
BEGIN:DAYLIGHT
TZOFFSETFROM:-0600
TZOFFSETTO:-0500
TZNAME:CDT
DTSTART:20230312T080000
END:DAYLIGHT
BEGIN:STANDARD
TZOFFSETFROM:-0500
TZOFFSETTO:-0600
TZNAME:CST
DTSTART:20231105T070000
END:STANDARD
BEGIN:DAYLIGHT
TZOFFSETFROM:-0600
TZOFFSETTO:-0500
TZNAME:CDT
DTSTART:20240310T080000
END:DAYLIGHT
BEGIN:STANDARD
TZOFFSETFROM:-0500
TZOFFSETTO:-0600
TZNAME:CST
DTSTART:20241103T070000
END:STANDARD
END:VTIMEZONE
BEGIN:VEVENT
DTSTART;TZID=America/Chicago:20230924T130000
DTEND;TZID=America/Chicago:20230924T170000
DTSTAMP:20260419T141731
CREATED:20230815T194509Z
LAST-MODIFIED:20230817T180737Z
UID:20789-1695560400-1695574800@streamwoodparks.org
SUMMARY:Oktoberfest
DESCRIPTION:Guten tag! It’s back. Enjoy Oktoberfest…Streamwood style! \nThe event features more than 30 brewers who will have an assortment of biers\, ciders\, and meads. Enjoy food and live music all on the campus of the beautiful and historic Hoosier Grove Barn. This is an event you do not want to miss! \nTickets are $40 each through July 31\, 2023 ($45 through Sept. 23\, 2023\, and $50 at the gate) and grant each ticket holder 15 three-ounce samples of the various biers available as well as a souvenir glass or mug. There are also Designated Driver tickets for $10 each offering those ticket holders unlimited pop and water. \nExpected participants (subject to change) include: \n\n206 Brewing Company\, Carol Stream\nArt History Brewing\, Geneva\nBlack and Gray Brewing\, East Dundee\nBrother Chimp Brewing\, North Aurora\nBuffalo Creek Brewing\, Long Grove\nBubblehouse Brewing\, Lisle\nChurch Street Brewing\, Itasca\nConrad Seipp Brewing\, Chicago\nCrystal Lake Brewing\, Crystal Lake\nEris Brewery and Cider House\, Chicago\nFox Republic Brewing\, Yorkville\nFunkytown Brewing\, Chicago\nHop District\, LaGrange\nKishwaukee Brewing\, Woodstock\nLynfred Winery\, Roselle\nMarz Community Brewing\, Chicago\nMiskatonic Brewing\, Darien\nNick & Ivy Brewing\, Lockport\nNosy Neighbor Brewing\, Kenosha\, WI\nObscurity Brewing and Mead\, Elburn\nOld School Route 66 Brewing\, Wilmington\nRiverlands Brewing\, St. Charles\nScorched Earth Brewing\, Algonquin\nSturdy Shelter Brewing\, Batavia\nSundial Brewing\, Barrington\nTighthead Brewing\, Mundelein\nUnpossible Mead\, Dwight\nUrban Chestnut Brewing\, St. Louis\, MO\nWolfden Brewing\, Bloomingdale\n\n  \nA complete list of breweries\, vendors\, live entertainment and food options will be shared closer to the event date. \nA portion of all proceeds goes to the Streamwood Park District Scholarship Program to provide recreational and educational opportunities to families in need. \nLimited tickets available – order now! Prost!
URL:https://streamwoodparks.org/event/oktoberfest-2/
LOCATION:Hoosier Grove Barn\, 700 W. Irving Park Road\, Streamwood\, IL\, 60107\, United States
CATEGORIES:Events,Programs,Recreation,Special Event
ATTACH;FMTTYPE=image/png:https://streamwoodparks.org/wp-content/uploads/2023/08/Web-Event-Oktoberfest-23.png
END:VEVENT
END:VCALENDAR