BEGIN:VCALENDAR
VERSION:2.0
PRODID:-//Streamwood Park District - ECPv6.15.18//NONSGML v1.0//EN
CALSCALE:GREGORIAN
METHOD:PUBLISH
X-WR-CALNAME:Streamwood Park District
X-ORIGINAL-URL:https://streamwoodparks.org
X-WR-CALDESC:Events for Streamwood Park District
REFRESH-INTERVAL;VALUE=DURATION:PT1H
X-Robots-Tag:noindex
X-PUBLISHED-TTL:PT1H
BEGIN:VTIMEZONE
TZID:America/Chicago
BEGIN:DAYLIGHT
TZOFFSETFROM:-0600
TZOFFSETTO:-0500
TZNAME:CDT
DTSTART:20220313T080000
END:DAYLIGHT
BEGIN:STANDARD
TZOFFSETFROM:-0500
TZOFFSETTO:-0600
TZNAME:CST
DTSTART:20221106T070000
END:STANDARD
BEGIN:DAYLIGHT
TZOFFSETFROM:-0600
TZOFFSETTO:-0500
TZNAME:CDT
DTSTART:20230312T080000
END:DAYLIGHT
BEGIN:STANDARD
TZOFFSETFROM:-0500
TZOFFSETTO:-0600
TZNAME:CST
DTSTART:20231105T070000
END:STANDARD
BEGIN:DAYLIGHT
TZOFFSETFROM:-0600
TZOFFSETTO:-0500
TZNAME:CDT
DTSTART:20240310T080000
END:DAYLIGHT
BEGIN:STANDARD
TZOFFSETFROM:-0500
TZOFFSETTO:-0600
TZNAME:CST
DTSTART:20241103T070000
END:STANDARD
END:VTIMEZONE
BEGIN:VEVENT
DTSTART;TZID=America/Chicago:20230911T160000
DTEND;TZID=America/Chicago:20230911T163000
DTSTAMP:20260419T173712
CREATED:20230818T164829Z
LAST-MODIFIED:20230818T164829Z
UID:20817-1694448000-1694449800@streamwoodparks.org
SUMMARY:Adult/Tot T-Ball Begins
DESCRIPTION:2 – 3 year olds with a parent \nYoung children develop motor skills while having fun learning fielding\, base running\, and hitting off a tee. Parents and tots work together to learn the basics of baseball. Teamwork and parent/ child interaction will be emphasized alongside basic motor functions and skills. A variety of activities will be played each week. \n\n\n\n\n320337-12 \n\n\nM \n\n\n9/11 – 10/16 \n\n\n4 – 4:30p \n\n\n$75/$95 \n\n\n\n\n320337-16 \n\n\nM* \n\n\n11/13 – 12/18 \n\n\n4 – 4:30p \n\n\n$75/$95 \n\n\n\n\nRahlf’s Woods Park\n*Community Center \nREGISTER ONLINE
URL:https://streamwoodparks.org/event/adult-tot-t-ball-begins/2023-09-11/
LOCATION:IL
CATEGORIES:Athletics,Programs,Recreation
ATTACH;FMTTYPE=image/png:https://streamwoodparks.org/wp-content/uploads/2020/03/HS_Logo_CMYK-2.png
END:VEVENT
BEGIN:VEVENT
DTSTART;TZID=America/Chicago:20230911T163000
DTEND;TZID=America/Chicago:20230911T171500
DTSTAMP:20260419T173712
CREATED:20230818T165224Z
LAST-MODIFIED:20230818T165225Z
UID:20820-1694449800-1694452500@streamwoodparks.org
SUMMARY:T-Ball Skills Clinic Begins
DESCRIPTION:4 – 5 year olds \nThis introductory T-ball program is perfect for a child who wants to have fun\, make new friends\, and be introduced to baseball. Participants enjoy learning the skills needed to play baseball including offense and defense\, as well as the rules and philosophies of the game. The program stresses teamwork over competition. All you need to bring is a glove! \n\n\n\n\n320337-13 \n\n\nM \n\n\n9/11 – 10/16 \n\n\n4:30 – 5:15p \n\n\n$85/$105 \n\n\n\n\n320337-17 \n\n\nM* \n\n\n11/13 – 12/18 \n\n\n4:30 – 5:15p \n\n\n$75/$95 \n\n\n\n\nRahlf’s Woods Park\n*Community Center \nREGISTER ONLINE
URL:https://streamwoodparks.org/event/t-ball-skills-clinic-begins/2023-09-11/
LOCATION:Park Place Family Recreation Center\, 550 S. Park Blvd.\, Park Place Family Rec Center\, Streamwood\, IL\, 60107\, United States
CATEGORIES:Athletics,Programs,Recreation
ATTACH;FMTTYPE=image/png:https://streamwoodparks.org/wp-content/uploads/2020/03/HS_Logo_CMYK-2.png
ORGANIZER;CN="Adam Vasquez":MAILTO:avasquez@spdcares.com
END:VEVENT
BEGIN:VEVENT
DTSTART;TZID=America/Chicago:20230911T171500
DTEND;TZID=America/Chicago:20230911T180000
DTSTAMP:20260419T173712
CREATED:20230818T165507Z
LAST-MODIFIED:20230818T165507Z
UID:20823-1694452500-1694455200@streamwoodparks.org
SUMMARY:Rookie Baseball Begins
DESCRIPTION:6 – 7 year olds \nThis baseball class gives players an introduction to baseball. Players work on technique and enhancing form in this comprehensive skills clinic. This program teaches throwing mechanics as well as batting stance\, bat positioning\, and speed\, using both live pitching and hitting off the tee. Players learn various positions in the field through game play and basic in-game strategy. Players should bring their own gloves\, and be ready for a fun\, fast-paced learning environment. \n\n\n\n\n320337-14 \n\n\nM \n\n\n9/11 – 10/16 \n\n\n5:15 – 6p \n\n\n$85/$105 \n\n\n\n\nREGISTER ONLINE
URL:https://streamwoodparks.org/event/rookie-baseball-begins/
LOCATION:Rahlf’s Woods Park
CATEGORIES:Athletics,Programs,Recreation
ATTACH;FMTTYPE=image/png:https://streamwoodparks.org/wp-content/uploads/2020/03/HS_Logo_CMYK-2.png
ORGANIZER;CN="Adam Vasquez":MAILTO:avasquez@spdcares.com
END:VEVENT
BEGIN:VEVENT
DTSTART;TZID=America/Chicago:20230911T181500
DTEND;TZID=America/Chicago:20230911T190000
DTSTAMP:20260419T173712
CREATED:20230818T165803Z
LAST-MODIFIED:20230818T165803Z
UID:20825-1694456100-1694458800@streamwoodparks.org
SUMMARY:Softball Clinic Begins
DESCRIPTION:6 – 10 year olds \nThis class is a complete introduction for the beginning softball star. Learn about the bases\, field positions\, and defensive mechanics while gaining skills in throwing and hitting. Live games are played every day with instructor pitching. Players will use 11” softie or indoor softball. A softball glove is required. \n\n\n\n\n320337-15 \n\n\nM \n\n\n9/11 – 10/16 \n\n\n6:15 – 7p \n\n\n$85/$105 \n\n\n\n\n320337-18 \n\n\nM* \n\n\n11/13 – 12/18 \n\n\n5:15 – 6p \n\n\n$75/$95 \n\n\n\n\nREGISTER ONLINE
URL:https://streamwoodparks.org/event/softball-clinic-begins/2023-09-11/
LOCATION:Rahlf’s Woods Park
CATEGORIES:Athletics,Programs,Recreation
ATTACH;FMTTYPE=image/png:https://streamwoodparks.org/wp-content/uploads/2020/03/HS_Logo_CMYK-2.png
ORGANIZER;CN="Adam Vasquez":MAILTO:avasquez@spdcares.com
END:VEVENT
END:VCALENDAR