BEGIN:VCALENDAR
VERSION:2.0
PRODID:-//Streamwood Park District - ECPv6.15.18//NONSGML v1.0//EN
CALSCALE:GREGORIAN
METHOD:PUBLISH
X-WR-CALNAME:Streamwood Park District
X-ORIGINAL-URL:https://streamwoodparks.org
X-WR-CALDESC:Events for Streamwood Park District
REFRESH-INTERVAL;VALUE=DURATION:PT1H
X-Robots-Tag:noindex
X-PUBLISHED-TTL:PT1H
BEGIN:VTIMEZONE
TZID:America/Chicago
BEGIN:DAYLIGHT
TZOFFSETFROM:-0600
TZOFFSETTO:-0500
TZNAME:CDT
DTSTART:20210314T080000
END:DAYLIGHT
BEGIN:STANDARD
TZOFFSETFROM:-0500
TZOFFSETTO:-0600
TZNAME:CST
DTSTART:20211107T070000
END:STANDARD
BEGIN:DAYLIGHT
TZOFFSETFROM:-0600
TZOFFSETTO:-0500
TZNAME:CDT
DTSTART:20220313T080000
END:DAYLIGHT
BEGIN:STANDARD
TZOFFSETFROM:-0500
TZOFFSETTO:-0600
TZNAME:CST
DTSTART:20221106T070000
END:STANDARD
BEGIN:DAYLIGHT
TZOFFSETFROM:-0600
TZOFFSETTO:-0500
TZNAME:CDT
DTSTART:20230312T080000
END:DAYLIGHT
BEGIN:STANDARD
TZOFFSETFROM:-0500
TZOFFSETTO:-0600
TZNAME:CST
DTSTART:20231105T070000
END:STANDARD
END:VTIMEZONE
BEGIN:VEVENT
DTSTART;VALUE=DATE:20221201
DTEND;VALUE=DATE:20221216
DTSTAMP:20260419T125407
CREATED:20220922T170923Z
LAST-MODIFIED:20220922T171031Z
UID:14246-1669852800-1671148799@streamwoodparks.org
SUMMARY:Letters to Santa
DESCRIPTION:Santa will once again have special mailboxes where children can drop off a letter that goes directly to the North Pole. Mailboxes will be at Park Place\, Community Center\, and Hoosier Grove Barn. \nAll children who write a letter will receive one directly from the North Pole. \nSanta Claus\nc/o Streamwood Park District\n550 S. Park Blvd. Streamwood\, IL 60107  \nPlease remember to include your child’s name and address on the back of the envelope.
URL:https://streamwoodparks.org/event/letters-to-santa/
LOCATION:IL
CATEGORIES:Events,Special Event
ATTACH;FMTTYPE=image/png:https://streamwoodparks.org/wp-content/uploads/2022/09/SPD_Web_Event_LettersToSanta.png
END:VEVENT
BEGIN:VEVENT
DTSTART;TZID=America/Chicago:20221201T180000
DTEND;TZID=America/Chicago:20221201T200000
DTSTAMP:20260419T125407
CREATED:20220912T182643Z
LAST-MODIFIED:20220912T182643Z
UID:13539-1669917600-1669924800@streamwoodparks.org
SUMMARY:Holiday Sip 'N Paint
DESCRIPTION:11 years +  \n\n\n\n\nJoin us for a fun evening of painting! Registration includes step-by-step instructions and all necessary supplies. Stencils are provided. No experience is necessary. Adult beverages will be available for purchase for guests 21 years & older. The week prior to the event\, you will be sent six different holiday sled design options to choose from to paint on event night! Please email your choice to sporter@spdcares.com by Friday\, November\, 25. \nInstructor: Abby Adams of Make YOU Brush.
URL:https://streamwoodparks.org/event/holiday-sip-n-paint/
LOCATION:Park Place Family Recreation Center\, 550 S. Park Blvd.\, Park Place Family Rec Center\, Streamwood\, IL\, 60107\, United States
CATEGORIES:Programs,Recreation
ORGANIZER;CN="Sarah Nolan":MAILTO:sporter@spdcares.com
END:VEVENT
BEGIN:VEVENT
DTSTART;TZID=America/Chicago:20221202T114500
DTEND;TZID=America/Chicago:20221202T124500
DTSTAMP:20260419T125407
CREATED:20221121T165339Z
LAST-MODIFIED:20230303T142202Z
UID:15114-1669981500-1669985100@streamwoodparks.org
SUMMARY:Friday FUNdays
DESCRIPTION:3 – 5 year olds \nInstructed by Building Block Preschool staff\, Friday Fun Days are a perfect opportunity to add an extra fun learning experience to your preschooler’s day. This class is designed for current preschoolers who want to extend their fun after class or for children not enrolled in preschool who want to add to their day. Children will participate in a variety of activities including arts and crafts\, reading\, and singing\, and will also acquire socialization skills needed for kindergarten.\nRegistration is by day. If the minimum of 6 is not met by the Wednesday before the class will be held\, we will cancel the class. Class prices will vary based on theme and activity. \nDecember 2; Happy Holidays\nJanuary 6; Winter Wonderland\nJanuary 20; Rock ‘N Roll\nFebruary 3; Bubble Gum Day\nFebruary 17; Random Acts of Kindness Day\nMarch 3; Be Happy Day\nMarch 17; St. Patrick’s Day \nREGISTER
URL:https://streamwoodparks.org/event/friday-fundays/2022-12-02/
LOCATION:Park Place Family Recreation Center\, 550 S. Park Blvd.\, Park Place Family Rec Center\, Streamwood\, IL\, 60107\, United States
CATEGORIES:EC Enrichment,Programs,Recreation
ATTACH;FMTTYPE=image/jpeg:https://streamwoodparks.org/wp-content/uploads/2019/09/iStock_000015792745_Large.jpg
END:VEVENT
BEGIN:VEVENT
DTSTART;TZID=America/Chicago:20221203T090000
DTEND;TZID=America/Chicago:20221203T160000
DTSTAMP:20260419T125407
CREATED:20220912T135859Z
LAST-MODIFIED:20220912T135859Z
UID:13495-1670058000-1670083200@streamwoodparks.org
SUMMARY:Boys Basketball Tips Off
DESCRIPTION:2nd – 8th GRADERS  \n\n\n\n\nTeams will have at least one (1) practice per week and games will be played on a combination of Friday nights or Saturday mornings/ afternoons. The goal of the program is to help each participant experience success as they develop their skills and abilities. An emphasis is placed on the basic skills of basketball and the development of important character qualities such as sportsmanship and teamwork. All players will receive a jersey. Divisions could be rearranged based on registration.
URL:https://streamwoodparks.org/event/boys-basketball-tips-off/
LOCATION:Park Place Family Recreation Center\, 550 S. Park Blvd.\, Park Place Family Rec Center\, Streamwood\, IL\, 60107\, United States
CATEGORIES:Athletics,Programs,Recreation
ATTACH;FMTTYPE=image/jpeg:https://streamwoodparks.org/wp-content/uploads/2022/09/Youth-Basketball-2.jpeg
ORGANIZER;CN="Chris Fetterman":MAILTO:cfetterman@spdcares.com
END:VEVENT
BEGIN:VEVENT
DTSTART;TZID=America/Chicago:20221203T110000
DTEND;TZID=America/Chicago:20221203T123000
DTSTAMP:20260419T125407
CREATED:20220912T185820Z
LAST-MODIFIED:20220912T185833Z
UID:13569-1670065200-1670070600@streamwoodparks.org
SUMMARY:Paint with Me: Midnight Snowman
DESCRIPTION:with Chilled Palette  \n\n\n\n\n4 – 10 year olds with an adult  \n\n\n\n\nPaint together to create a 16”x20” canvas that will be the conversation starter for years to come. An instructor will guide you with step-by-step instructions to create your own masterpiece. All painting supplies included. A nut-free snack is also included.
URL:https://streamwoodparks.org/event/paint-with-me-midnight-snowman/
LOCATION:Community Center\, 777 S. Bartlett Road\, Streamwood Park District\, Streamwood\, IL\, 60107\, United States
CATEGORIES:General Interest,Programs,Recreation
ATTACH;FMTTYPE=image/jpeg:https://streamwoodparks.org/wp-content/uploads/2021/05/big-wave_orig.jpg
ORGANIZER;CN="Sarah Nolan":MAILTO:sporter@spdcares.com
END:VEVENT
END:VCALENDAR