BEGIN:VCALENDAR
VERSION:2.0
PRODID:-//Streamwood Park District - ECPv6.15.18//NONSGML v1.0//EN
CALSCALE:GREGORIAN
METHOD:PUBLISH
X-ORIGINAL-URL:https://streamwoodparks.org
X-WR-CALDESC:Events for Streamwood Park District
REFRESH-INTERVAL;VALUE=DURATION:PT1H
X-Robots-Tag:noindex
X-PUBLISHED-TTL:PT1H
BEGIN:VTIMEZONE
TZID:America/Chicago
BEGIN:DAYLIGHT
TZOFFSETFROM:-0600
TZOFFSETTO:-0500
TZNAME:CDT
DTSTART:20240310T080000
END:DAYLIGHT
BEGIN:STANDARD
TZOFFSETFROM:-0500
TZOFFSETTO:-0600
TZNAME:CST
DTSTART:20241103T070000
END:STANDARD
BEGIN:DAYLIGHT
TZOFFSETFROM:-0600
TZOFFSETTO:-0500
TZNAME:CDT
DTSTART:20250309T080000
END:DAYLIGHT
BEGIN:STANDARD
TZOFFSETFROM:-0500
TZOFFSETTO:-0600
TZNAME:CST
DTSTART:20251102T070000
END:STANDARD
BEGIN:DAYLIGHT
TZOFFSETFROM:-0600
TZOFFSETTO:-0500
TZNAME:CDT
DTSTART:20260308T080000
END:DAYLIGHT
BEGIN:STANDARD
TZOFFSETFROM:-0500
TZOFFSETTO:-0600
TZNAME:CST
DTSTART:20261101T070000
END:STANDARD
END:VTIMEZONE
BEGIN:VEVENT
DTSTART;TZID=America/Chicago:20250629T130000
DTEND;TZID=America/Chicago:20250629T134500
DTSTAMP:20260421T084842
CREATED:20250513T144502Z
LAST-MODIFIED:20250513T144502Z
UID:28718-1751202000-1751204700@streamwoodparks.org
SUMMARY:TS Basketball Begins
DESCRIPTION:For beginners with little to no experience\, all participants must have a high interest in learning the game and improving their basketball skills. This program reoccurs every 4 weeks with the opportunity to join TS Basketball Skills & Training Program once participant’s skill level qualifies.  \n8-14 year olds \nJune 1 – June 22\nJune 29 – July 20\nJuly 27 – August 17 \n$95/$115 \nLearn More!
URL:https://streamwoodparks.org/event/ts-basketball-begins-2/2025-06-29/
LOCATION:Park Place Family Recreation Center\, 550 S. Park Blvd.\, Park Place Family Rec Center\, Streamwood\, IL\, 60107\, United States
CATEGORIES:Athletics,Programs,Recreation
ATTACH;FMTTYPE=image/png:https://streamwoodparks.org/wp-content/uploads/2024/02/Web-Event-TS-BASKETBALL.png
ORGANIZER;CN="Chris Fetterman":MAILTO:cfetterman@spdcares.com
END:VEVENT
BEGIN:VEVENT
DTSTART;VALUE=DATE:20250630
DTEND;VALUE=DATE:20250701
DTSTAMP:20260421T084842
CREATED:20250513T140227Z
LAST-MODIFIED:20250513T140227Z
UID:28703-1751241600-1751327999@streamwoodparks.org
SUMMARY:Gymnastics Begins
DESCRIPTION:The Streamwood Park District gymnastics program is operated by the Gymkhana Gymnastics Club. Gymkhana has been providing high-quality instruction in gymnastics since 1975. They offer programs for all ages and abilities starting from preschool gymnastics classes\, to their nationally competing U.S.A. Gymnastics safety certified coaches. The Gymkhana facility is 30\,000 square feet of the latest and best equipment. \nParent/Tot: 2-3 year olds with a parent\nPre-Gymnastics: 4-5 year olds\nYouth/Beginner: 5 years + \nLearn More about Gymkhana Gymnastics
URL:https://streamwoodparks.org/event/gymnastics-begins-3/
LOCATION:Gymkhana Gymnastics\, 6622 Barrington Road\, Hanover Park\, Illinois\, 60133
CATEGORIES:Athletics,Programs,Recreation
ATTACH;FMTTYPE=image/png:https://streamwoodparks.org/wp-content/uploads/2025/02/FB-Event-Photo-Gymkhana-25.png
ORGANIZER;CN="Adam Vasquez":MAILTO:avasquez@spdcares.com
END:VEVENT
BEGIN:VEVENT
DTSTART;TZID=America/Chicago:20250630T083000
DTEND;TZID=America/Chicago:20250630T091500
DTSTAMP:20260421T084842
CREATED:20231127T201901Z
LAST-MODIFIED:20231127T201901Z
UID:24099-1751272200-1751274900@streamwoodparks.org
SUMMARY:Interval Training
DESCRIPTION:with Lisa \nThis high-intensity interval training class combines calisthenics\, plyometrics\, and bodyweight exercises in cardio intervals. Exercises are done in time bursts with short recovery periods\, with a goal of reaching an anaerobic state\, increasing metabolism for 24-72 hours after the workout.
URL:https://streamwoodparks.org/event/interval-training-2/2025-06-30/
LOCATION:Park Place Family Recreation Center\, 550 S. Park Blvd.\, Park Place Family Rec Center\, Streamwood\, IL\, 60107\, United States
ORGANIZER;CN="Adam Vasquez":MAILTO:avasquez@spdcares.com
END:VEVENT
BEGIN:VEVENT
DTSTART;TZID=America/Chicago:20250630T090000
DTEND;TZID=America/Chicago:20250630T100000
DTSTAMP:20260421T084842
CREATED:20230630T165814Z
LAST-MODIFIED:20230630T165814Z
UID:20048-1751274000-1751277600@streamwoodparks.org
SUMMARY:Aqua Fit
DESCRIPTION:INSTRUCTOR: MARY \nAqua Fit is a challenging water workout fit for everyone\, especially those with joint ailments or injuries. The class begins with a gentle warm-up and from there\, you’ll ease into exercises using your own body weight and water-resistance dumbbells. This 60-minute cardio and resistance training class will have you splashing your way to improved strength and overall refreshment.
URL:https://streamwoodparks.org/event/aqua-fit/2025-06-30/
LOCATION:Park Place Family Recreation Center\, 550 S. Park Blvd.\, Park Place Family Rec Center\, Streamwood\, IL\, 60107\, United States
CATEGORIES:Recreation
ORGANIZER;CN="Adam Vasquez":MAILTO:avasquez@spdcares.com
END:VEVENT
BEGIN:VEVENT
DTSTART;TZID=America/Chicago:20250630T093000
DTEND;TZID=America/Chicago:20250630T103000
DTSTAMP:20260421T084842
CREATED:20230630T170050Z
LAST-MODIFIED:20230630T170050Z
UID:21051-1751275800-1751279400@streamwoodparks.org
SUMMARY:Spin®
DESCRIPTION:INSTRUCTOR: CATHY \nGet your sweat on to time or music-based aerobic endurance\, conditioning\, and anaerobic interval training motivated by expert instruction. Classes focus on drills that build power and endurance on the bike and brief\, high-intensity bursts that push past your anaerobic threshold to increase your cycling power.
URL:https://streamwoodparks.org/event/spin/2025-06-30/
LOCATION:Park Place Family Recreation Center\, 550 S. Park Blvd.\, Park Place Family Rec Center\, Streamwood\, IL\, 60107\, United States
CATEGORIES:Recreation
ORGANIZER;CN="Adam Vasquez":MAILTO:avasquez@spdcares.com
END:VEVENT
BEGIN:VEVENT
DTSTART;TZID=America/Chicago:20250630T171000
DTEND;TZID=America/Chicago:20250630T181000
DTSTAMP:20260421T084842
CREATED:20230630T173629Z
LAST-MODIFIED:20230630T173629Z
UID:21811-1751303400-1751307000@streamwoodparks.org
SUMMARY:Jazzercise®
DESCRIPTION:
URL:https://streamwoodparks.org/event/jazzercise/2025-06-30/
LOCATION:Park Place Family Recreation Center\, 550 S. Park Blvd.\, Park Place Family Rec Center\, Streamwood\, IL\, 60107\, United States
CATEGORIES:Recreation
ORGANIZER;CN="Adam Vasquez":MAILTO:avasquez@spdcares.com
END:VEVENT
BEGIN:VEVENT
DTSTART;TZID=America/Chicago:20250701T084000
DTEND;TZID=America/Chicago:20250701T094000
DTSTAMP:20260421T084842
CREATED:20230630T173629Z
LAST-MODIFIED:20230630T173629Z
UID:21812-1751359200-1751362800@streamwoodparks.org
SUMMARY:Jazzercise®
DESCRIPTION:
URL:https://streamwoodparks.org/event/jazzercise/2025-07-01/
LOCATION:Park Place Family Recreation Center\, 550 S. Park Blvd.\, Park Place Family Rec Center\, Streamwood\, IL\, 60107\, United States
CATEGORIES:Recreation
ORGANIZER;CN="Adam Vasquez":MAILTO:avasquez@spdcares.com
END:VEVENT
BEGIN:VEVENT
DTSTART;TZID=America/Chicago:20250701T171000
DTEND;TZID=America/Chicago:20250701T181000
DTSTAMP:20260421T084842
CREATED:20230630T173629Z
LAST-MODIFIED:20230630T173629Z
UID:21813-1751389800-1751393400@streamwoodparks.org
SUMMARY:Jazzercise®
DESCRIPTION:
URL:https://streamwoodparks.org/event/jazzercise/2025-07-01/6/
LOCATION:Park Place Family Recreation Center\, 550 S. Park Blvd.\, Park Place Family Rec Center\, Streamwood\, IL\, 60107\, United States
CATEGORIES:Recreation
ORGANIZER;CN="Adam Vasquez":MAILTO:avasquez@spdcares.com
END:VEVENT
BEGIN:VEVENT
DTSTART;TZID=America/Chicago:20250702T090000
DTEND;TZID=America/Chicago:20250702T100000
DTSTAMP:20260421T084842
CREATED:20230630T165814Z
LAST-MODIFIED:20230630T165814Z
UID:20049-1751446800-1751450400@streamwoodparks.org
SUMMARY:Aqua Fit
DESCRIPTION:INSTRUCTOR: MARY \nAqua Fit is a challenging water workout fit for everyone\, especially those with joint ailments or injuries. The class begins with a gentle warm-up and from there\, you’ll ease into exercises using your own body weight and water-resistance dumbbells. This 60-minute cardio and resistance training class will have you splashing your way to improved strength and overall refreshment.
URL:https://streamwoodparks.org/event/aqua-fit/2025-07-02/
LOCATION:Park Place Family Recreation Center\, 550 S. Park Blvd.\, Park Place Family Rec Center\, Streamwood\, IL\, 60107\, United States
CATEGORIES:Recreation
ORGANIZER;CN="Adam Vasquez":MAILTO:avasquez@spdcares.com
END:VEVENT
BEGIN:VEVENT
DTSTART;TZID=America/Chicago:20250702T093000
DTEND;TZID=America/Chicago:20250702T101500
DTSTAMP:20260421T084842
CREATED:20231128T192330Z
LAST-MODIFIED:20240112T153411Z
UID:25343-1751448600-1751451300@streamwoodparks.org
SUMMARY:Stretch Infusion
DESCRIPTION:Instructor: Cathy \nFloor-based mat class designed for everyone. Non-impact\, safe\, and effective\, you
URL:https://streamwoodparks.org/event/stretch-infusion/2025-07-02/
LOCATION:Park Place Family Recreation Center\, 550 S. Park Blvd.\, Park Place Family Rec Center\, Streamwood\, IL\, 60107\, United States
ORGANIZER;CN="Adam Vasquez":MAILTO:avasquez@spdcares.com
END:VEVENT
BEGIN:VEVENT
DTSTART;TZID=America/Chicago:20250702T171000
DTEND;TZID=America/Chicago:20250702T181000
DTSTAMP:20260421T084842
CREATED:20230630T173629Z
LAST-MODIFIED:20230630T173629Z
UID:21814-1751476200-1751479800@streamwoodparks.org
SUMMARY:Jazzercise®
DESCRIPTION:
URL:https://streamwoodparks.org/event/jazzercise/2025-07-02/
LOCATION:Park Place Family Recreation Center\, 550 S. Park Blvd.\, Park Place Family Rec Center\, Streamwood\, IL\, 60107\, United States
CATEGORIES:Recreation
ORGANIZER;CN="Adam Vasquez":MAILTO:avasquez@spdcares.com
END:VEVENT
BEGIN:VEVENT
DTSTART;TZID=America/Chicago:20250702T183000
DTEND;TZID=America/Chicago:20250702T193000
DTSTAMP:20260421T084842
CREATED:20230630T170050Z
LAST-MODIFIED:20230919T144543Z
UID:20268-1751481000-1751484600@streamwoodparks.org
SUMMARY:Spin®
DESCRIPTION:INSTRUCTOR: CATHY \nGet your sweat on to time or music-based aerobic endurance\, conditioning\, and anaerobic interval training motivated by expert instruction. Classes focus on drills that build power and endurance on the bike and brief\, high-intensity bursts that push past your anaerobic threshold to increase your cycling power.
URL:https://streamwoodparks.org/event/spin/2025-07-02/
LOCATION:Park Place Family Recreation Center\, 550 S. Park Blvd.\, Park Place Family Rec Center\, Streamwood\, IL\, 60107\, United States
CATEGORIES:Recreation
ORGANIZER;CN="Adam Vasquez":MAILTO:avasquez@spdcares.com
END:VEVENT
BEGIN:VEVENT
DTSTART;TZID=America/Chicago:20250703T084000
DTEND;TZID=America/Chicago:20250703T094000
DTSTAMP:20260421T084842
CREATED:20230630T173629Z
LAST-MODIFIED:20230630T173629Z
UID:21815-1751532000-1751535600@streamwoodparks.org
SUMMARY:Jazzercise®
DESCRIPTION:
URL:https://streamwoodparks.org/event/jazzercise/2025-07-03/
LOCATION:Park Place Family Recreation Center\, 550 S. Park Blvd.\, Park Place Family Rec Center\, Streamwood\, IL\, 60107\, United States
CATEGORIES:Recreation
ORGANIZER;CN="Adam Vasquez":MAILTO:avasquez@spdcares.com
END:VEVENT
BEGIN:VEVENT
DTSTART;TZID=America/Chicago:20250704T090000
DTEND;TZID=America/Chicago:20250704T100000
DTSTAMP:20260421T084842
CREATED:20230630T165814Z
LAST-MODIFIED:20230630T165814Z
UID:20050-1751619600-1751623200@streamwoodparks.org
SUMMARY:Aqua Fit
DESCRIPTION:INSTRUCTOR: MARY \nAqua Fit is a challenging water workout fit for everyone\, especially those with joint ailments or injuries. The class begins with a gentle warm-up and from there\, you’ll ease into exercises using your own body weight and water-resistance dumbbells. This 60-minute cardio and resistance training class will have you splashing your way to improved strength and overall refreshment.
URL:https://streamwoodparks.org/event/aqua-fit/2025-07-04/
LOCATION:Park Place Family Recreation Center\, 550 S. Park Blvd.\, Park Place Family Rec Center\, Streamwood\, IL\, 60107\, United States
CATEGORIES:Recreation
ORGANIZER;CN="Adam Vasquez":MAILTO:avasquez@spdcares.com
END:VEVENT
BEGIN:VEVENT
DTSTART;TZID=America/Chicago:20250704T090000
DTEND;TZID=America/Chicago:20250704T100000
DTSTAMP:20260421T084842
CREATED:20230630T170050Z
LAST-MODIFIED:20230919T144544Z
UID:20269-1751619600-1751623200@streamwoodparks.org
SUMMARY:Spin®
DESCRIPTION:INSTRUCTOR: CATHY \nGet your sweat on to time or music-based aerobic endurance\, conditioning\, and anaerobic interval training motivated by expert instruction. Classes focus on drills that build power and endurance on the bike and brief\, high-intensity bursts that push past your anaerobic threshold to increase your cycling power.
URL:https://streamwoodparks.org/event/spin/2025-07-04/
LOCATION:Park Place Family Recreation Center\, 550 S. Park Blvd.\, Park Place Family Rec Center\, Streamwood\, IL\, 60107\, United States
CATEGORIES:Recreation
ORGANIZER;CN="Adam Vasquez":MAILTO:avasquez@spdcares.com
END:VEVENT
BEGIN:VEVENT
DTSTART;TZID=America/Chicago:20250704T101500
DTEND;TZID=America/Chicago:20250704T110000
DTSTAMP:20260421T084842
CREATED:20231128T192330Z
LAST-MODIFIED:20240112T153413Z
UID:25345-1751624100-1751626800@streamwoodparks.org
SUMMARY:Stretch Infusion
DESCRIPTION:Instructor: Cathy \nFloor-based mat class designed for everyone. Non-impact\, safe\, and effective\, you
URL:https://streamwoodparks.org/event/stretch-infusion/2025-07-04/
LOCATION:Park Place Family Recreation Center\, 550 S. Park Blvd.\, Park Place Family Rec Center\, Streamwood\, IL\, 60107\, United States
ORGANIZER;CN="Adam Vasquez":MAILTO:avasquez@spdcares.com
END:VEVENT
BEGIN:VEVENT
DTSTART;TZID=America/Chicago:20250704T171000
DTEND;TZID=America/Chicago:20250704T181000
DTSTAMP:20260421T084842
CREATED:20230630T173629Z
LAST-MODIFIED:20230630T173629Z
UID:21816-1751649000-1751652600@streamwoodparks.org
SUMMARY:Jazzercise®
DESCRIPTION:
URL:https://streamwoodparks.org/event/jazzercise/2025-07-04/
LOCATION:Park Place Family Recreation Center\, 550 S. Park Blvd.\, Park Place Family Rec Center\, Streamwood\, IL\, 60107\, United States
CATEGORIES:Recreation
ORGANIZER;CN="Adam Vasquez":MAILTO:avasquez@spdcares.com
END:VEVENT
BEGIN:VEVENT
DTSTART;TZID=America/Chicago:20250705T070000
DTEND;TZID=America/Chicago:20250705T080000
DTSTAMP:20260421T084842
CREATED:20240306T192554Z
LAST-MODIFIED:20240306T192554Z
UID:26808-1751698800-1751702400@streamwoodparks.org
SUMMARY:Alignment Yoga
DESCRIPTION:with Diane \nThis all-levels class is a slow-paced flow with a focus on the foundations of postures.  The class has a combination of mobility\, strength\, and alignment drills that enhance any level of practitioner interested in developing more awareness in breath and movement.
URL:https://streamwoodparks.org/event/alignment-yoga/2025-07-05/
LOCATION:Park Place Family Recreation Center\, 550 S. Park Blvd.\, Park Place Family Rec Center\, Streamwood\, IL\, 60107\, United States
CATEGORIES:Recreation
ORGANIZER;CN="Adam Vasquez":MAILTO:avasquez@spdcares.com
END:VEVENT
BEGIN:VEVENT
DTSTART;TZID=America/Chicago:20250705T083000
DTEND;TZID=America/Chicago:20250705T093000
DTSTAMP:20260421T084842
CREATED:20240110T175054Z
LAST-MODIFIED:20240110T175054Z
UID:26342-1751704200-1751707800@streamwoodparks.org
SUMMARY:Boot Camp
DESCRIPTION:with Debbie & Cari \nWork at your own pace and ability as your instructor takes you through a series of both strength training and cardio full body movements that will help you improve your strength\, power\, and movement. Class variety designed to push and challenge the body.
URL:https://streamwoodparks.org/event/boot-camp/2025-07-05/
LOCATION:Park Place Family Recreation Center\, 550 S. Park Blvd.\, Park Place Family Rec Center\, Streamwood\, IL\, 60107\, United States
CATEGORIES:Recreation
ORGANIZER;CN="Adam Vasquez":MAILTO:avasquez@spdcares.com
END:VEVENT
BEGIN:VEVENT
DTSTART;TZID=America/Chicago:20250706T104500
DTEND;TZID=America/Chicago:20250706T114500
DTSTAMP:20260421T084842
CREATED:20230630T173629Z
LAST-MODIFIED:20230630T173629Z
UID:21817-1751798700-1751802300@streamwoodparks.org
SUMMARY:Jazzercise®
DESCRIPTION:
URL:https://streamwoodparks.org/event/jazzercise/2025-07-06/
LOCATION:Park Place Family Recreation Center\, 550 S. Park Blvd.\, Park Place Family Rec Center\, Streamwood\, IL\, 60107\, United States
CATEGORIES:Recreation
ORGANIZER;CN="Adam Vasquez":MAILTO:avasquez@spdcares.com
END:VEVENT
BEGIN:VEVENT
DTSTART;TZID=America/Chicago:20250707T083000
DTEND;TZID=America/Chicago:20250707T091500
DTSTAMP:20260421T084842
CREATED:20231127T201901Z
LAST-MODIFIED:20231127T201901Z
UID:24100-1751877000-1751879700@streamwoodparks.org
SUMMARY:Interval Training
DESCRIPTION:with Lisa \nThis high-intensity interval training class combines calisthenics\, plyometrics\, and bodyweight exercises in cardio intervals. Exercises are done in time bursts with short recovery periods\, with a goal of reaching an anaerobic state\, increasing metabolism for 24-72 hours after the workout.
URL:https://streamwoodparks.org/event/interval-training-2/2025-07-07/
LOCATION:Park Place Family Recreation Center\, 550 S. Park Blvd.\, Park Place Family Rec Center\, Streamwood\, IL\, 60107\, United States
ORGANIZER;CN="Adam Vasquez":MAILTO:avasquez@spdcares.com
END:VEVENT
BEGIN:VEVENT
DTSTART;TZID=America/Chicago:20250707T090000
DTEND;TZID=America/Chicago:20250707T100000
DTSTAMP:20260421T084842
CREATED:20230630T165814Z
LAST-MODIFIED:20230630T165814Z
UID:20051-1751878800-1751882400@streamwoodparks.org
SUMMARY:Aqua Fit
DESCRIPTION:INSTRUCTOR: MARY \nAqua Fit is a challenging water workout fit for everyone\, especially those with joint ailments or injuries. The class begins with a gentle warm-up and from there\, you’ll ease into exercises using your own body weight and water-resistance dumbbells. This 60-minute cardio and resistance training class will have you splashing your way to improved strength and overall refreshment.
URL:https://streamwoodparks.org/event/aqua-fit/2025-07-07/
LOCATION:Park Place Family Recreation Center\, 550 S. Park Blvd.\, Park Place Family Rec Center\, Streamwood\, IL\, 60107\, United States
CATEGORIES:Recreation
ORGANIZER;CN="Adam Vasquez":MAILTO:avasquez@spdcares.com
END:VEVENT
BEGIN:VEVENT
DTSTART;TZID=America/Chicago:20250707T093000
DTEND;TZID=America/Chicago:20250707T123000
DTSTAMP:20260421T084842
CREATED:20250514T162038Z
LAST-MODIFIED:20250514T162038Z
UID:28759-1751880600-1751891400@streamwoodparks.org
SUMMARY:Little Explorers Adventure Camp Begins
DESCRIPTION:In this week-long camp campers explore all that McCaslin Park has to offer! Campers will play mini golf cool off at the splash pad dig in the sand area make crafts and enjoy some playground time. Participants should bring their lunch and must be able to handle their own bathroom needs. Camp will begin and end at Coyote Crossing Mini Golf. \nLearn More
URL:https://streamwoodparks.org/event/little-explorers-adventure-camp-begins/2025-07-07/
LOCATION:Park Place Family Recreation Center\, 550 S. Park Blvd.\, Park Place Family Rec Center\, Streamwood\, IL\, 60107\, United States
ATTACH;FMTTYPE=image/png:https://streamwoodparks.org/wp-content/uploads/2025/05/WebEvent-AdventureCamp.png
ORGANIZER;CN="Sarah Nolan":MAILTO:sporter@spdcares.com
END:VEVENT
BEGIN:VEVENT
DTSTART;TZID=America/Chicago:20250707T171000
DTEND;TZID=America/Chicago:20250707T181000
DTSTAMP:20260421T084842
CREATED:20230630T173629Z
LAST-MODIFIED:20230630T173629Z
UID:21818-1751908200-1751911800@streamwoodparks.org
SUMMARY:Jazzercise®
DESCRIPTION:
URL:https://streamwoodparks.org/event/jazzercise/2025-07-07/
LOCATION:Park Place Family Recreation Center\, 550 S. Park Blvd.\, Park Place Family Rec Center\, Streamwood\, IL\, 60107\, United States
CATEGORIES:Recreation
ORGANIZER;CN="Adam Vasquez":MAILTO:avasquez@spdcares.com
END:VEVENT
BEGIN:VEVENT
DTSTART;TZID=America/Chicago:20250708T084000
DTEND;TZID=America/Chicago:20250708T094000
DTSTAMP:20260421T084842
CREATED:20230630T173629Z
LAST-MODIFIED:20230630T173629Z
UID:21819-1751964000-1751967600@streamwoodparks.org
SUMMARY:Jazzercise®
DESCRIPTION:
URL:https://streamwoodparks.org/event/jazzercise/2025-07-08/
LOCATION:Park Place Family Recreation Center\, 550 S. Park Blvd.\, Park Place Family Rec Center\, Streamwood\, IL\, 60107\, United States
CATEGORIES:Recreation
ORGANIZER;CN="Adam Vasquez":MAILTO:avasquez@spdcares.com
END:VEVENT
BEGIN:VEVENT
DTSTART;TZID=America/Chicago:20250708T171000
DTEND;TZID=America/Chicago:20250708T181000
DTSTAMP:20260421T084842
CREATED:20230630T173629Z
LAST-MODIFIED:20230630T173629Z
UID:21820-1751994600-1751998200@streamwoodparks.org
SUMMARY:Jazzercise®
DESCRIPTION:
URL:https://streamwoodparks.org/event/jazzercise/2025-07-08/
LOCATION:Park Place Family Recreation Center\, 550 S. Park Blvd.\, Park Place Family Rec Center\, Streamwood\, IL\, 60107\, United States
CATEGORIES:Recreation
ORGANIZER;CN="Adam Vasquez":MAILTO:avasquez@spdcares.com
END:VEVENT
BEGIN:VEVENT
DTSTART;VALUE=DATE:20250709
DTEND;VALUE=DATE:20250710
DTSTAMP:20260421T084842
CREATED:20250513T135205Z
LAST-MODIFIED:20250513T135205Z
UID:28698-1752019200-1752105599@streamwoodparks.org
SUMMARY:Summer Camp Session Deadline
DESCRIPTION:All participants must register for at least (3) three days. \nAll participants can register for 3\, 4\, or 5 days for each week. Registering for only 2 days is only available for Kids Quest Camp. Early bird registration is not available for Teen Camp. \nNO CAMP JULY 4. If canceling at any time during the summer\, the initial $100 fee is non-refundable. \nRegistration can be done in person or online. An installment billing payment plan can be set up in person at Park Place. Once completed\, camp forms\, waivers\, and the Parent Manual will be provided through ePACT Network. All forms and waivers must be completed through ePACT by the Friday before your child is scheduled to begin camp. \nREGISTRATION DEADLINES \nSession #	Session Dates	        Registration Deadline\n1	        June 2 – June 13	May 26\n2	        June 16 – June 27	June 11\n3	        June 30 – July 11	June 25\n4	        July 14 – July 25	July 9\n5	        July 28 – August 8	July 23
URL:https://streamwoodparks.org/event/summer-camp-session-deadline/2025-07-09/
LOCATION:Park Place Family Recreation Center\, 550 S. Park Blvd.\, Park Place Family Rec Center\, Streamwood\, IL\, 60107\, United States
CATEGORIES:Programs,Recreation
ATTACH;FMTTYPE=image/png:https://streamwoodparks.org/wp-content/uploads/2024/02/Web-Event-DAY-CAMPS.png
ORGANIZER;CN="Sarah Nolan":MAILTO:sporter@spdcares.com
END:VEVENT
BEGIN:VEVENT
DTSTART;TZID=America/Chicago:20250709T090000
DTEND;TZID=America/Chicago:20250709T100000
DTSTAMP:20260421T084842
CREATED:20230630T165814Z
LAST-MODIFIED:20230630T165814Z
UID:20052-1752051600-1752055200@streamwoodparks.org
SUMMARY:Aqua Fit
DESCRIPTION:INSTRUCTOR: MARY \nAqua Fit is a challenging water workout fit for everyone\, especially those with joint ailments or injuries. The class begins with a gentle warm-up and from there\, you’ll ease into exercises using your own body weight and water-resistance dumbbells. This 60-minute cardio and resistance training class will have you splashing your way to improved strength and overall refreshment.
URL:https://streamwoodparks.org/event/aqua-fit/2025-07-09/
LOCATION:Park Place Family Recreation Center\, 550 S. Park Blvd.\, Park Place Family Rec Center\, Streamwood\, IL\, 60107\, United States
CATEGORIES:Recreation
ORGANIZER;CN="Adam Vasquez":MAILTO:avasquez@spdcares.com
END:VEVENT
BEGIN:VEVENT
DTSTART;TZID=America/Chicago:20250709T093000
DTEND;TZID=America/Chicago:20250709T101500
DTSTAMP:20260421T084842
CREATED:20231128T192330Z
LAST-MODIFIED:20240112T153415Z
UID:25346-1752053400-1752056100@streamwoodparks.org
SUMMARY:Stretch Infusion
DESCRIPTION:Instructor: Cathy \nFloor-based mat class designed for everyone. Non-impact\, safe\, and effective\, you
URL:https://streamwoodparks.org/event/stretch-infusion/2025-07-09/
LOCATION:Park Place Family Recreation Center\, 550 S. Park Blvd.\, Park Place Family Rec Center\, Streamwood\, IL\, 60107\, United States
ORGANIZER;CN="Adam Vasquez":MAILTO:avasquez@spdcares.com
END:VEVENT
BEGIN:VEVENT
DTSTART;TZID=America/Chicago:20250709T171000
DTEND;TZID=America/Chicago:20250709T181000
DTSTAMP:20260421T084842
CREATED:20230630T173629Z
LAST-MODIFIED:20230630T173629Z
UID:21821-1752081000-1752084600@streamwoodparks.org
SUMMARY:Jazzercise®
DESCRIPTION:
URL:https://streamwoodparks.org/event/jazzercise/2025-07-09/
LOCATION:Park Place Family Recreation Center\, 550 S. Park Blvd.\, Park Place Family Rec Center\, Streamwood\, IL\, 60107\, United States
CATEGORIES:Recreation
ORGANIZER;CN="Adam Vasquez":MAILTO:avasquez@spdcares.com
END:VEVENT
END:VCALENDAR