BEGIN:VCALENDAR
VERSION:2.0
PRODID:-//Streamwood Park District - ECPv6.15.18//NONSGML v1.0//EN
CALSCALE:GREGORIAN
METHOD:PUBLISH
X-WR-CALNAME:Streamwood Park District
X-ORIGINAL-URL:https://streamwoodparks.org
X-WR-CALDESC:Events for Streamwood Park District
REFRESH-INTERVAL;VALUE=DURATION:PT1H
X-Robots-Tag:noindex
X-PUBLISHED-TTL:PT1H
BEGIN:VTIMEZONE
TZID:America/Chicago
BEGIN:DAYLIGHT
TZOFFSETFROM:-0600
TZOFFSETTO:-0500
TZNAME:CDT
DTSTART:20240310T080000
END:DAYLIGHT
BEGIN:STANDARD
TZOFFSETFROM:-0500
TZOFFSETTO:-0600
TZNAME:CST
DTSTART:20241103T070000
END:STANDARD
BEGIN:DAYLIGHT
TZOFFSETFROM:-0600
TZOFFSETTO:-0500
TZNAME:CDT
DTSTART:20250309T080000
END:DAYLIGHT
BEGIN:STANDARD
TZOFFSETFROM:-0500
TZOFFSETTO:-0600
TZNAME:CST
DTSTART:20251102T070000
END:STANDARD
BEGIN:DAYLIGHT
TZOFFSETFROM:-0600
TZOFFSETTO:-0500
TZNAME:CDT
DTSTART:20260308T080000
END:DAYLIGHT
BEGIN:STANDARD
TZOFFSETFROM:-0500
TZOFFSETTO:-0600
TZNAME:CST
DTSTART:20261101T070000
END:STANDARD
END:VTIMEZONE
BEGIN:VEVENT
DTSTART;TZID=America/Chicago:20250506T171000
DTEND;TZID=America/Chicago:20250506T181000
DTSTAMP:20260420T131253
CREATED:20230630T173629Z
LAST-MODIFIED:20230630T173629Z
UID:21772-1746551400-1746555000@streamwoodparks.org
SUMMARY:Jazzercise®
DESCRIPTION:
URL:https://streamwoodparks.org/event/jazzercise/2025-05-06/
LOCATION:Park Place Family Recreation Center\, 550 S. Park Blvd.\, Park Place Family Rec Center\, Streamwood\, IL\, 60107\, United States
CATEGORIES:Recreation
ORGANIZER;CN="Adam Vasquez":MAILTO:avasquez@spdcares.com
END:VEVENT
BEGIN:VEVENT
DTSTART;TZID=America/Chicago:20250507T090000
DTEND;TZID=America/Chicago:20250507T100000
DTSTAMP:20260420T131253
CREATED:20230630T165814Z
LAST-MODIFIED:20230630T165814Z
UID:20025-1746608400-1746612000@streamwoodparks.org
SUMMARY:Aqua Fit
DESCRIPTION:INSTRUCTOR: MARY \nAqua Fit is a challenging water workout fit for everyone\, especially those with joint ailments or injuries. The class begins with a gentle warm-up and from there\, you’ll ease into exercises using your own body weight and water-resistance dumbbells. This 60-minute cardio and resistance training class will have you splashing your way to improved strength and overall refreshment.
URL:https://streamwoodparks.org/event/aqua-fit/2025-05-07/
LOCATION:Park Place Family Recreation Center\, 550 S. Park Blvd.\, Park Place Family Rec Center\, Streamwood\, IL\, 60107\, United States
CATEGORIES:Recreation
ORGANIZER;CN="Adam Vasquez":MAILTO:avasquez@spdcares.com
END:VEVENT
BEGIN:VEVENT
DTSTART;TZID=America/Chicago:20250507T093000
DTEND;TZID=America/Chicago:20250507T101500
DTSTAMP:20260420T131253
CREATED:20231128T192330Z
LAST-MODIFIED:20240112T153358Z
UID:25319-1746610200-1746612900@streamwoodparks.org
SUMMARY:Stretch Infusion
DESCRIPTION:Instructor: Cathy \nFloor-based mat class designed for everyone. Non-impact\, safe\, and effective\, you
URL:https://streamwoodparks.org/event/stretch-infusion/2025-05-07/
LOCATION:Park Place Family Recreation Center\, 550 S. Park Blvd.\, Park Place Family Rec Center\, Streamwood\, IL\, 60107\, United States
ORGANIZER;CN="Adam Vasquez":MAILTO:avasquez@spdcares.com
END:VEVENT
BEGIN:VEVENT
DTSTART;TZID=America/Chicago:20250507T171000
DTEND;TZID=America/Chicago:20250507T181000
DTSTAMP:20260420T131253
CREATED:20230630T173629Z
LAST-MODIFIED:20230630T173629Z
UID:21773-1746637800-1746641400@streamwoodparks.org
SUMMARY:Jazzercise®
DESCRIPTION:
URL:https://streamwoodparks.org/event/jazzercise/2025-05-07/
LOCATION:Park Place Family Recreation Center\, 550 S. Park Blvd.\, Park Place Family Rec Center\, Streamwood\, IL\, 60107\, United States
CATEGORIES:Recreation
ORGANIZER;CN="Adam Vasquez":MAILTO:avasquez@spdcares.com
END:VEVENT
BEGIN:VEVENT
DTSTART;TZID=America/Chicago:20250507T183000
DTEND;TZID=America/Chicago:20250507T193000
DTSTAMP:20260420T131253
CREATED:20230630T170050Z
LAST-MODIFIED:20230919T144526Z
UID:20252-1746642600-1746646200@streamwoodparks.org
SUMMARY:Spin®
DESCRIPTION:INSTRUCTOR: CATHY \nGet your sweat on to time or music-based aerobic endurance\, conditioning\, and anaerobic interval training motivated by expert instruction. Classes focus on drills that build power and endurance on the bike and brief\, high-intensity bursts that push past your anaerobic threshold to increase your cycling power.
URL:https://streamwoodparks.org/event/spin/2025-05-07/
LOCATION:Park Place Family Recreation Center\, 550 S. Park Blvd.\, Park Place Family Rec Center\, Streamwood\, IL\, 60107\, United States
CATEGORIES:Recreation
ORGANIZER;CN="Adam Vasquez":MAILTO:avasquez@spdcares.com
END:VEVENT
BEGIN:VEVENT
DTSTART;TZID=America/Chicago:20250508T084000
DTEND;TZID=America/Chicago:20250508T094000
DTSTAMP:20260420T131253
CREATED:20230630T173629Z
LAST-MODIFIED:20230921T155903Z
UID:18675-1746693600-1746697200@streamwoodparks.org
SUMMARY:Jazzercise®
DESCRIPTION:
URL:https://streamwoodparks.org/event/jazzercise/2025-05-08/
LOCATION:Park Place Family Recreation Center\, 550 S. Park Blvd.\, Park Place Family Rec Center\, Streamwood\, IL\, 60107\, United States
CATEGORIES:Recreation
ORGANIZER;CN="Adam Vasquez":MAILTO:avasquez@spdcares.com
END:VEVENT
BEGIN:VEVENT
DTSTART;TZID=America/Chicago:20250508T180000
DTEND;TZID=America/Chicago:20250508T200000
DTSTAMP:20260420T131253
CREATED:20250303T204838Z
LAST-MODIFIED:20250303T204838Z
UID:28414-1746727200-1746734400@streamwoodparks.org
SUMMARY:Wine + Yoga
DESCRIPTION:Unwind with a relaxing yoga session followed by a wine tasting! Enjoy a 60-minute all-levels yoga class to relax your body and mind\, then savor a curated selection of wines to compliment\nthe calming atmosphere.
URL:https://streamwoodparks.org/event/wine-yoga/
LOCATION:Hoosier Grove Barn\, 700 W. Irving Park Road\, Streamwood\, IL\, 60107\, United States
CATEGORIES:Events,Recreation,Special Event
ATTACH;FMTTYPE=image/png:https://streamwoodparks.org/wp-content/uploads/2025/03/FB-Event-Photo-WineYoga-25.png
ORGANIZER;CN="Mallory Lorence":MAILTO:mlorence@spdcares.com
END:VEVENT
BEGIN:VEVENT
DTSTART;TZID=America/Chicago:20250509T090000
DTEND;TZID=America/Chicago:20250509T100000
DTSTAMP:20260420T131253
CREATED:20230630T165814Z
LAST-MODIFIED:20230630T165814Z
UID:20026-1746781200-1746784800@streamwoodparks.org
SUMMARY:Aqua Fit
DESCRIPTION:INSTRUCTOR: MARY \nAqua Fit is a challenging water workout fit for everyone\, especially those with joint ailments or injuries. The class begins with a gentle warm-up and from there\, you’ll ease into exercises using your own body weight and water-resistance dumbbells. This 60-minute cardio and resistance training class will have you splashing your way to improved strength and overall refreshment.
URL:https://streamwoodparks.org/event/aqua-fit/2025-05-09/
LOCATION:Park Place Family Recreation Center\, 550 S. Park Blvd.\, Park Place Family Rec Center\, Streamwood\, IL\, 60107\, United States
CATEGORIES:Recreation
ORGANIZER;CN="Adam Vasquez":MAILTO:avasquez@spdcares.com
END:VEVENT
BEGIN:VEVENT
DTSTART;TZID=America/Chicago:20250509T090000
DTEND;TZID=America/Chicago:20250509T100000
DTSTAMP:20260420T131253
CREATED:20230630T170050Z
LAST-MODIFIED:20230919T144527Z
UID:20253-1746781200-1746784800@streamwoodparks.org
SUMMARY:Spin®
DESCRIPTION:INSTRUCTOR: CATHY \nGet your sweat on to time or music-based aerobic endurance\, conditioning\, and anaerobic interval training motivated by expert instruction. Classes focus on drills that build power and endurance on the bike and brief\, high-intensity bursts that push past your anaerobic threshold to increase your cycling power.
URL:https://streamwoodparks.org/event/spin/2025-05-09/
LOCATION:Park Place Family Recreation Center\, 550 S. Park Blvd.\, Park Place Family Rec Center\, Streamwood\, IL\, 60107\, United States
CATEGORIES:Recreation
ORGANIZER;CN="Adam Vasquez":MAILTO:avasquez@spdcares.com
END:VEVENT
BEGIN:VEVENT
DTSTART;TZID=America/Chicago:20250509T101500
DTEND;TZID=America/Chicago:20250509T110000
DTSTAMP:20260420T131253
CREATED:20231128T192330Z
LAST-MODIFIED:20240112T153358Z
UID:25321-1746785700-1746788400@streamwoodparks.org
SUMMARY:Stretch Infusion
DESCRIPTION:Instructor: Cathy \nFloor-based mat class designed for everyone. Non-impact\, safe\, and effective\, you
URL:https://streamwoodparks.org/event/stretch-infusion/2025-05-09/
LOCATION:Park Place Family Recreation Center\, 550 S. Park Blvd.\, Park Place Family Rec Center\, Streamwood\, IL\, 60107\, United States
ORGANIZER;CN="Adam Vasquez":MAILTO:avasquez@spdcares.com
END:VEVENT
BEGIN:VEVENT
DTSTART;TZID=America/Chicago:20250509T171000
DTEND;TZID=America/Chicago:20250509T181000
DTSTAMP:20260420T131253
CREATED:20230630T173629Z
LAST-MODIFIED:20230630T173629Z
UID:21774-1746810600-1746814200@streamwoodparks.org
SUMMARY:Jazzercise®
DESCRIPTION:
URL:https://streamwoodparks.org/event/jazzercise/2025-05-09/
LOCATION:Park Place Family Recreation Center\, 550 S. Park Blvd.\, Park Place Family Rec Center\, Streamwood\, IL\, 60107\, United States
CATEGORIES:Recreation
ORGANIZER;CN="Adam Vasquez":MAILTO:avasquez@spdcares.com
END:VEVENT
BEGIN:VEVENT
DTSTART;TZID=America/Chicago:20250510T070000
DTEND;TZID=America/Chicago:20250510T080000
DTSTAMP:20260420T131253
CREATED:20240306T192554Z
LAST-MODIFIED:20240306T192554Z
UID:26800-1746860400-1746864000@streamwoodparks.org
SUMMARY:Alignment Yoga
DESCRIPTION:with Diane \nThis all-levels class is a slow-paced flow with a focus on the foundations of postures.  The class has a combination of mobility\, strength\, and alignment drills that enhance any level of practitioner interested in developing more awareness in breath and movement.
URL:https://streamwoodparks.org/event/alignment-yoga/2025-05-10/
LOCATION:Park Place Family Recreation Center\, 550 S. Park Blvd.\, Park Place Family Rec Center\, Streamwood\, IL\, 60107\, United States
CATEGORIES:Recreation
ORGANIZER;CN="Adam Vasquez":MAILTO:avasquez@spdcares.com
END:VEVENT
BEGIN:VEVENT
DTSTART;TZID=America/Chicago:20250510T083000
DTEND;TZID=America/Chicago:20250510T093000
DTSTAMP:20260420T131253
CREATED:20240110T175054Z
LAST-MODIFIED:20240110T175054Z
UID:26334-1746865800-1746869400@streamwoodparks.org
SUMMARY:Boot Camp
DESCRIPTION:with Debbie & Cari \nWork at your own pace and ability as your instructor takes you through a series of both strength training and cardio full body movements that will help you improve your strength\, power\, and movement. Class variety designed to push and challenge the body.
URL:https://streamwoodparks.org/event/boot-camp/2025-05-10/
LOCATION:Park Place Family Recreation Center\, 550 S. Park Blvd.\, Park Place Family Rec Center\, Streamwood\, IL\, 60107\, United States
CATEGORIES:Recreation
ORGANIZER;CN="Adam Vasquez":MAILTO:avasquez@spdcares.com
END:VEVENT
BEGIN:VEVENT
DTSTART;TZID=America/Chicago:20250511T104500
DTEND;TZID=America/Chicago:20250511T114500
DTSTAMP:20260420T131253
CREATED:20230630T173629Z
LAST-MODIFIED:20230630T173629Z
UID:21775-1746960300-1746963900@streamwoodparks.org
SUMMARY:Jazzercise®
DESCRIPTION:
URL:https://streamwoodparks.org/event/jazzercise/2025-05-11/
LOCATION:Park Place Family Recreation Center\, 550 S. Park Blvd.\, Park Place Family Rec Center\, Streamwood\, IL\, 60107\, United States
CATEGORIES:Recreation
ORGANIZER;CN="Adam Vasquez":MAILTO:avasquez@spdcares.com
END:VEVENT
BEGIN:VEVENT
DTSTART;TZID=America/Chicago:20250512T083000
DTEND;TZID=America/Chicago:20250512T091500
DTSTAMP:20260420T131253
CREATED:20231127T201901Z
LAST-MODIFIED:20231127T201901Z
UID:24092-1747038600-1747041300@streamwoodparks.org
SUMMARY:Interval Training
DESCRIPTION:with Lisa \nThis high-intensity interval training class combines calisthenics\, plyometrics\, and bodyweight exercises in cardio intervals. Exercises are done in time bursts with short recovery periods\, with a goal of reaching an anaerobic state\, increasing metabolism for 24-72 hours after the workout.
URL:https://streamwoodparks.org/event/interval-training-2/2025-05-12/
LOCATION:Park Place Family Recreation Center\, 550 S. Park Blvd.\, Park Place Family Rec Center\, Streamwood\, IL\, 60107\, United States
ORGANIZER;CN="Adam Vasquez":MAILTO:avasquez@spdcares.com
END:VEVENT
BEGIN:VEVENT
DTSTART;TZID=America/Chicago:20250512T090000
DTEND;TZID=America/Chicago:20250512T100000
DTSTAMP:20260420T131253
CREATED:20230630T165814Z
LAST-MODIFIED:20230630T165814Z
UID:20027-1747040400-1747044000@streamwoodparks.org
SUMMARY:Aqua Fit
DESCRIPTION:INSTRUCTOR: MARY \nAqua Fit is a challenging water workout fit for everyone\, especially those with joint ailments or injuries. The class begins with a gentle warm-up and from there\, you’ll ease into exercises using your own body weight and water-resistance dumbbells. This 60-minute cardio and resistance training class will have you splashing your way to improved strength and overall refreshment.
URL:https://streamwoodparks.org/event/aqua-fit/2025-05-12/
LOCATION:Park Place Family Recreation Center\, 550 S. Park Blvd.\, Park Place Family Rec Center\, Streamwood\, IL\, 60107\, United States
CATEGORIES:Recreation
ORGANIZER;CN="Adam Vasquez":MAILTO:avasquez@spdcares.com
END:VEVENT
BEGIN:VEVENT
DTSTART;TZID=America/Chicago:20250512T093000
DTEND;TZID=America/Chicago:20250512T103000
DTSTAMP:20260420T131253
CREATED:20230630T170050Z
LAST-MODIFIED:20230630T170050Z
UID:21044-1747042200-1747045800@streamwoodparks.org
SUMMARY:Spin®
DESCRIPTION:INSTRUCTOR: CATHY \nGet your sweat on to time or music-based aerobic endurance\, conditioning\, and anaerobic interval training motivated by expert instruction. Classes focus on drills that build power and endurance on the bike and brief\, high-intensity bursts that push past your anaerobic threshold to increase your cycling power.
URL:https://streamwoodparks.org/event/spin/2025-05-12/
LOCATION:Park Place Family Recreation Center\, 550 S. Park Blvd.\, Park Place Family Rec Center\, Streamwood\, IL\, 60107\, United States
CATEGORIES:Recreation
ORGANIZER;CN="Adam Vasquez":MAILTO:avasquez@spdcares.com
END:VEVENT
BEGIN:VEVENT
DTSTART;TZID=America/Chicago:20250512T171000
DTEND;TZID=America/Chicago:20250512T181000
DTSTAMP:20260420T131253
CREATED:20230630T173629Z
LAST-MODIFIED:20230630T173629Z
UID:21776-1747069800-1747073400@streamwoodparks.org
SUMMARY:Jazzercise®
DESCRIPTION:
URL:https://streamwoodparks.org/event/jazzercise/2025-05-12/
LOCATION:Park Place Family Recreation Center\, 550 S. Park Blvd.\, Park Place Family Rec Center\, Streamwood\, IL\, 60107\, United States
CATEGORIES:Recreation
ORGANIZER;CN="Adam Vasquez":MAILTO:avasquez@spdcares.com
END:VEVENT
BEGIN:VEVENT
DTSTART;TZID=America/Chicago:20250513T080000
DTEND;TZID=America/Chicago:20250513T170000
DTSTAMP:20260420T131253
CREATED:20250513T182132Z
LAST-MODIFIED:20250513T182257Z
UID:28735-1747123200-1747155600@streamwoodparks.org
SUMMARY:Summer Dance Camp
DESCRIPTION:Join Ms. Gina for a fun\, themed dance camp. We will learn a ballet/ Jazz dance\, play games\, and make a theme craft each day. The last day of camp parents are invited for the last 10 minutes to watch the dances learned. \nLearn More!
URL:https://streamwoodparks.org/event/summer-dance-camp/
LOCATION:Park Place Family Recreation Center\, 550 S. Park Blvd.\, Park Place Family Rec Center\, Streamwood\, IL\, 60107\, United States
CATEGORIES:Cultural Arts,Programs,Recreation
ATTACH;FMTTYPE=image/png:https://streamwoodparks.org/wp-content/uploads/2025/05/WebEvent-DanceCamp.png
ORGANIZER;CN="Gina McNamara":MAILTO:danceacademy@spdcares.com
END:VEVENT
BEGIN:VEVENT
DTSTART;TZID=America/Chicago:20250513T084000
DTEND;TZID=America/Chicago:20250513T094000
DTSTAMP:20260420T131253
CREATED:20230630T173629Z
LAST-MODIFIED:20230921T155904Z
UID:18676-1747125600-1747129200@streamwoodparks.org
SUMMARY:Jazzercise®
DESCRIPTION:
URL:https://streamwoodparks.org/event/jazzercise/2025-05-13/
LOCATION:Park Place Family Recreation Center\, 550 S. Park Blvd.\, Park Place Family Rec Center\, Streamwood\, IL\, 60107\, United States
CATEGORIES:Recreation
ORGANIZER;CN="Adam Vasquez":MAILTO:avasquez@spdcares.com
END:VEVENT
BEGIN:VEVENT
DTSTART;TZID=America/Chicago:20250513T171000
DTEND;TZID=America/Chicago:20250513T181000
DTSTAMP:20260420T131253
CREATED:20230630T173629Z
LAST-MODIFIED:20230630T173629Z
UID:21777-1747156200-1747159800@streamwoodparks.org
SUMMARY:Jazzercise®
DESCRIPTION:
URL:https://streamwoodparks.org/event/jazzercise/2025-05-13/
LOCATION:Park Place Family Recreation Center\, 550 S. Park Blvd.\, Park Place Family Rec Center\, Streamwood\, IL\, 60107\, United States
CATEGORIES:Recreation
ORGANIZER;CN="Adam Vasquez":MAILTO:avasquez@spdcares.com
END:VEVENT
BEGIN:VEVENT
DTSTART;TZID=America/Chicago:20250514T090000
DTEND;TZID=America/Chicago:20250514T100000
DTSTAMP:20260420T131253
CREATED:20230630T165814Z
LAST-MODIFIED:20230630T165814Z
UID:20028-1747213200-1747216800@streamwoodparks.org
SUMMARY:Aqua Fit
DESCRIPTION:INSTRUCTOR: MARY \nAqua Fit is a challenging water workout fit for everyone\, especially those with joint ailments or injuries. The class begins with a gentle warm-up and from there\, you’ll ease into exercises using your own body weight and water-resistance dumbbells. This 60-minute cardio and resistance training class will have you splashing your way to improved strength and overall refreshment.
URL:https://streamwoodparks.org/event/aqua-fit/2025-05-14/
LOCATION:Park Place Family Recreation Center\, 550 S. Park Blvd.\, Park Place Family Rec Center\, Streamwood\, IL\, 60107\, United States
CATEGORIES:Recreation
ORGANIZER;CN="Adam Vasquez":MAILTO:avasquez@spdcares.com
END:VEVENT
BEGIN:VEVENT
DTSTART;TZID=America/Chicago:20250514T093000
DTEND;TZID=America/Chicago:20250514T101500
DTSTAMP:20260420T131253
CREATED:20231128T192330Z
LAST-MODIFIED:20240112T153359Z
UID:25322-1747215000-1747217700@streamwoodparks.org
SUMMARY:Stretch Infusion
DESCRIPTION:Instructor: Cathy \nFloor-based mat class designed for everyone. Non-impact\, safe\, and effective\, you
URL:https://streamwoodparks.org/event/stretch-infusion/2025-05-14/
LOCATION:Park Place Family Recreation Center\, 550 S. Park Blvd.\, Park Place Family Rec Center\, Streamwood\, IL\, 60107\, United States
ORGANIZER;CN="Adam Vasquez":MAILTO:avasquez@spdcares.com
END:VEVENT
BEGIN:VEVENT
DTSTART;TZID=America/Chicago:20250514T170000
DTEND;TZID=America/Chicago:20250514T173000
DTSTAMP:20260420T131253
CREATED:20250228T203413Z
LAST-MODIFIED:20250228T203413Z
UID:28359-1747242000-1747243800@streamwoodparks.org
SUMMARY:Wave Martial Arts Begins
DESCRIPTION:Step onto the mat and unleash your potential! Our classes offer an exciting blend of fitness\, discipline\, and self-defense\, designed for all ages and skill levels. Students will develop strength\, agility\, and confidence through dynamic kicks\, powerful strikes\, and focused training. Led by experienced instructors\, each session fosters respect\, perseverance\, and a strong mind-body connection. Whether you’re a beginner or an experienced martial artist\, join us and take your skills to the next level!
URL:https://streamwoodparks.org/event/wave-martial-arts-begins-3/2025-05-14/
LOCATION:Wave MA\, 1050 E Schaumburg Road\, Streamwood\, IL\, 60107
CATEGORIES:Athletics,Programs,Recreation
ATTACH;FMTTYPE=image/png:https://streamwoodparks.org/wp-content/uploads/2025/02/FB-Event-Photo-WaveMA-25.png
END:VEVENT
BEGIN:VEVENT
DTSTART;TZID=America/Chicago:20250514T170000
DTEND;TZID=America/Chicago:20250514T173000
DTSTAMP:20260420T131253
CREATED:20250513T140949Z
LAST-MODIFIED:20250513T140949Z
UID:28707-1747242000-1747243800@streamwoodparks.org
SUMMARY:Wave Martial Arts Begins
DESCRIPTION:Step onto the mat and unleash your potential! Our classes offer an exciting blend of fitness\, discipline\, and self-defense\, designed for all ages and skill levels. Students will develop strength\, agility\, and confidence through dynamic kicks\, powerful strikes\, and focused training. Led by experienced instructors\, each session fosters respect\, perseverance\, and a strong mind-body connection. Whether you’re a beginner or an experienced martial artist\, join us and take your skills to the next level!  \nLittle Dragons: 3 – 6 year olds\nKarate Kids: 7 – 14 year olds \nLearn More!
URL:https://streamwoodparks.org/event/wave-martial-arts-begins-4/2025-05-14/
LOCATION:Wave MA\, 1050 E Schaumburg Road\, Streamwood\, IL\, 60107
CATEGORIES:Athletics,Programs,Recreation
ATTACH;FMTTYPE=image/png:https://streamwoodparks.org/wp-content/uploads/2024/05/WebEvent-Wave-MA.png
ORGANIZER;CN="Adam Vasquez":MAILTO:avasquez@spdcares.com
END:VEVENT
BEGIN:VEVENT
DTSTART;TZID=America/Chicago:20250514T171000
DTEND;TZID=America/Chicago:20250514T181000
DTSTAMP:20260420T131253
CREATED:20230630T173629Z
LAST-MODIFIED:20230630T173629Z
UID:21778-1747242600-1747246200@streamwoodparks.org
SUMMARY:Jazzercise®
DESCRIPTION:
URL:https://streamwoodparks.org/event/jazzercise/2025-05-14/
LOCATION:Park Place Family Recreation Center\, 550 S. Park Blvd.\, Park Place Family Rec Center\, Streamwood\, IL\, 60107\, United States
CATEGORIES:Recreation
ORGANIZER;CN="Adam Vasquez":MAILTO:avasquez@spdcares.com
END:VEVENT
BEGIN:VEVENT
DTSTART;TZID=America/Chicago:20250514T183000
DTEND;TZID=America/Chicago:20250514T193000
DTSTAMP:20260420T131253
CREATED:20230630T170050Z
LAST-MODIFIED:20230919T144529Z
UID:20254-1747247400-1747251000@streamwoodparks.org
SUMMARY:Spin®
DESCRIPTION:INSTRUCTOR: CATHY \nGet your sweat on to time or music-based aerobic endurance\, conditioning\, and anaerobic interval training motivated by expert instruction. Classes focus on drills that build power and endurance on the bike and brief\, high-intensity bursts that push past your anaerobic threshold to increase your cycling power.
URL:https://streamwoodparks.org/event/spin/2025-05-14/
LOCATION:Park Place Family Recreation Center\, 550 S. Park Blvd.\, Park Place Family Rec Center\, Streamwood\, IL\, 60107\, United States
CATEGORIES:Recreation
ORGANIZER;CN="Adam Vasquez":MAILTO:avasquez@spdcares.com
END:VEVENT
BEGIN:VEVENT
DTSTART;TZID=America/Chicago:20250515T084000
DTEND;TZID=America/Chicago:20250515T094000
DTSTAMP:20260420T131253
CREATED:20230630T173629Z
LAST-MODIFIED:20230921T155904Z
UID:18677-1747298400-1747302000@streamwoodparks.org
SUMMARY:Jazzercise®
DESCRIPTION:
URL:https://streamwoodparks.org/event/jazzercise/2025-05-15/
LOCATION:Park Place Family Recreation Center\, 550 S. Park Blvd.\, Park Place Family Rec Center\, Streamwood\, IL\, 60107\, United States
CATEGORIES:Recreation
ORGANIZER;CN="Adam Vasquez":MAILTO:avasquez@spdcares.com
END:VEVENT
BEGIN:VEVENT
DTSTART;TZID=America/Chicago:20250516T090000
DTEND;TZID=America/Chicago:20250516T100000
DTSTAMP:20260420T131253
CREATED:20230630T165814Z
LAST-MODIFIED:20230630T165814Z
UID:20029-1747386000-1747389600@streamwoodparks.org
SUMMARY:Aqua Fit
DESCRIPTION:INSTRUCTOR: MARY \nAqua Fit is a challenging water workout fit for everyone\, especially those with joint ailments or injuries. The class begins with a gentle warm-up and from there\, you’ll ease into exercises using your own body weight and water-resistance dumbbells. This 60-minute cardio and resistance training class will have you splashing your way to improved strength and overall refreshment.
URL:https://streamwoodparks.org/event/aqua-fit/2025-05-16/
LOCATION:Park Place Family Recreation Center\, 550 S. Park Blvd.\, Park Place Family Rec Center\, Streamwood\, IL\, 60107\, United States
CATEGORIES:Recreation
ORGANIZER;CN="Adam Vasquez":MAILTO:avasquez@spdcares.com
END:VEVENT
BEGIN:VEVENT
DTSTART;TZID=America/Chicago:20250516T090000
DTEND;TZID=America/Chicago:20250516T100000
DTSTAMP:20260420T131253
CREATED:20230630T170050Z
LAST-MODIFIED:20230919T144530Z
UID:20255-1747386000-1747389600@streamwoodparks.org
SUMMARY:Spin®
DESCRIPTION:INSTRUCTOR: CATHY \nGet your sweat on to time or music-based aerobic endurance\, conditioning\, and anaerobic interval training motivated by expert instruction. Classes focus on drills that build power and endurance on the bike and brief\, high-intensity bursts that push past your anaerobic threshold to increase your cycling power.
URL:https://streamwoodparks.org/event/spin/2025-05-16/
LOCATION:Park Place Family Recreation Center\, 550 S. Park Blvd.\, Park Place Family Rec Center\, Streamwood\, IL\, 60107\, United States
CATEGORIES:Recreation
ORGANIZER;CN="Adam Vasquez":MAILTO:avasquez@spdcares.com
END:VEVENT
END:VCALENDAR