BEGIN:VCALENDAR
VERSION:2.0
PRODID:-//Streamwood Park District - ECPv6.15.18//NONSGML v1.0//EN
CALSCALE:GREGORIAN
METHOD:PUBLISH
X-ORIGINAL-URL:https://streamwoodparks.org
X-WR-CALDESC:Events for Streamwood Park District
REFRESH-INTERVAL;VALUE=DURATION:PT1H
X-Robots-Tag:noindex
X-PUBLISHED-TTL:PT1H
BEGIN:VTIMEZONE
TZID:America/Chicago
BEGIN:DAYLIGHT
TZOFFSETFROM:-0600
TZOFFSETTO:-0500
TZNAME:CDT
DTSTART:20240310T080000
END:DAYLIGHT
BEGIN:STANDARD
TZOFFSETFROM:-0500
TZOFFSETTO:-0600
TZNAME:CST
DTSTART:20241103T070000
END:STANDARD
BEGIN:DAYLIGHT
TZOFFSETFROM:-0600
TZOFFSETTO:-0500
TZNAME:CDT
DTSTART:20250309T080000
END:DAYLIGHT
BEGIN:STANDARD
TZOFFSETFROM:-0500
TZOFFSETTO:-0600
TZNAME:CST
DTSTART:20251102T070000
END:STANDARD
BEGIN:DAYLIGHT
TZOFFSETFROM:-0600
TZOFFSETTO:-0500
TZNAME:CDT
DTSTART:20260308T080000
END:DAYLIGHT
BEGIN:STANDARD
TZOFFSETFROM:-0500
TZOFFSETTO:-0600
TZNAME:CST
DTSTART:20261101T070000
END:STANDARD
END:VTIMEZONE
BEGIN:VEVENT
DTSTART;TZID=America/Chicago:20250221T090000
DTEND;TZID=America/Chicago:20250221T100000
DTSTAMP:20260420T123822
CREATED:20230630T165814Z
LAST-MODIFIED:20230630T165814Z
UID:19993-1740128400-1740132000@streamwoodparks.org
SUMMARY:Aqua Fit
DESCRIPTION:INSTRUCTOR: MARY \nAqua Fit is a challenging water workout fit for everyone\, especially those with joint ailments or injuries. The class begins with a gentle warm-up and from there\, you’ll ease into exercises using your own body weight and water-resistance dumbbells. This 60-minute cardio and resistance training class will have you splashing your way to improved strength and overall refreshment.
URL:https://streamwoodparks.org/event/aqua-fit/2025-02-21/
LOCATION:Park Place Family Recreation Center\, 550 S. Park Blvd.\, Park Place Family Rec Center\, Streamwood\, IL\, 60107\, United States
CATEGORIES:Recreation
ORGANIZER;CN="Adam Vasquez":MAILTO:avasquez@spdcares.com
END:VEVENT
BEGIN:VEVENT
DTSTART;TZID=America/Chicago:20250221T090000
DTEND;TZID=America/Chicago:20250221T100000
DTSTAMP:20260420T123822
CREATED:20230630T170050Z
LAST-MODIFIED:20230919T144506Z
UID:20231-1740128400-1740132000@streamwoodparks.org
SUMMARY:Spin®
DESCRIPTION:INSTRUCTOR: CATHY \nGet your sweat on to time or music-based aerobic endurance\, conditioning\, and anaerobic interval training motivated by expert instruction. Classes focus on drills that build power and endurance on the bike and brief\, high-intensity bursts that push past your anaerobic threshold to increase your cycling power.
URL:https://streamwoodparks.org/event/spin/2025-02-21/
LOCATION:Park Place Family Recreation Center\, 550 S. Park Blvd.\, Park Place Family Rec Center\, Streamwood\, IL\, 60107\, United States
CATEGORIES:Recreation
ORGANIZER;CN="Adam Vasquez":MAILTO:avasquez@spdcares.com
END:VEVENT
BEGIN:VEVENT
DTSTART;TZID=America/Chicago:20250221T101500
DTEND;TZID=America/Chicago:20250221T110000
DTSTAMP:20260420T123822
CREATED:20231128T192330Z
LAST-MODIFIED:20240112T153347Z
UID:25288-1740132900-1740135600@streamwoodparks.org
SUMMARY:Stretch Infusion
DESCRIPTION:Instructor: Cathy \nFloor-based mat class designed for everyone. Non-impact\, safe\, and effective\, you
URL:https://streamwoodparks.org/event/stretch-infusion/2025-02-21/
LOCATION:Park Place Family Recreation Center\, 550 S. Park Blvd.\, Park Place Family Rec Center\, Streamwood\, IL\, 60107\, United States
ORGANIZER;CN="Adam Vasquez":MAILTO:avasquez@spdcares.com
END:VEVENT
BEGIN:VEVENT
DTSTART;TZID=America/Chicago:20250221T171000
DTEND;TZID=America/Chicago:20250221T181000
DTSTAMP:20260420T123822
CREATED:20230630T173629Z
LAST-MODIFIED:20230630T173629Z
UID:21719-1740157800-1740161400@streamwoodparks.org
SUMMARY:Jazzercise®
DESCRIPTION:
URL:https://streamwoodparks.org/event/jazzercise/2025-02-21/
LOCATION:Park Place Family Recreation Center\, 550 S. Park Blvd.\, Park Place Family Rec Center\, Streamwood\, IL\, 60107\, United States
CATEGORIES:Recreation
ORGANIZER;CN="Adam Vasquez":MAILTO:avasquez@spdcares.com
END:VEVENT
BEGIN:VEVENT
DTSTART;TZID=America/Chicago:20250222T070000
DTEND;TZID=America/Chicago:20250222T080000
DTSTAMP:20260420T123822
CREATED:20240306T192554Z
LAST-MODIFIED:20240306T192554Z
UID:26789-1740207600-1740211200@streamwoodparks.org
SUMMARY:Alignment Yoga
DESCRIPTION:with Diane \nThis all-levels class is a slow-paced flow with a focus on the foundations of postures.  The class has a combination of mobility\, strength\, and alignment drills that enhance any level of practitioner interested in developing more awareness in breath and movement.
URL:https://streamwoodparks.org/event/alignment-yoga/2025-02-22/
LOCATION:Park Place Family Recreation Center\, 550 S. Park Blvd.\, Park Place Family Rec Center\, Streamwood\, IL\, 60107\, United States
CATEGORIES:Recreation
ORGANIZER;CN="Adam Vasquez":MAILTO:avasquez@spdcares.com
END:VEVENT
BEGIN:VEVENT
DTSTART;TZID=America/Chicago:20250222T083000
DTEND;TZID=America/Chicago:20250222T093000
DTSTAMP:20260420T123822
CREATED:20240110T175054Z
LAST-MODIFIED:20240110T175054Z
UID:26323-1740213000-1740216600@streamwoodparks.org
SUMMARY:Boot Camp
DESCRIPTION:with Debbie & Cari \nWork at your own pace and ability as your instructor takes you through a series of both strength training and cardio full body movements that will help you improve your strength\, power\, and movement. Class variety designed to push and challenge the body.
URL:https://streamwoodparks.org/event/boot-camp/2025-02-22/
LOCATION:Park Place Family Recreation Center\, 550 S. Park Blvd.\, Park Place Family Rec Center\, Streamwood\, IL\, 60107\, United States
CATEGORIES:Recreation
ORGANIZER;CN="Adam Vasquez":MAILTO:avasquez@spdcares.com
END:VEVENT
BEGIN:VEVENT
DTSTART;TZID=America/Chicago:20250223T104500
DTEND;TZID=America/Chicago:20250223T114500
DTSTAMP:20260420T123822
CREATED:20230630T173629Z
LAST-MODIFIED:20230630T173629Z
UID:21720-1740307500-1740311100@streamwoodparks.org
SUMMARY:Jazzercise®
DESCRIPTION:
URL:https://streamwoodparks.org/event/jazzercise/2025-02-23/
LOCATION:Park Place Family Recreation Center\, 550 S. Park Blvd.\, Park Place Family Rec Center\, Streamwood\, IL\, 60107\, United States
CATEGORIES:Recreation
ORGANIZER;CN="Adam Vasquez":MAILTO:avasquez@spdcares.com
END:VEVENT
BEGIN:VEVENT
DTSTART;TZID=America/Chicago:20250224T090000
DTEND;TZID=America/Chicago:20250224T100000
DTSTAMP:20260420T123822
CREATED:20230630T165814Z
LAST-MODIFIED:20230630T165814Z
UID:19994-1740387600-1740391200@streamwoodparks.org
SUMMARY:Aqua Fit
DESCRIPTION:INSTRUCTOR: MARY \nAqua Fit is a challenging water workout fit for everyone\, especially those with joint ailments or injuries. The class begins with a gentle warm-up and from there\, you’ll ease into exercises using your own body weight and water-resistance dumbbells. This 60-minute cardio and resistance training class will have you splashing your way to improved strength and overall refreshment.
URL:https://streamwoodparks.org/event/aqua-fit/2025-02-24/
LOCATION:Park Place Family Recreation Center\, 550 S. Park Blvd.\, Park Place Family Rec Center\, Streamwood\, IL\, 60107\, United States
CATEGORIES:Recreation
ORGANIZER;CN="Adam Vasquez":MAILTO:avasquez@spdcares.com
END:VEVENT
BEGIN:VEVENT
DTSTART;TZID=America/Chicago:20250224T093000
DTEND;TZID=America/Chicago:20250224T103000
DTSTAMP:20260420T123822
CREATED:20230630T170050Z
LAST-MODIFIED:20230630T170050Z
UID:21033-1740389400-1740393000@streamwoodparks.org
SUMMARY:Spin®
DESCRIPTION:INSTRUCTOR: CATHY \nGet your sweat on to time or music-based aerobic endurance\, conditioning\, and anaerobic interval training motivated by expert instruction. Classes focus on drills that build power and endurance on the bike and brief\, high-intensity bursts that push past your anaerobic threshold to increase your cycling power.
URL:https://streamwoodparks.org/event/spin/2025-02-24/
LOCATION:Park Place Family Recreation Center\, 550 S. Park Blvd.\, Park Place Family Rec Center\, Streamwood\, IL\, 60107\, United States
CATEGORIES:Recreation
ORGANIZER;CN="Adam Vasquez":MAILTO:avasquez@spdcares.com
END:VEVENT
BEGIN:VEVENT
DTSTART;TZID=America/Chicago:20250224T171000
DTEND;TZID=America/Chicago:20250224T181000
DTSTAMP:20260420T123822
CREATED:20230630T173629Z
LAST-MODIFIED:20230630T173629Z
UID:21721-1740417000-1740420600@streamwoodparks.org
SUMMARY:Jazzercise®
DESCRIPTION:
URL:https://streamwoodparks.org/event/jazzercise/2025-02-24/
LOCATION:Park Place Family Recreation Center\, 550 S. Park Blvd.\, Park Place Family Rec Center\, Streamwood\, IL\, 60107\, United States
CATEGORIES:Recreation
ORGANIZER;CN="Adam Vasquez":MAILTO:avasquez@spdcares.com
END:VEVENT
BEGIN:VEVENT
DTSTART;TZID=America/Chicago:20250225T084000
DTEND;TZID=America/Chicago:20250225T094000
DTSTAMP:20260420T123822
CREATED:20230630T173629Z
LAST-MODIFIED:20230921T155843Z
UID:18654-1740472800-1740476400@streamwoodparks.org
SUMMARY:Jazzercise®
DESCRIPTION:
URL:https://streamwoodparks.org/event/jazzercise/2025-02-25/
LOCATION:Park Place Family Recreation Center\, 550 S. Park Blvd.\, Park Place Family Rec Center\, Streamwood\, IL\, 60107\, United States
CATEGORIES:Recreation
ORGANIZER;CN="Adam Vasquez":MAILTO:avasquez@spdcares.com
END:VEVENT
BEGIN:VEVENT
DTSTART;TZID=America/Chicago:20250225T171000
DTEND;TZID=America/Chicago:20250225T181000
DTSTAMP:20260420T123822
CREATED:20230630T173629Z
LAST-MODIFIED:20230630T173629Z
UID:21722-1740503400-1740507000@streamwoodparks.org
SUMMARY:Jazzercise®
DESCRIPTION:
URL:https://streamwoodparks.org/event/jazzercise/2025-02-25/
LOCATION:Park Place Family Recreation Center\, 550 S. Park Blvd.\, Park Place Family Rec Center\, Streamwood\, IL\, 60107\, United States
CATEGORIES:Recreation
ORGANIZER;CN="Adam Vasquez":MAILTO:avasquez@spdcares.com
END:VEVENT
BEGIN:VEVENT
DTSTART;TZID=America/Chicago:20250226T090000
DTEND;TZID=America/Chicago:20250226T100000
DTSTAMP:20260420T123822
CREATED:20230630T165814Z
LAST-MODIFIED:20230630T165814Z
UID:19995-1740560400-1740564000@streamwoodparks.org
SUMMARY:Aqua Fit
DESCRIPTION:INSTRUCTOR: MARY \nAqua Fit is a challenging water workout fit for everyone\, especially those with joint ailments or injuries. The class begins with a gentle warm-up and from there\, you’ll ease into exercises using your own body weight and water-resistance dumbbells. This 60-minute cardio and resistance training class will have you splashing your way to improved strength and overall refreshment.
URL:https://streamwoodparks.org/event/aqua-fit/2025-02-26/
LOCATION:Park Place Family Recreation Center\, 550 S. Park Blvd.\, Park Place Family Rec Center\, Streamwood\, IL\, 60107\, United States
CATEGORIES:Recreation
ORGANIZER;CN="Adam Vasquez":MAILTO:avasquez@spdcares.com
END:VEVENT
BEGIN:VEVENT
DTSTART;TZID=America/Chicago:20250226T093000
DTEND;TZID=America/Chicago:20250226T101500
DTSTAMP:20260420T123822
CREATED:20231128T192330Z
LAST-MODIFIED:20240112T153348Z
UID:25289-1740562200-1740564900@streamwoodparks.org
SUMMARY:Stretch Infusion
DESCRIPTION:Instructor: Cathy \nFloor-based mat class designed for everyone. Non-impact\, safe\, and effective\, you
URL:https://streamwoodparks.org/event/stretch-infusion/2025-02-26/
LOCATION:Park Place Family Recreation Center\, 550 S. Park Blvd.\, Park Place Family Rec Center\, Streamwood\, IL\, 60107\, United States
ORGANIZER;CN="Adam Vasquez":MAILTO:avasquez@spdcares.com
END:VEVENT
BEGIN:VEVENT
DTSTART;TZID=America/Chicago:20250226T171000
DTEND;TZID=America/Chicago:20250226T181000
DTSTAMP:20260420T123822
CREATED:20230630T173629Z
LAST-MODIFIED:20230630T173629Z
UID:21723-1740589800-1740593400@streamwoodparks.org
SUMMARY:Jazzercise®
DESCRIPTION:
URL:https://streamwoodparks.org/event/jazzercise/2025-02-26/
LOCATION:Park Place Family Recreation Center\, 550 S. Park Blvd.\, Park Place Family Rec Center\, Streamwood\, IL\, 60107\, United States
CATEGORIES:Recreation
ORGANIZER;CN="Adam Vasquez":MAILTO:avasquez@spdcares.com
END:VEVENT
BEGIN:VEVENT
DTSTART;TZID=America/Chicago:20250226T183000
DTEND;TZID=America/Chicago:20250226T193000
DTSTAMP:20260420T123822
CREATED:20230630T170050Z
LAST-MODIFIED:20230919T144507Z
UID:20232-1740594600-1740598200@streamwoodparks.org
SUMMARY:Spin®
DESCRIPTION:INSTRUCTOR: CATHY \nGet your sweat on to time or music-based aerobic endurance\, conditioning\, and anaerobic interval training motivated by expert instruction. Classes focus on drills that build power and endurance on the bike and brief\, high-intensity bursts that push past your anaerobic threshold to increase your cycling power.
URL:https://streamwoodparks.org/event/spin/2025-02-26/
LOCATION:Park Place Family Recreation Center\, 550 S. Park Blvd.\, Park Place Family Rec Center\, Streamwood\, IL\, 60107\, United States
CATEGORIES:Recreation
ORGANIZER;CN="Adam Vasquez":MAILTO:avasquez@spdcares.com
END:VEVENT
BEGIN:VEVENT
DTSTART;TZID=America/Chicago:20250227T084000
DTEND;TZID=America/Chicago:20250227T094000
DTSTAMP:20260420T123822
CREATED:20230630T173629Z
LAST-MODIFIED:20230921T155844Z
UID:18655-1740645600-1740649200@streamwoodparks.org
SUMMARY:Jazzercise®
DESCRIPTION:
URL:https://streamwoodparks.org/event/jazzercise/2025-02-27/
LOCATION:Park Place Family Recreation Center\, 550 S. Park Blvd.\, Park Place Family Rec Center\, Streamwood\, IL\, 60107\, United States
CATEGORIES:Recreation
ORGANIZER;CN="Adam Vasquez":MAILTO:avasquez@spdcares.com
END:VEVENT
BEGIN:VEVENT
DTSTART;TZID=America/Chicago:20250228T080000
DTEND;TZID=America/Chicago:20250228T170000
DTSTAMP:20260420T123822
CREATED:20240816T191259Z
LAST-MODIFIED:20250228T204418Z
UID:27656-1740729600-1740762000@streamwoodparks.org
SUMMARY:Jr. Sabres Basketball Deadline
DESCRIPTION:Teams will practice during the week\, with games being held throughout the state of Illinois on weekends at local travel basketball tournaments from April – August. Playing time in games is not guaranteed\, as this is an advanced-level program with high-level training. This is a travel tournament basketball team that requires approval from the Jr. Sabres coaches to join after tryouts. Tryout date TBD. \nGirls\n12U\, 14U\, 16U \nBoys\n12U\, 14U
URL:https://streamwoodparks.org/event/jr-sabres-basketball-deadline/
LOCATION:Park Place Family Recreation Center\, 550 S. Park Blvd.\, Park Place Family Rec Center\, Streamwood\, IL\, 60107\, United States
CATEGORIES:Athletics,Programs,Recreation
ATTACH;FMTTYPE=image/png:https://streamwoodparks.org/wp-content/uploads/2023/03/Web-Event-Jr-Sabres-Basketball.png
END:VEVENT
BEGIN:VEVENT
DTSTART;TZID=America/Chicago:20250228T090000
DTEND;TZID=America/Chicago:20250228T100000
DTSTAMP:20260420T123822
CREATED:20230630T165814Z
LAST-MODIFIED:20230630T165814Z
UID:19996-1740733200-1740736800@streamwoodparks.org
SUMMARY:Aqua Fit
DESCRIPTION:INSTRUCTOR: MARY \nAqua Fit is a challenging water workout fit for everyone\, especially those with joint ailments or injuries. The class begins with a gentle warm-up and from there\, you’ll ease into exercises using your own body weight and water-resistance dumbbells. This 60-minute cardio and resistance training class will have you splashing your way to improved strength and overall refreshment.
URL:https://streamwoodparks.org/event/aqua-fit/2025-02-28/
LOCATION:Park Place Family Recreation Center\, 550 S. Park Blvd.\, Park Place Family Rec Center\, Streamwood\, IL\, 60107\, United States
CATEGORIES:Recreation
ORGANIZER;CN="Adam Vasquez":MAILTO:avasquez@spdcares.com
END:VEVENT
BEGIN:VEVENT
DTSTART;TZID=America/Chicago:20250228T090000
DTEND;TZID=America/Chicago:20250228T100000
DTSTAMP:20260420T123822
CREATED:20230630T170050Z
LAST-MODIFIED:20230919T144508Z
UID:20233-1740733200-1740736800@streamwoodparks.org
SUMMARY:Spin®
DESCRIPTION:INSTRUCTOR: CATHY \nGet your sweat on to time or music-based aerobic endurance\, conditioning\, and anaerobic interval training motivated by expert instruction. Classes focus on drills that build power and endurance on the bike and brief\, high-intensity bursts that push past your anaerobic threshold to increase your cycling power.
URL:https://streamwoodparks.org/event/spin/2025-02-28/
LOCATION:Park Place Family Recreation Center\, 550 S. Park Blvd.\, Park Place Family Rec Center\, Streamwood\, IL\, 60107\, United States
CATEGORIES:Recreation
ORGANIZER;CN="Adam Vasquez":MAILTO:avasquez@spdcares.com
END:VEVENT
BEGIN:VEVENT
DTSTART;TZID=America/Chicago:20250228T101500
DTEND;TZID=America/Chicago:20250228T110000
DTSTAMP:20260420T123822
CREATED:20231128T192330Z
LAST-MODIFIED:20240112T153349Z
UID:25291-1740737700-1740740400@streamwoodparks.org
SUMMARY:Stretch Infusion
DESCRIPTION:Instructor: Cathy \nFloor-based mat class designed for everyone. Non-impact\, safe\, and effective\, you
URL:https://streamwoodparks.org/event/stretch-infusion/2025-02-28/
LOCATION:Park Place Family Recreation Center\, 550 S. Park Blvd.\, Park Place Family Rec Center\, Streamwood\, IL\, 60107\, United States
ORGANIZER;CN="Adam Vasquez":MAILTO:avasquez@spdcares.com
END:VEVENT
BEGIN:VEVENT
DTSTART;TZID=America/Chicago:20250228T171000
DTEND;TZID=America/Chicago:20250228T181000
DTSTAMP:20260420T123822
CREATED:20230630T173629Z
LAST-MODIFIED:20230630T173629Z
UID:21724-1740762600-1740766200@streamwoodparks.org
SUMMARY:Jazzercise®
DESCRIPTION:
URL:https://streamwoodparks.org/event/jazzercise/2025-02-28/
LOCATION:Park Place Family Recreation Center\, 550 S. Park Blvd.\, Park Place Family Rec Center\, Streamwood\, IL\, 60107\, United States
CATEGORIES:Recreation
ORGANIZER;CN="Adam Vasquez":MAILTO:avasquez@spdcares.com
END:VEVENT
BEGIN:VEVENT
DTSTART;TZID=America/Chicago:20250301T070000
DTEND;TZID=America/Chicago:20250301T080000
DTSTAMP:20260420T123822
CREATED:20240306T192554Z
LAST-MODIFIED:20240306T192554Z
UID:26790-1740812400-1740816000@streamwoodparks.org
SUMMARY:Alignment Yoga
DESCRIPTION:with Diane \nThis all-levels class is a slow-paced flow with a focus on the foundations of postures.  The class has a combination of mobility\, strength\, and alignment drills that enhance any level of practitioner interested in developing more awareness in breath and movement.
URL:https://streamwoodparks.org/event/alignment-yoga/2025-03-01/
LOCATION:Park Place Family Recreation Center\, 550 S. Park Blvd.\, Park Place Family Rec Center\, Streamwood\, IL\, 60107\, United States
CATEGORIES:Recreation
ORGANIZER;CN="Adam Vasquez":MAILTO:avasquez@spdcares.com
END:VEVENT
BEGIN:VEVENT
DTSTART;TZID=America/Chicago:20250301T083000
DTEND;TZID=America/Chicago:20250301T093000
DTSTAMP:20260420T123822
CREATED:20240110T175054Z
LAST-MODIFIED:20240110T175054Z
UID:26324-1740817800-1740821400@streamwoodparks.org
SUMMARY:Boot Camp
DESCRIPTION:with Debbie & Cari \nWork at your own pace and ability as your instructor takes you through a series of both strength training and cardio full body movements that will help you improve your strength\, power\, and movement. Class variety designed to push and challenge the body.
URL:https://streamwoodparks.org/event/boot-camp/2025-03-01/
LOCATION:Park Place Family Recreation Center\, 550 S. Park Blvd.\, Park Place Family Rec Center\, Streamwood\, IL\, 60107\, United States
CATEGORIES:Recreation
ORGANIZER;CN="Adam Vasquez":MAILTO:avasquez@spdcares.com
END:VEVENT
BEGIN:VEVENT
DTSTART;TZID=America/Chicago:20250302T104500
DTEND;TZID=America/Chicago:20250302T114500
DTSTAMP:20260420T123822
CREATED:20230630T173629Z
LAST-MODIFIED:20230630T173629Z
UID:21725-1740912300-1740915900@streamwoodparks.org
SUMMARY:Jazzercise®
DESCRIPTION:
URL:https://streamwoodparks.org/event/jazzercise/2025-03-02/
LOCATION:Park Place Family Recreation Center\, 550 S. Park Blvd.\, Park Place Family Rec Center\, Streamwood\, IL\, 60107\, United States
CATEGORIES:Recreation
ORGANIZER;CN="Adam Vasquez":MAILTO:avasquez@spdcares.com
END:VEVENT
BEGIN:VEVENT
DTSTART;TZID=America/Chicago:20250302T130000
DTEND;TZID=America/Chicago:20250302T134500
DTSTAMP:20260420T123822
CREATED:20250228T203627Z
LAST-MODIFIED:20250228T203627Z
UID:28361-1740920400-1740923100@streamwoodparks.org
SUMMARY:TS Basketball Training
DESCRIPTION:This program is for beginners with little to no experience. All participants must have a high interest in learning the game and improving their basketball skills. This program reoccurs every 4 weeks with the opportunity to join TS Basketball Skills & Training Program once participant’s skill level qualifies.
URL:https://streamwoodparks.org/event/ts-basketball-training/2025-03-02/
LOCATION:Park Place Family Recreation Center\, 550 S. Park Blvd.\, Park Place Family Rec Center\, Streamwood\, IL\, 60107\, United States
CATEGORIES:Athletics,Programs,Recreation
ATTACH;FMTTYPE=image/png:https://streamwoodparks.org/wp-content/uploads/2023/06/TS-Basketball.png
END:VEVENT
BEGIN:VEVENT
DTSTART;TZID=America/Chicago:20250303T090000
DTEND;TZID=America/Chicago:20250303T100000
DTSTAMP:20260420T123822
CREATED:20230630T165814Z
LAST-MODIFIED:20230630T165814Z
UID:19997-1740992400-1740996000@streamwoodparks.org
SUMMARY:Aqua Fit
DESCRIPTION:INSTRUCTOR: MARY \nAqua Fit is a challenging water workout fit for everyone\, especially those with joint ailments or injuries. The class begins with a gentle warm-up and from there\, you’ll ease into exercises using your own body weight and water-resistance dumbbells. This 60-minute cardio and resistance training class will have you splashing your way to improved strength and overall refreshment.
URL:https://streamwoodparks.org/event/aqua-fit/2025-03-03/
LOCATION:Park Place Family Recreation Center\, 550 S. Park Blvd.\, Park Place Family Rec Center\, Streamwood\, IL\, 60107\, United States
CATEGORIES:Recreation
ORGANIZER;CN="Adam Vasquez":MAILTO:avasquez@spdcares.com
END:VEVENT
BEGIN:VEVENT
DTSTART;TZID=America/Chicago:20250303T093000
DTEND;TZID=America/Chicago:20250303T103000
DTSTAMP:20260420T123822
CREATED:20230630T170050Z
LAST-MODIFIED:20230630T170050Z
UID:21034-1740994200-1740997800@streamwoodparks.org
SUMMARY:Spin®
DESCRIPTION:INSTRUCTOR: CATHY \nGet your sweat on to time or music-based aerobic endurance\, conditioning\, and anaerobic interval training motivated by expert instruction. Classes focus on drills that build power and endurance on the bike and brief\, high-intensity bursts that push past your anaerobic threshold to increase your cycling power.
URL:https://streamwoodparks.org/event/spin/2025-03-03/
LOCATION:Park Place Family Recreation Center\, 550 S. Park Blvd.\, Park Place Family Rec Center\, Streamwood\, IL\, 60107\, United States
CATEGORIES:Recreation
ORGANIZER;CN="Adam Vasquez":MAILTO:avasquez@spdcares.com
END:VEVENT
BEGIN:VEVENT
DTSTART;TZID=America/Chicago:20250303T171000
DTEND;TZID=America/Chicago:20250303T181000
DTSTAMP:20260420T123822
CREATED:20230630T173629Z
LAST-MODIFIED:20230630T173629Z
UID:21726-1741021800-1741025400@streamwoodparks.org
SUMMARY:Jazzercise®
DESCRIPTION:
URL:https://streamwoodparks.org/event/jazzercise/2025-03-03/
LOCATION:Park Place Family Recreation Center\, 550 S. Park Blvd.\, Park Place Family Rec Center\, Streamwood\, IL\, 60107\, United States
CATEGORIES:Recreation
ORGANIZER;CN="Adam Vasquez":MAILTO:avasquez@spdcares.com
END:VEVENT
BEGIN:VEVENT
DTSTART;TZID=America/Chicago:20250304T084000
DTEND;TZID=America/Chicago:20250304T094000
DTSTAMP:20260420T123822
CREATED:20230630T173629Z
LAST-MODIFIED:20230921T155844Z
UID:18656-1741077600-1741081200@streamwoodparks.org
SUMMARY:Jazzercise®
DESCRIPTION:
URL:https://streamwoodparks.org/event/jazzercise/2025-03-04/
LOCATION:Park Place Family Recreation Center\, 550 S. Park Blvd.\, Park Place Family Rec Center\, Streamwood\, IL\, 60107\, United States
CATEGORIES:Recreation
ORGANIZER;CN="Adam Vasquez":MAILTO:avasquez@spdcares.com
END:VEVENT
END:VCALENDAR