BEGIN:VCALENDAR
VERSION:2.0
PRODID:-//Streamwood Park District - ECPv6.15.18//NONSGML v1.0//EN
CALSCALE:GREGORIAN
METHOD:PUBLISH
X-WR-CALNAME:Streamwood Park District
X-ORIGINAL-URL:https://streamwoodparks.org
X-WR-CALDESC:Events for Streamwood Park District
REFRESH-INTERVAL;VALUE=DURATION:PT1H
X-Robots-Tag:noindex
X-PUBLISHED-TTL:PT1H
BEGIN:VTIMEZONE
TZID:America/Chicago
BEGIN:DAYLIGHT
TZOFFSETFROM:-0600
TZOFFSETTO:-0500
TZNAME:CDT
DTSTART:20210314T080000
END:DAYLIGHT
BEGIN:STANDARD
TZOFFSETFROM:-0500
TZOFFSETTO:-0600
TZNAME:CST
DTSTART:20211107T070000
END:STANDARD
BEGIN:DAYLIGHT
TZOFFSETFROM:-0600
TZOFFSETTO:-0500
TZNAME:CDT
DTSTART:20220313T080000
END:DAYLIGHT
BEGIN:STANDARD
TZOFFSETFROM:-0500
TZOFFSETTO:-0600
TZNAME:CST
DTSTART:20221106T070000
END:STANDARD
BEGIN:DAYLIGHT
TZOFFSETFROM:-0600
TZOFFSETTO:-0500
TZNAME:CDT
DTSTART:20230312T080000
END:DAYLIGHT
BEGIN:STANDARD
TZOFFSETFROM:-0500
TZOFFSETTO:-0600
TZNAME:CST
DTSTART:20231105T070000
END:STANDARD
END:VTIMEZONE
BEGIN:VEVENT
DTSTART;VALUE=DATE:20221003
DTEND;VALUE=DATE:20221101
DTSTAMP:20260424T094434
CREATED:20221003T142855Z
LAST-MODIFIED:20221003T142855Z
UID:14296-1664755200-1667260799@streamwoodparks.org
SUMMARY:MEMBERSHIP SALE
DESCRIPTION:10% off Annual Fitness\, Aquatic\, Group & Fitness memberships\, and punch cards \n20% off Annual All-Inclusive memberships \nContact Guest Services to take advantage of our Membership Sale! \n630.483.3010.
URL:https://streamwoodparks.org/event/membership-sale/
LOCATION:Park Place Family Recreation Center\, 550 S. Park Blvd.\, Park Place Family Rec Center\, Streamwood\, IL\, 60107\, United States
CATEGORIES:Programs,Recreation
ATTACH;FMTTYPE=image/png:https://streamwoodparks.org/wp-content/uploads/2022/10/SPD_Web_Event_OCTOBER-22-MEMBERSHIP-SALE.png
ORGANIZER;CN="Adam Vasquez":MAILTO:avasquez@spdcares.com
END:VEVENT
BEGIN:VEVENT
DTSTART;TZID=America/Chicago:20221004T193000
DTEND;TZID=America/Chicago:20221004T210000
DTSTAMP:20260424T094434
CREATED:20220909T192236Z
LAST-MODIFIED:20220909T193514Z
UID:13448-1664911800-1664917200@streamwoodparks.org
SUMMARY:Boys Basketball Camp
DESCRIPTION:BOYS 5th – 8th grade \n\n\n\n\nKeep up your basketball skills during the fall months with this basketball camp coached by our amazing Park District volunteer coaches. Players will work on shooting as well as focusing on running offensive plays and team defense. The camp helps to create a cohesive team environment for the players in the basketball program. No class on 10/28.
URL:https://streamwoodparks.org/event/youth-basketball-camp/
LOCATION:Park Place Family Recreation Center\, 550 S. Park Blvd.\, Park Place Family Rec Center\, Streamwood\, IL\, 60107\, United States
CATEGORIES:Athletics,Programs,Recreation
ATTACH;FMTTYPE=image/png:https://streamwoodparks.org/wp-content/uploads/2020/10/Basketball_Amenity.png
END:VEVENT
BEGIN:VEVENT
DTSTART;TZID=America/Chicago:20221008T090000
DTEND;TZID=America/Chicago:20221008T160000
DTSTAMP:20260424T094434
CREATED:20220912T132952Z
LAST-MODIFIED:20220912T132952Z
UID:13484-1665219600-1665244800@streamwoodparks.org
SUMMARY:Girls Volleyball League Starts
DESCRIPTION:5TH – 8TH GRADERS  \n\n\n\n\nLearn the fundamentals of the game as well as teamwork and sportsmanship all while having fun! Practices begin in late September and coaches will determine the specific practice date. Games will start on October 8. Specific game times will depend on the game’s location.
URL:https://streamwoodparks.org/event/girls-volleyball-league-starts/
LOCATION:Park Place Family Recreation Center\, 550 S. Park Blvd.\, Park Place Family Rec Center\, Streamwood\, IL\, 60107\, United States
CATEGORIES:Athletics,Programs,Recreation
ATTACH;FMTTYPE=image/jpeg:https://streamwoodparks.org/wp-content/uploads/2022/09/volleyball-02-scaled.jpg
ORGANIZER;CN="Chris Fetterman":MAILTO:cfetterman@spdcares.com
END:VEVENT
BEGIN:VEVENT
DTSTART;TZID=America/Chicago:20221012T060000
DTEND;TZID=America/Chicago:20221012T191500
DTSTAMP:20260424T094434
CREATED:20220912T183851Z
LAST-MODIFIED:20220912T183851Z
UID:13551-1665554400-1665602100@streamwoodparks.org
SUMMARY:Glitzy Girls: Night Out
DESCRIPTION:Pampered Spa Divas  \n\n\n\n\n4 – 11 year olds  \n\n\n\n\nCome join Glitzy Girlz for a night out with the gals! Each girl is welcome to come in their PJs. Our staff will be pampering girls with hairdo fun braids and sparkle. We will teach a mini pedicure and mani section along with polishing nails and toes with glitter\, neon\, and pastel polishes. A foot nail brush\, cuticle stick\, and buffer will be take-home goodies along with a mini polish and jewelry glam bag. Our night ends with some music and fun dancing to some disco lights and props for pictures.
URL:https://streamwoodparks.org/event/glitzy-girls-night-out/
LOCATION:Park Place Family Recreation Center\, 550 S. Park Blvd.\, Park Place Family Rec Center\, Streamwood\, IL\, 60107\, United States
CATEGORIES:General Interest,Programs,Recreation
ORGANIZER;CN="Sarah Nolan":MAILTO:sporter@spdcares.com
END:VEVENT
BEGIN:VEVENT
DTSTART;TZID=America/Chicago:20221014T114500
DTEND;TZID=America/Chicago:20221014T124500
DTSTAMP:20260424T094434
CREATED:20220912T153334Z
LAST-MODIFIED:20220912T153334Z
UID:13518-1665747900-1665751500@streamwoodparks.org
SUMMARY:Friday FUNdays: Dessert Day
DESCRIPTION:3 – 5 YEAR OLDS  \n\n\n\n\nInstructed by Building Block Preschool staff\, Friday Fun Days are a perfect opportunity to add an extra fun learning experience to your preschooler’s day. This class is designed for current preschoolers who want to extend their fun after class or for children not enrolled in preschool who want to add to their day. Children will participate in a variety of activities including arts and crafts\, reading\, and singing\, and will also acquire socialization skills needed for kindergarten. Registration is by day. If the minimum of 6 is not met by the Wednesday before the class will be held\, we will cancel the class. Class prices will vary based on theme and activity.
URL:https://streamwoodparks.org/event/friday-fundays-dessert-day/
LOCATION:Park Place Family Recreation Center\, 550 S. Park Blvd.\, Park Place Family Rec Center\, Streamwood\, IL\, 60107\, United States
CATEGORIES:EC Enrichment,Programs,Recreation
ATTACH;FMTTYPE=image/jpeg:https://streamwoodparks.org/wp-content/uploads/2021/03/IMG_3432_Original-scaled.jpg
END:VEVENT
BEGIN:VEVENT
DTSTART;VALUE=DATE:20221015
DTEND;VALUE=DATE:20221016
DTSTAMP:20260424T094434
CREATED:20220909T192837Z
LAST-MODIFIED:20220909T192837Z
UID:13464-1665792000-1665878399@streamwoodparks.org
SUMMARY:Boys Basketball Registration Deadline
DESCRIPTION:2nd – 8th GRADERS  \n\n\n\n\nTeams will have at least one (1) practice per week and games will be played on a combination of Friday nights or Saturday mornings/ afternoons. The goal of the program is to help each participant experience success as they develop their skills and abilities. An emphasis is placed on the basic skills of basketball and the development of important character qualities such as sportsmanship and teamwork. All players will receive a jersey. Divisions could be rearranged based on registration.
URL:https://streamwoodparks.org/event/boys-basketball-registration-deadline/
LOCATION:Park Place Family Recreation Center\, 550 S. Park Blvd.\, Park Place Family Rec Center\, Streamwood\, IL\, 60107\, United States
ATTACH;FMTTYPE=image/png:https://streamwoodparks.org/wp-content/uploads/2022/08/Basketball-Court.png
END:VEVENT
BEGIN:VEVENT
DTSTART;VALUE=DATE:20221015
DTEND;VALUE=DATE:20221016
DTSTAMP:20260424T094434
CREATED:20220912T140143Z
LAST-MODIFIED:20220912T140143Z
UID:13497-1665792000-1665878399@streamwoodparks.org
SUMMARY:Men's Basketball League Registration Deadline
DESCRIPTION:18 YEARS +  \n\n\n\n\nGames will consist of two (2) twenty-minute halves (running clock). League fee includes gym usage\, referee fee\, and prize money. Information packets will be available at the time of sign-up. Rosters are limited to ten (10) players per team. Season length will be determined by the number of teams. All teams must provide their own numbered jersey or t-shirt. The fee shown is the team fee.
URL:https://streamwoodparks.org/event/mens-basketball-league-registration-deadline/
LOCATION:Park Place Family Recreation Center\, 550 S. Park Blvd.\, Park Place Family Rec Center\, Streamwood\, IL\, 60107\, United States
CATEGORIES:Athletics,Programs,Recreation
ATTACH;FMTTYPE=image/jpeg:https://streamwoodparks.org/wp-content/uploads/2021/03/DSC_2103_Edit-scaled.jpg
ORGANIZER;CN="Chris Fetterman":MAILTO:cfetterman@spdcares.com
END:VEVENT
BEGIN:VEVENT
DTSTART;TZID=America/Chicago:20221016T130000
DTEND;TZID=America/Chicago:20221016T160000
DTSTAMP:20260424T094434
CREATED:20220908T192336Z
LAST-MODIFIED:20220909T165409Z
UID:13369-1665925200-1665936000@streamwoodparks.org
SUMMARY:Oktoberfest
DESCRIPTION:Enjoy Streamwood’s OWN Oktoberfest Bier\, 28-30 Outstanding Biers/Ciders/Mead/Craft Soda\, Live Tuba Force band\, Authentic German Cuisine \n\n 
URL:https://streamwoodparks.org/event/oktoberfest/
LOCATION:Hoosier Grove Barn\, 700 W. Irving Park Road\, Streamwood\, IL\, 60107\, United States
CATEGORIES:Adult Event,Events
ATTACH;FMTTYPE=image/png:https://streamwoodparks.org/wp-content/uploads/2022/08/SPD_Homepage_Slider_Oktoberfest.png
END:VEVENT
BEGIN:VEVENT
DTSTART;TZID=America/Chicago:20221017T160000
DTEND;TZID=America/Chicago:20221017T170000
DTSTAMP:20260424T094434
CREATED:20220909T193320Z
LAST-MODIFIED:20220909T193320Z
UID:13473-1666022400-1666026000@streamwoodparks.org
SUMMARY:Tennis Lessons Begin
DESCRIPTION:
URL:https://streamwoodparks.org/event/tennis-lessons-begin/
LOCATION:IL
CATEGORIES:Athletics,Programs,Recreation
ATTACH;FMTTYPE=image/jpeg:https://streamwoodparks.org/wp-content/uploads/2022/09/HPPD_Centre-Court_1.jpeg
END:VEVENT
BEGIN:VEVENT
DTSTART;TZID=America/Chicago:20221024T080000
DTEND;TZID=America/Chicago:20221024T170000
DTSTAMP:20260424T094434
CREATED:20220922T164409Z
LAST-MODIFIED:20220922T164409Z
UID:14234-1666598400-1666630800@streamwoodparks.org
SUMMARY:Halloween Home Decorating
DESCRIPTION:Get into the spooky spirit by decorating your home for Halloween. \nCompete in categories like “Community Favorite”\, “Best Theme”\, “Most Original”\, and more. \nRegister your home for $5 online here. \nJudging takes place on October 24\, with winners announced on social media on October 27. By checking yes\, participants will have their address listed on social media for community viewing & judging.
URL:https://streamwoodparks.org/event/halloween-home-decorating/
LOCATION:Streamwood
CATEGORIES:Events,Special Event
ATTACH;FMTTYPE=image/png:https://streamwoodparks.org/wp-content/uploads/2022/08/SPD_FB_Event_Halloween-Home-Decor.png
END:VEVENT
BEGIN:VEVENT
DTSTART;TZID=America/Chicago:20221026T180000
DTEND;TZID=America/Chicago:20221026T190000
DTSTAMP:20260424T094434
CREATED:20220912T191528Z
LAST-MODIFIED:20220912T191528Z
UID:13572-1666807200-1666810800@streamwoodparks.org
SUMMARY:Cartooning w/ Young Rembrandts
DESCRIPTION:6 – 12 year olds  \n\n\n\n\nEating asparagus may not sound appetizing to some\, but in a Young Rembrandts classroom\, it’ll make for a fun and silly drawing. The never-ending rivalry rages on as the cats and dogs go at it again in the month of September. Develop a different and more expressive appreciation for vegetables as we draw veggie expressions in October. In November\, weirder means better as we draw unusual pets. We’ll draw these (and many more exciting lessons!) while we enhance the creative and critical thinking skills today’s students need-both in the classroom and in the lifelong learning process.
URL:https://streamwoodparks.org/event/cartooning-w-young-rembrandts/
LOCATION:Park Place Family Recreation Center\, 550 S. Park Blvd.\, Park Place Family Rec Center\, Streamwood\, IL\, 60107\, United States
CATEGORIES:General Interest,Programs,Recreation
ORGANIZER;CN="Sarah Nolan":MAILTO:sporter@spdcares.com
END:VEVENT
BEGIN:VEVENT
DTSTART;TZID=America/Chicago:20221028T114500
DTEND;TZID=America/Chicago:20221028T124500
DTSTAMP:20260424T094434
CREATED:20220912T153531Z
LAST-MODIFIED:20220912T153531Z
UID:13520-1666957500-1666961100@streamwoodparks.org
SUMMARY:Friday FUNdays: First Responders
DESCRIPTION:3 – 5 YEAR OLDS  \n\n\n\n\nInstructed by Building Block Preschool staff\, Friday Fun Days are a perfect opportunity to add an extra fun learning experience to your preschooler’s day. This class is designed for current preschoolers who want to extend their fun after class or for children not enrolled in preschool who want to add to their day. Children will participate in a variety of activities including arts and crafts\, reading\, and singing\, and will also acquire socialization skills needed for kindergarten. Registration is by day. If the minimum of 6 is not met by the Wednesday before the class will be held\, we will cancel the class. Class prices will vary based on theme and activity.
URL:https://streamwoodparks.org/event/friday-fundays-first-responders/
LOCATION:Park Place Family Recreation Center\, 550 S. Park Blvd.\, Park Place Family Rec Center\, Streamwood\, IL\, 60107\, United States
CATEGORIES:EC Enrichment,Programs,Recreation
ATTACH;FMTTYPE=image/jpeg:https://streamwoodparks.org/wp-content/uploads/2021/03/IMG_3431_Original-scaled.jpg
END:VEVENT
BEGIN:VEVENT
DTSTART;TZID=America/Chicago:20221028T170000
DTEND;TZID=America/Chicago:20221028T190000
DTSTAMP:20260424T094434
CREATED:20220922T165351Z
LAST-MODIFIED:20220922T165351Z
UID:14240-1666976400-1666983600@streamwoodparks.org
SUMMARY:Safely Trick-or-Treat
DESCRIPTION:Come dressed in your Halloween costume and join the Park District\, community groups\, and local businesses as we hand out candy and goodies\, for this free\, indoor event!
URL:https://streamwoodparks.org/event/safely-trick-or-treat/
LOCATION:Park Place Family Recreation Center\, 550 S. Park Blvd.\, Park Place Family Rec Center\, Streamwood\, IL\, 60107\, United States
CATEGORIES:Events,Special Event
ATTACH;FMTTYPE=image/png:https://streamwoodparks.org/wp-content/uploads/2022/08/SPD_FB_Event_SafelyTOT.png
END:VEVENT
END:VCALENDAR