BEGIN:VCALENDAR
VERSION:2.0
PRODID:-//Streamwood Park District - ECPv6.15.18//NONSGML v1.0//EN
CALSCALE:GREGORIAN
METHOD:PUBLISH
X-WR-CALNAME:Streamwood Park District
X-ORIGINAL-URL:https://streamwoodparks.org
X-WR-CALDESC:Events for Streamwood Park District
REFRESH-INTERVAL;VALUE=DURATION:PT1H
X-Robots-Tag:noindex
X-PUBLISHED-TTL:PT1H
BEGIN:VTIMEZONE
TZID:America/Chicago
BEGIN:DAYLIGHT
TZOFFSETFROM:-0600
TZOFFSETTO:-0500
TZNAME:CDT
DTSTART:20230312T080000
END:DAYLIGHT
BEGIN:STANDARD
TZOFFSETFROM:-0500
TZOFFSETTO:-0600
TZNAME:CST
DTSTART:20231105T070000
END:STANDARD
BEGIN:DAYLIGHT
TZOFFSETFROM:-0600
TZOFFSETTO:-0500
TZNAME:CDT
DTSTART:20240310T080000
END:DAYLIGHT
BEGIN:STANDARD
TZOFFSETFROM:-0500
TZOFFSETTO:-0600
TZNAME:CST
DTSTART:20241103T070000
END:STANDARD
BEGIN:DAYLIGHT
TZOFFSETFROM:-0600
TZOFFSETTO:-0500
TZNAME:CDT
DTSTART:20250309T080000
END:DAYLIGHT
BEGIN:STANDARD
TZOFFSETFROM:-0500
TZOFFSETTO:-0600
TZNAME:CST
DTSTART:20251102T070000
END:STANDARD
END:VTIMEZONE
BEGIN:VEVENT
DTSTART;TZID=America/Chicago:20240103T103000
DTEND;TZID=America/Chicago:20240103T113000
DTSTAMP:20260421T160111
CREATED:20251016T182026Z
LAST-MODIFIED:20251016T182026Z
UID:30229-1704277800-1704281400@streamwoodparks.org
SUMMARY:Zumba®
DESCRIPTION:with Lilly \nZumba® fuses hypnotic Latin and international rhythms with easy-to-follow moves to create a dynamic workout system that will blow you away. Zumba® utilizes principles of fitness interval training and resistance training to maximize caloric output\, fat burning\, and total body toning.
URL:https://streamwoodparks.org/event/zumba/
LOCATION:Park Place Family Recreation Center\, 550 S. Park Blvd.\, Park Place Family Rec Center\, Streamwood\, IL\, 60107\, United States
ORGANIZER;CN="Adam Vasquez":MAILTO:avasquez@spdcares.com
END:VEVENT
BEGIN:VEVENT
DTSTART;TZID=America/Chicago:20240104T172000
DTEND;TZID=America/Chicago:20240104T182000
DTSTAMP:20260421T160111
CREATED:20251016T182026Z
LAST-MODIFIED:20251016T182026Z
UID:30230-1704388800-1704392400@streamwoodparks.org
SUMMARY:Zumba®
DESCRIPTION:with Lilly \nZumba® fuses hypnotic Latin and international rhythms with easy-to-follow moves to create a dynamic workout system that will blow you away. Zumba® utilizes principles of fitness interval training and resistance training to maximize caloric output\, fat burning\, and total body toning.
URL:https://streamwoodparks.org/event/zumba/
LOCATION:Park Place Family Recreation Center\, 550 S. Park Blvd.\, Park Place Family Rec Center\, Streamwood\, IL\, 60107\, United States
ORGANIZER;CN="Adam Vasquez":MAILTO:avasquez@spdcares.com
END:VEVENT
BEGIN:VEVENT
DTSTART;TZID=America/Chicago:20240106T083000
DTEND;TZID=America/Chicago:20240106T093000
DTSTAMP:20260421T160111
CREATED:20240110T175054Z
LAST-MODIFIED:20240112T160101Z
UID:25031-1704529800-1704533400@streamwoodparks.org
SUMMARY:Boot Camp
DESCRIPTION:with Debbie & Cari \nWork at your own pace and ability as your instructor takes you through a series of both strength training and cardio full body movements that will help you improve your strength\, power\, and movement. Class variety designed to push and challenge the body.
URL:https://streamwoodparks.org/event/boot-camp/2024-01-06/
LOCATION:Park Place Family Recreation Center\, 550 S. Park Blvd.\, Park Place Family Rec Center\, Streamwood\, IL\, 60107\, United States
CATEGORIES:Recreation
ORGANIZER;CN="Adam Vasquez":MAILTO:avasquez@spdcares.com
END:VEVENT
BEGIN:VEVENT
DTSTART;TZID=America/Chicago:20240109T091500
DTEND;TZID=America/Chicago:20240109T100000
DTSTAMP:20260421T160111
CREATED:20240112T155422Z
LAST-MODIFIED:20240112T161004Z
UID:26262-1704791700-1704794400@streamwoodparks.org
SUMMARY:Silver Sneakers Circuit
DESCRIPTION:Learn more about the Silver Sneakers program for seniors at https://tools.silversneakers.com/.
URL:https://streamwoodparks.org/event/silver-sneakers-circuit/2024-01-09/
LOCATION:Park Place Family Recreation Center\, 550 S. Park Blvd.\, Park Place Family Rec Center\, Streamwood\, IL\, 60107\, United States
CATEGORIES:Recreation
ORGANIZER;CN="Adam Vasquez":MAILTO:avasquez@spdcares.com
END:VEVENT
BEGIN:VEVENT
DTSTART;TZID=America/Chicago:20240111T183000
DTEND;TZID=America/Chicago:20240111T193000
DTSTAMP:20260421T160111
CREATED:20251016T182544Z
LAST-MODIFIED:20251016T182544Z
UID:30295-1704997800-1705001400@streamwoodparks.org
SUMMARY:Boot Camp
DESCRIPTION:with Debbie & Cari \nWork at your own pace and ability as your instructor takes you through a series of both strength training and cardio full body movements that will help you improve your strength\, power\, and movement. Class variety designed to push and challenge the body.
URL:https://streamwoodparks.org/event/boot-camp/
LOCATION:Park Place Family Recreation Center\, 550 S. Park Blvd.\, Park Place Family Rec Center\, Streamwood\, IL\, 60107\, United States
CATEGORIES:Recreation
ORGANIZER;CN="Adam Vasquez":MAILTO:avasquez@spdcares.com
END:VEVENT
BEGIN:VEVENT
DTSTART;TZID=America/Chicago:20240119T190000
DTEND;TZID=America/Chicago:20240119T210000
DTSTAMP:20260421T160111
CREATED:20231117T144811Z
LAST-MODIFIED:20231120T150603Z
UID:22928-1705690800-1705698000@streamwoodparks.org
SUMMARY:Winter Wine Walk
DESCRIPTION:REGISTER BY JANUARY 4 \nEnjoy the combination of a classy winter theme\, a beautiful venue\, wine samples\, and tasty food; a perfect way to spend a January evening.
URL:https://streamwoodparks.org/event/winter-wine-walk/
LOCATION:Hoosier Grove Barn\, 700 W. Irving Park Road\, Streamwood\, IL\, 60107\, United States
CATEGORIES:Adult Event,Events,Recreation,Special Event
ATTACH;FMTTYPE=image/png:https://streamwoodparks.org/wp-content/uploads/2023/11/Web-Event-Winter-Wine-Walk.png
END:VEVENT
BEGIN:VEVENT
DTSTART;TZID=America/Chicago:20240302T070000
DTEND;TZID=America/Chicago:20240302T080000
DTSTAMP:20260421T160111
CREATED:20240306T192554Z
LAST-MODIFIED:20240306T192554Z
UID:26737-1709362800-1709366400@streamwoodparks.org
SUMMARY:Alignment Yoga
DESCRIPTION:with Diane \nThis all-levels class is a slow-paced flow with a focus on the foundations of postures.  The class has a combination of mobility\, strength\, and alignment drills that enhance any level of practitioner interested in developing more awareness in breath and movement.
URL:https://streamwoodparks.org/event/alignment-yoga/2024-03-02/
LOCATION:Park Place Family Recreation Center\, 550 S. Park Blvd.\, Park Place Family Rec Center\, Streamwood\, IL\, 60107\, United States
CATEGORIES:Recreation
ORGANIZER;CN="Adam Vasquez":MAILTO:avasquez@spdcares.com
END:VEVENT
BEGIN:VEVENT
DTSTART;TZID=America/Chicago:20240303T130000
DTEND;TZID=America/Chicago:20240303T134500
DTSTAMP:20260421T160111
CREATED:20240212T164521Z
LAST-MODIFIED:20240212T164521Z
UID:26558-1709470800-1709473500@streamwoodparks.org
SUMMARY:TS Basketball Training Begins
DESCRIPTION:8 – 14 year olds \nThis program is for beginners with little to no experience. All participants must have a high interest in learning the game and improving their basketball skills. This program reoccurs every 4 weeks with the opportunity to join TS Basketball Skills & Training program once the participant’s skill level qualifies. \nREGISTER ONLINE HERE!
URL:https://streamwoodparks.org/event/ts-basketball-training-begins/2024-03-03/
LOCATION:Park Place Family Recreation Center\, 550 S. Park Blvd.\, Park Place Family Rec Center\, Streamwood\, IL\, 60107\, United States
CATEGORIES:Athletics,Programs,Recreation
ATTACH;FMTTYPE=image/png:https://streamwoodparks.org/wp-content/uploads/2024/02/Web-Event-TS-BASKETBALL.png
ORGANIZER;CN="Chris Fetterman":MAILTO:cfetterman@spdcares.com
END:VEVENT
BEGIN:VEVENT
DTSTART;TZID=America/Chicago:20240304T103000
DTEND;TZID=America/Chicago:20240304T111000
DTSTAMP:20260421T160111
CREATED:20240212T164010Z
LAST-MODIFIED:20240212T164010Z
UID:26555-1709548200-1709550600@streamwoodparks.org
SUMMARY:Gymnastics Begins
DESCRIPTION:Parent/Tot (2-3 year olds with a parent)\nPre-Gymnastics (4-5 year olds)\nYouth Gymnastics (5 years +) \nREGISTER ONLINE HERE!
URL:https://streamwoodparks.org/event/gymnastics-begins/
LOCATION:Gymkhana Gymnastics\, 6622 Barrington Road\, Hanover Park\, Illinois\, 60133
CATEGORIES:Athletics,Programs,Recreation
ATTACH;FMTTYPE=image/png:https://streamwoodparks.org/wp-content/uploads/2023/06/Gymkhana.png
ORGANIZER;CN="Chris Fetterman":MAILTO:cfetterman@spdcares.com
END:VEVENT
BEGIN:VEVENT
DTSTART;TZID=America/Chicago:20240309T110000
DTEND;TZID=America/Chicago:20240309T123000
DTSTAMP:20260421T160111
CREATED:20240212T204544Z
LAST-MODIFIED:20240212T204544Z
UID:26609-1709982000-1709987400@streamwoodparks.org
SUMMARY:Chilled Palette Painting
DESCRIPTION:Kids Day: Lucky Rainbow\n6-12 year olds\nKids will have a blast as we guide them through the steps to complete their own canvas.  All materials are included\, including aprons and instruction. Snacks are also included.\nSaturday\, March 9\n11a – 12:30p\n$30/$45 \nAdults: Be Irish Wood Pallet Tray\n18 years +\nAll materials included\, including aprons and instruction.\nFriday\, March 8\n6:30 – 8:30p\n$45/$55
URL:https://streamwoodparks.org/event/chilled-palette-painting/2024-03-09/
LOCATION:Park Place Family Recreation Center\, 550 S. Park Blvd.\, Park Place Family Rec Center\, Streamwood\, IL\, 60107\, United States
CATEGORIES:General Interest,Programs,Recreation
ATTACH;FMTTYPE=image/png:https://streamwoodparks.org/wp-content/uploads/2024/02/Web-Event-CHILLED-PALETTE.png
END:VEVENT
END:VCALENDAR