BEGIN:VCALENDAR
VERSION:2.0
PRODID:-//Streamwood Park District - ECPv6.15.18//NONSGML v1.0//EN
CALSCALE:GREGORIAN
METHOD:PUBLISH
X-WR-CALNAME:Streamwood Park District
X-ORIGINAL-URL:https://streamwoodparks.org
X-WR-CALDESC:Events for Streamwood Park District
REFRESH-INTERVAL;VALUE=DURATION:PT1H
X-Robots-Tag:noindex
X-PUBLISHED-TTL:PT1H
BEGIN:VTIMEZONE
TZID:America/Chicago
BEGIN:DAYLIGHT
TZOFFSETFROM:-0600
TZOFFSETTO:-0500
TZNAME:CDT
DTSTART:20250309T080000
END:DAYLIGHT
BEGIN:STANDARD
TZOFFSETFROM:-0500
TZOFFSETTO:-0600
TZNAME:CST
DTSTART:20251102T070000
END:STANDARD
BEGIN:DAYLIGHT
TZOFFSETFROM:-0600
TZOFFSETTO:-0500
TZNAME:CDT
DTSTART:20260308T080000
END:DAYLIGHT
BEGIN:STANDARD
TZOFFSETFROM:-0500
TZOFFSETTO:-0600
TZNAME:CST
DTSTART:20261101T070000
END:STANDARD
BEGIN:DAYLIGHT
TZOFFSETFROM:-0600
TZOFFSETTO:-0500
TZNAME:CDT
DTSTART:20270314T080000
END:DAYLIGHT
BEGIN:STANDARD
TZOFFSETFROM:-0500
TZOFFSETTO:-0600
TZNAME:CST
DTSTART:20271107T070000
END:STANDARD
END:VTIMEZONE
BEGIN:VEVENT
DTSTART;TZID=America/Chicago:20260424T103000
DTEND;TZID=America/Chicago:20260424T113000
DTSTAMP:20260424T021757
CREATED:20231127T204259Z
LAST-MODIFIED:20231127T204259Z
UID:27100-1777026600-1777030200@streamwoodparks.org
SUMMARY:Zumba®
DESCRIPTION:with Lilly \nZumba® fuses hypnotic Latin and international rhythms with easy-to-follow moves to create a dynamic workout system that will blow you away. Zumba® utilizes principles of fitness interval training and resistance training to maximize caloric output\, fat burning\, and total body toning.
URL:https://streamwoodparks.org/event/zumba/2026-04-24/
LOCATION:Park Place Family Recreation Center\, 550 S. Park Blvd.\, Park Place Family Rec Center\, Streamwood\, IL\, 60107\, United States
ORGANIZER;CN="Adam Vasquez":MAILTO:avasquez@spdcares.com
END:VEVENT
BEGIN:VEVENT
DTSTART;TZID=America/Chicago:20260424T113000
DTEND;TZID=America/Chicago:20260424T130000
DTSTAMP:20260424T021757
CREATED:20250825T184717Z
LAST-MODIFIED:20250825T184717Z
UID:30627-1777030200-1777035600@streamwoodparks.org
SUMMARY:FUN Fridays
DESCRIPTION:Designed for current preschoolers who want to extend their fun after class or for children not enrolled in preschool\, this class is a perfect opportunity to add an extra fun learning experience to your preschoolers’ day. Children will participate in a variety of activities\, including arts and crafts\, reading\, singing\, and acquire socialization skills needed for kindergarten. If the minimum of 6 is not met by the Wednesday before the class is held\, we will cancel the class. The instructors will be staff from the Building Block Preschool. Class Prices will vary based on theme and activity.
URL:https://streamwoodparks.org/event/fun-fridays-2/2026-04-24/
LOCATION:Park Place Family Recreation Center\, 550 S. Park Blvd.\, Park Place Family Rec Center\, Streamwood\, IL\, 60107\, United States
CATEGORIES:EC Enrichment,Programs,Recreation
ATTACH;FMTTYPE=image/png:https://streamwoodparks.org/wp-content/uploads/2025/08/WebEvent-FunFridays.png
ORGANIZER;CN="Sarah Nolan":MAILTO:sporter@spdcares.com
END:VEVENT
END:VCALENDAR