BEGIN:VCALENDAR
VERSION:2.0
PRODID:-//Streamwood Park District - ECPv6.15.18//NONSGML v1.0//EN
CALSCALE:GREGORIAN
METHOD:PUBLISH
X-WR-CALNAME:Streamwood Park District
X-ORIGINAL-URL:https://streamwoodparks.org
X-WR-CALDESC:Events for Streamwood Park District
REFRESH-INTERVAL;VALUE=DURATION:PT1H
X-Robots-Tag:noindex
X-PUBLISHED-TTL:PT1H
BEGIN:VTIMEZONE
TZID:America/Chicago
BEGIN:DAYLIGHT
TZOFFSETFROM:-0600
TZOFFSETTO:-0500
TZNAME:CDT
DTSTART:20240310T080000
END:DAYLIGHT
BEGIN:STANDARD
TZOFFSETFROM:-0500
TZOFFSETTO:-0600
TZNAME:CST
DTSTART:20241103T070000
END:STANDARD
BEGIN:DAYLIGHT
TZOFFSETFROM:-0600
TZOFFSETTO:-0500
TZNAME:CDT
DTSTART:20250309T080000
END:DAYLIGHT
BEGIN:STANDARD
TZOFFSETFROM:-0500
TZOFFSETTO:-0600
TZNAME:CST
DTSTART:20251102T070000
END:STANDARD
BEGIN:DAYLIGHT
TZOFFSETFROM:-0600
TZOFFSETTO:-0500
TZNAME:CDT
DTSTART:20260308T080000
END:DAYLIGHT
BEGIN:STANDARD
TZOFFSETFROM:-0500
TZOFFSETTO:-0600
TZNAME:CST
DTSTART:20261101T070000
END:STANDARD
END:VTIMEZONE
BEGIN:VEVENT
DTSTART;VALUE=DATE:20250526
DTEND;VALUE=DATE:20250527
DTSTAMP:20260420T091004
CREATED:20250513T135205Z
LAST-MODIFIED:20250513T135205Z
UID:28695-1748217600-1748303999@streamwoodparks.org
SUMMARY:Summer Camp Session Deadline
DESCRIPTION:All participants must register for at least (3) three days. \nAll participants can register for 3\, 4\, or 5 days for each week. Registering for only 2 days is only available for Kids Quest Camp. Early bird registration is not available for Teen Camp. \nNO CAMP JULY 4. If canceling at any time during the summer\, the initial $100 fee is non-refundable. \nRegistration can be done in person or online. An installment billing payment plan can be set up in person at Park Place. Once completed\, camp forms\, waivers\, and the Parent Manual will be provided through ePACT Network. All forms and waivers must be completed through ePACT by the Friday before your child is scheduled to begin camp. \nREGISTRATION DEADLINES \nSession #	Session Dates	        Registration Deadline\n1	        June 2 – June 13	May 26\n2	        June 16 – June 27	June 11\n3	        June 30 – July 11	June 25\n4	        July 14 – July 25	July 9\n5	        July 28 – August 8	July 23
URL:https://streamwoodparks.org/event/summer-camp-session-deadline/2025-05-26/
LOCATION:Park Place Family Recreation Center\, 550 S. Park Blvd.\, Park Place Family Rec Center\, Streamwood\, IL\, 60107\, United States
CATEGORIES:Programs,Recreation
ATTACH;FMTTYPE=image/png:https://streamwoodparks.org/wp-content/uploads/2024/02/Web-Event-DAY-CAMPS.png
ORGANIZER;CN="Sarah Nolan":MAILTO:sporter@spdcares.com
END:VEVENT
BEGIN:VEVENT
DTSTART;TZID=America/Chicago:20250526T083000
DTEND;TZID=America/Chicago:20250526T091500
DTSTAMP:20260420T091004
CREATED:20231127T201901Z
LAST-MODIFIED:20231127T201901Z
UID:24094-1748248200-1748250900@streamwoodparks.org
SUMMARY:Interval Training
DESCRIPTION:with Lisa \nThis high-intensity interval training class combines calisthenics\, plyometrics\, and bodyweight exercises in cardio intervals. Exercises are done in time bursts with short recovery periods\, with a goal of reaching an anaerobic state\, increasing metabolism for 24-72 hours after the workout.
URL:https://streamwoodparks.org/event/interval-training-2/2025-05-26/
LOCATION:Park Place Family Recreation Center\, 550 S. Park Blvd.\, Park Place Family Rec Center\, Streamwood\, IL\, 60107\, United States
ORGANIZER;CN="Adam Vasquez":MAILTO:avasquez@spdcares.com
END:VEVENT
BEGIN:VEVENT
DTSTART;TZID=America/Chicago:20250526T090000
DTEND;TZID=America/Chicago:20250526T100000
DTSTAMP:20260420T091004
CREATED:20230630T165814Z
LAST-MODIFIED:20230630T165814Z
UID:20033-1748250000-1748253600@streamwoodparks.org
SUMMARY:Aqua Fit
DESCRIPTION:INSTRUCTOR: MARY \nAqua Fit is a challenging water workout fit for everyone\, especially those with joint ailments or injuries. The class begins with a gentle warm-up and from there\, you’ll ease into exercises using your own body weight and water-resistance dumbbells. This 60-minute cardio and resistance training class will have you splashing your way to improved strength and overall refreshment.
URL:https://streamwoodparks.org/event/aqua-fit/2025-05-26/
LOCATION:Park Place Family Recreation Center\, 550 S. Park Blvd.\, Park Place Family Rec Center\, Streamwood\, IL\, 60107\, United States
CATEGORIES:Recreation
ORGANIZER;CN="Adam Vasquez":MAILTO:avasquez@spdcares.com
END:VEVENT
BEGIN:VEVENT
DTSTART;TZID=America/Chicago:20250526T093000
DTEND;TZID=America/Chicago:20250526T103000
DTSTAMP:20260420T091004
CREATED:20230630T170050Z
LAST-MODIFIED:20230630T170050Z
UID:21046-1748251800-1748255400@streamwoodparks.org
SUMMARY:Spin®
DESCRIPTION:INSTRUCTOR: CATHY \nGet your sweat on to time or music-based aerobic endurance\, conditioning\, and anaerobic interval training motivated by expert instruction. Classes focus on drills that build power and endurance on the bike and brief\, high-intensity bursts that push past your anaerobic threshold to increase your cycling power.
URL:https://streamwoodparks.org/event/spin/2025-05-26/
LOCATION:Park Place Family Recreation Center\, 550 S. Park Blvd.\, Park Place Family Rec Center\, Streamwood\, IL\, 60107\, United States
CATEGORIES:Recreation
ORGANIZER;CN="Adam Vasquez":MAILTO:avasquez@spdcares.com
END:VEVENT
BEGIN:VEVENT
DTSTART;TZID=America/Chicago:20250526T171000
DTEND;TZID=America/Chicago:20250526T181000
DTSTAMP:20260420T091004
CREATED:20230630T173629Z
LAST-MODIFIED:20230630T173629Z
UID:21786-1748279400-1748283000@streamwoodparks.org
SUMMARY:Jazzercise®
DESCRIPTION:
URL:https://streamwoodparks.org/event/jazzercise/2025-05-26/
LOCATION:Park Place Family Recreation Center\, 550 S. Park Blvd.\, Park Place Family Rec Center\, Streamwood\, IL\, 60107\, United States
CATEGORIES:Recreation
ORGANIZER;CN="Adam Vasquez":MAILTO:avasquez@spdcares.com
END:VEVENT
END:VCALENDAR