BEGIN:VCALENDAR
VERSION:2.0
PRODID:-//Streamwood Park District - ECPv6.15.18//NONSGML v1.0//EN
CALSCALE:GREGORIAN
METHOD:PUBLISH
X-WR-CALNAME:Streamwood Park District
X-ORIGINAL-URL:https://streamwoodparks.org
X-WR-CALDESC:Events for Streamwood Park District
REFRESH-INTERVAL;VALUE=DURATION:PT1H
X-Robots-Tag:noindex
X-PUBLISHED-TTL:PT1H
BEGIN:VTIMEZONE
TZID:America/Chicago
BEGIN:DAYLIGHT
TZOFFSETFROM:-0600
TZOFFSETTO:-0500
TZNAME:CDT
DTSTART:20240310T080000
END:DAYLIGHT
BEGIN:STANDARD
TZOFFSETFROM:-0500
TZOFFSETTO:-0600
TZNAME:CST
DTSTART:20241103T070000
END:STANDARD
BEGIN:DAYLIGHT
TZOFFSETFROM:-0600
TZOFFSETTO:-0500
TZNAME:CDT
DTSTART:20250309T080000
END:DAYLIGHT
BEGIN:STANDARD
TZOFFSETFROM:-0500
TZOFFSETTO:-0600
TZNAME:CST
DTSTART:20251102T070000
END:STANDARD
BEGIN:DAYLIGHT
TZOFFSETFROM:-0600
TZOFFSETTO:-0500
TZNAME:CDT
DTSTART:20260308T080000
END:DAYLIGHT
BEGIN:STANDARD
TZOFFSETFROM:-0500
TZOFFSETTO:-0600
TZNAME:CST
DTSTART:20261101T070000
END:STANDARD
END:VTIMEZONE
BEGIN:VEVENT
DTSTART;TZID=America/Chicago:20250512T083000
DTEND;TZID=America/Chicago:20250512T091500
DTSTAMP:20260420T090940
CREATED:20231127T201901Z
LAST-MODIFIED:20231127T201901Z
UID:24092-1747038600-1747041300@streamwoodparks.org
SUMMARY:Interval Training
DESCRIPTION:with Lisa \nThis high-intensity interval training class combines calisthenics\, plyometrics\, and bodyweight exercises in cardio intervals. Exercises are done in time bursts with short recovery periods\, with a goal of reaching an anaerobic state\, increasing metabolism for 24-72 hours after the workout.
URL:https://streamwoodparks.org/event/interval-training-2/2025-05-12/
LOCATION:Park Place Family Recreation Center\, 550 S. Park Blvd.\, Park Place Family Rec Center\, Streamwood\, IL\, 60107\, United States
ORGANIZER;CN="Adam Vasquez":MAILTO:avasquez@spdcares.com
END:VEVENT
BEGIN:VEVENT
DTSTART;TZID=America/Chicago:20250512T090000
DTEND;TZID=America/Chicago:20250512T100000
DTSTAMP:20260420T090940
CREATED:20230630T165814Z
LAST-MODIFIED:20230630T165814Z
UID:20027-1747040400-1747044000@streamwoodparks.org
SUMMARY:Aqua Fit
DESCRIPTION:INSTRUCTOR: MARY \nAqua Fit is a challenging water workout fit for everyone\, especially those with joint ailments or injuries. The class begins with a gentle warm-up and from there\, you’ll ease into exercises using your own body weight and water-resistance dumbbells. This 60-minute cardio and resistance training class will have you splashing your way to improved strength and overall refreshment.
URL:https://streamwoodparks.org/event/aqua-fit/2025-05-12/
LOCATION:Park Place Family Recreation Center\, 550 S. Park Blvd.\, Park Place Family Rec Center\, Streamwood\, IL\, 60107\, United States
CATEGORIES:Recreation
ORGANIZER;CN="Adam Vasquez":MAILTO:avasquez@spdcares.com
END:VEVENT
BEGIN:VEVENT
DTSTART;TZID=America/Chicago:20250512T093000
DTEND;TZID=America/Chicago:20250512T103000
DTSTAMP:20260420T090940
CREATED:20230630T170050Z
LAST-MODIFIED:20230630T170050Z
UID:21044-1747042200-1747045800@streamwoodparks.org
SUMMARY:Spin®
DESCRIPTION:INSTRUCTOR: CATHY \nGet your sweat on to time or music-based aerobic endurance\, conditioning\, and anaerobic interval training motivated by expert instruction. Classes focus on drills that build power and endurance on the bike and brief\, high-intensity bursts that push past your anaerobic threshold to increase your cycling power.
URL:https://streamwoodparks.org/event/spin/2025-05-12/
LOCATION:Park Place Family Recreation Center\, 550 S. Park Blvd.\, Park Place Family Rec Center\, Streamwood\, IL\, 60107\, United States
CATEGORIES:Recreation
ORGANIZER;CN="Adam Vasquez":MAILTO:avasquez@spdcares.com
END:VEVENT
BEGIN:VEVENT
DTSTART;TZID=America/Chicago:20250512T171000
DTEND;TZID=America/Chicago:20250512T181000
DTSTAMP:20260420T090940
CREATED:20230630T173629Z
LAST-MODIFIED:20230630T173629Z
UID:21776-1747069800-1747073400@streamwoodparks.org
SUMMARY:Jazzercise®
DESCRIPTION:
URL:https://streamwoodparks.org/event/jazzercise/2025-05-12/
LOCATION:Park Place Family Recreation Center\, 550 S. Park Blvd.\, Park Place Family Rec Center\, Streamwood\, IL\, 60107\, United States
CATEGORIES:Recreation
ORGANIZER;CN="Adam Vasquez":MAILTO:avasquez@spdcares.com
END:VEVENT
END:VCALENDAR