BEGIN:VCALENDAR
VERSION:2.0
PRODID:-//Streamwood Park District - ECPv6.15.18//NONSGML v1.0//EN
CALSCALE:GREGORIAN
METHOD:PUBLISH
X-WR-CALNAME:Streamwood Park District
X-ORIGINAL-URL:https://streamwoodparks.org
X-WR-CALDESC:Events for Streamwood Park District
REFRESH-INTERVAL;VALUE=DURATION:PT1H
X-Robots-Tag:noindex
X-PUBLISHED-TTL:PT1H
BEGIN:VTIMEZONE
TZID:America/Chicago
BEGIN:DAYLIGHT
TZOFFSETFROM:-0600
TZOFFSETTO:-0500
TZNAME:CDT
DTSTART:20240310T080000
END:DAYLIGHT
BEGIN:STANDARD
TZOFFSETFROM:-0500
TZOFFSETTO:-0600
TZNAME:CST
DTSTART:20241103T070000
END:STANDARD
BEGIN:DAYLIGHT
TZOFFSETFROM:-0600
TZOFFSETTO:-0500
TZNAME:CDT
DTSTART:20250309T080000
END:DAYLIGHT
BEGIN:STANDARD
TZOFFSETFROM:-0500
TZOFFSETTO:-0600
TZNAME:CST
DTSTART:20251102T070000
END:STANDARD
BEGIN:DAYLIGHT
TZOFFSETFROM:-0600
TZOFFSETTO:-0500
TZNAME:CDT
DTSTART:20260308T080000
END:DAYLIGHT
BEGIN:STANDARD
TZOFFSETFROM:-0500
TZOFFSETTO:-0600
TZNAME:CST
DTSTART:20261101T070000
END:STANDARD
END:VTIMEZONE
BEGIN:VEVENT
DTSTART;VALUE=DATE:20250504
DTEND;VALUE=DATE:20250505
DTSTAMP:20260422T070649
CREATED:20250228T204816Z
LAST-MODIFIED:20250228T204816Z
UID:28380-1746316800-1746403199@streamwoodparks.org
SUMMARY:Youth Basketball League Deadline
DESCRIPTION:Practices will be held at Park Place during the week. Games will be played in Streamwood and other local park districts mostly on Saturdays. Practices will be based on the availability of the volunteer coaches during the week. The goal of the program is to help each participant experience success as they develop their skills and abilities. An emphasis is placed not only on the basic skills of basketball but also upon the development of important character qualities such as sportsmanship and teamwork. We may need to modify grades of each division depending on enrollment.
URL:https://streamwoodparks.org/event/youth-basketball-league-deadline-2/
LOCATION:Park Place Family Recreation Center\, 550 S. Park Blvd.\, Park Place Family Rec Center\, Streamwood\, IL\, 60107\, United States
CATEGORIES:Athletics,Programs,Recreation
ATTACH;FMTTYPE=image/png:https://streamwoodparks.org/wp-content/uploads/2025/02/FB-Event-Photo-YBBall-25.png
END:VEVENT
BEGIN:VEVENT
DTSTART;TZID=America/Chicago:20250504T100000
DTEND;TZID=America/Chicago:20250504T110000
DTSTAMP:20260422T070649
CREATED:20250303T210202Z
LAST-MODIFIED:20250313T162240Z
UID:28430-1746352800-1746356400@streamwoodparks.org
SUMMARY:ABC's of Biking
DESCRIPTION:Whether you are an avid cyclist or a casual bicycle enthusiast\, we invite you to join us for ABC’s of Biking – a FREE bicycle safety event Sunday\, May 4 from 10-11 a.m. at Park Place Family Recreation Center – in partnership with RUSH Physical Therapy\, 550 S. Park Blvd. \nLed by Streamwood Biking’s Mikie Swier\, guests will enjoy a brief presentation on biking followed by a safety demonstration using balance bikes in the Mark Bell Gymnasium. All participants will be entered into a drawing to win a basket of biking accessories courtesy of Never Ending Cycles. \nTopics to be covered:\nThe ABC Quick Check\nEssential Bike Safety Information\nLearn Bike Safety: When to Stop and What to Look Out For\nPractice Riding Balance Bikes with Proper Helmet Use \nThe program is free but please register in advance at https://bit.ly/SPD-abcbiking.
URL:https://streamwoodparks.org/event/abcs-of-biking-2/
LOCATION:Park Place Family Recreation Center\, 550 S. Park Blvd.\, Park Place Family Rec Center\, Streamwood\, IL\, 60107\, United States
CATEGORIES:Events,General Interest,Programs,Recreation,Special Event
ATTACH;FMTTYPE=image/png:https://streamwoodparks.org/wp-content/uploads/2025/03/FB-Event-Photo-Biking-25.png
ORGANIZER;CN="Adam Vasquez":MAILTO:avasquez@spdcares.com
END:VEVENT
BEGIN:VEVENT
DTSTART;TZID=America/Chicago:20250504T104500
DTEND;TZID=America/Chicago:20250504T114500
DTSTAMP:20260422T070649
CREATED:20230630T173629Z
LAST-MODIFIED:20230630T173629Z
UID:21770-1746355500-1746359100@streamwoodparks.org
SUMMARY:Jazzercise®
DESCRIPTION:
URL:https://streamwoodparks.org/event/jazzercise/2025-05-04/
LOCATION:Park Place Family Recreation Center\, 550 S. Park Blvd.\, Park Place Family Rec Center\, Streamwood\, IL\, 60107\, United States
CATEGORIES:Recreation
ORGANIZER;CN="Adam Vasquez":MAILTO:avasquez@spdcares.com
END:VEVENT
END:VCALENDAR