BEGIN:VCALENDAR
VERSION:2.0
PRODID:-//Streamwood Park District - ECPv6.15.18//NONSGML v1.0//EN
CALSCALE:GREGORIAN
METHOD:PUBLISH
X-WR-CALNAME:Streamwood Park District
X-ORIGINAL-URL:https://streamwoodparks.org
X-WR-CALDESC:Events for Streamwood Park District
REFRESH-INTERVAL;VALUE=DURATION:PT1H
X-Robots-Tag:noindex
X-PUBLISHED-TTL:PT1H
BEGIN:VTIMEZONE
TZID:America/Chicago
BEGIN:DAYLIGHT
TZOFFSETFROM:-0600
TZOFFSETTO:-0500
TZNAME:CDT
DTSTART:20240310T080000
END:DAYLIGHT
BEGIN:STANDARD
TZOFFSETFROM:-0500
TZOFFSETTO:-0600
TZNAME:CST
DTSTART:20241103T070000
END:STANDARD
BEGIN:DAYLIGHT
TZOFFSETFROM:-0600
TZOFFSETTO:-0500
TZNAME:CDT
DTSTART:20250309T080000
END:DAYLIGHT
BEGIN:STANDARD
TZOFFSETFROM:-0500
TZOFFSETTO:-0600
TZNAME:CST
DTSTART:20251102T070000
END:STANDARD
BEGIN:DAYLIGHT
TZOFFSETFROM:-0600
TZOFFSETTO:-0500
TZNAME:CDT
DTSTART:20260308T080000
END:DAYLIGHT
BEGIN:STANDARD
TZOFFSETFROM:-0500
TZOFFSETTO:-0600
TZNAME:CST
DTSTART:20261101T070000
END:STANDARD
END:VTIMEZONE
BEGIN:VEVENT
DTSTART;TZID=America/Chicago:20250405T070000
DTEND;TZID=America/Chicago:20250405T080000
DTSTAMP:20260420T091002
CREATED:20240306T192554Z
LAST-MODIFIED:20240306T192554Z
UID:26795-1743836400-1743840000@streamwoodparks.org
SUMMARY:Alignment Yoga
DESCRIPTION:with Diane \nThis all-levels class is a slow-paced flow with a focus on the foundations of postures.  The class has a combination of mobility\, strength\, and alignment drills that enhance any level of practitioner interested in developing more awareness in breath and movement.
URL:https://streamwoodparks.org/event/alignment-yoga/2025-04-05/
LOCATION:Park Place Family Recreation Center\, 550 S. Park Blvd.\, Park Place Family Rec Center\, Streamwood\, IL\, 60107\, United States
CATEGORIES:Recreation
ORGANIZER;CN="Adam Vasquez":MAILTO:avasquez@spdcares.com
END:VEVENT
BEGIN:VEVENT
DTSTART;TZID=America/Chicago:20250405T083000
DTEND;TZID=America/Chicago:20250405T093000
DTSTAMP:20260420T091002
CREATED:20240110T175054Z
LAST-MODIFIED:20240110T175054Z
UID:26329-1743841800-1743845400@streamwoodparks.org
SUMMARY:Boot Camp
DESCRIPTION:with Debbie & Cari \nWork at your own pace and ability as your instructor takes you through a series of both strength training and cardio full body movements that will help you improve your strength\, power\, and movement. Class variety designed to push and challenge the body.
URL:https://streamwoodparks.org/event/boot-camp/2025-04-05/
LOCATION:Park Place Family Recreation Center\, 550 S. Park Blvd.\, Park Place Family Rec Center\, Streamwood\, IL\, 60107\, United States
CATEGORIES:Recreation
ORGANIZER;CN="Adam Vasquez":MAILTO:avasquez@spdcares.com
END:VEVENT
BEGIN:VEVENT
DTSTART;TZID=America/Chicago:20250405T090000
DTEND;TZID=America/Chicago:20250405T110000
DTSTAMP:20260420T091002
CREATED:20250303T205030Z
LAST-MODIFIED:20250303T205030Z
UID:28417-1743843600-1743850800@streamwoodparks.org
SUMMARY:Breakfast with the Bunny
DESCRIPTION:Hop on over to Hoosier Grove Barn for a fun\, family breakfast with the Easter Bunny!
URL:https://streamwoodparks.org/event/breakfast-with-the-bunny/
LOCATION:Hoosier Grove Barn\, 700 W. Irving Park Road\, Streamwood\, IL\, 60107\, United States
CATEGORIES:Events,Special Event
ATTACH;FMTTYPE=image/png:https://streamwoodparks.org/wp-content/uploads/2025/03/FB-Event-Photo-BunnyBreakfast-25.png
END:VEVENT
BEGIN:VEVENT
DTSTART;TZID=America/Chicago:20250405T090000
DTEND;TZID=America/Chicago:20250405T170000
DTSTAMP:20260420T091002
CREATED:20250228T204600Z
LAST-MODIFIED:20250228T204600Z
UID:28376-1743843600-1743872400@streamwoodparks.org
SUMMARY:Girls Volleyball League
DESCRIPTION:Volunteer Coaches will lead two practices during the week for one hour and 15 minutes each practice. Practice will begin in April and will be on Wednesdays and Fridays with games on the weekends. This is an intervillage league with games at both Park Place Family Recreation Center and other local park districts. Game schedules will be provided approximately one week before the first game. Players will need to provide their own knee pads.
URL:https://streamwoodparks.org/event/girls-volleyball-league/
LOCATION:Park Place Family Recreation Center\, 550 S. Park Blvd.\, Park Place Family Rec Center\, Streamwood\, IL\, 60107\, United States
CATEGORIES:Athletics,Programs,Recreation
ATTACH;FMTTYPE=image/png:https://streamwoodparks.org/wp-content/uploads/2025/02/FB-Event-Photo-GVBall-25.png
END:VEVENT
BEGIN:VEVENT
DTSTART;TZID=America/Chicago:20250405T154000
DTEND;TZID=America/Chicago:20250405T164000
DTSTAMP:20260420T091002
CREATED:20250228T204120Z
LAST-MODIFIED:20250228T204120Z
UID:28370-1743867600-1743871200@streamwoodparks.org
SUMMARY:Shotokan Karate
DESCRIPTION:ISKC offers a good mix of strength training\, with cardiovascular and flexibility exercises. Students increase their coordination\, agility\, and poise\, as well as long-lasting personal safety skills. They also benefit from the mental stimulation of learning the choreographed moves of the kata and the discipline of conforming to the class rules. \nWednesdays at Hanover Park Park District.\nSaturdays at Bartlett Park District.
URL:https://streamwoodparks.org/event/shotokan-karate/2025-04-05/
LOCATION:IL
CATEGORIES:Athletics,Programs,Recreation
ATTACH;FMTTYPE=image/png:https://streamwoodparks.org/wp-content/uploads/2025/02/FB-Event-Photo-Shotokan-25.png
END:VEVENT
END:VCALENDAR