BEGIN:VCALENDAR
VERSION:2.0
PRODID:-//Streamwood Park District - ECPv6.15.18//NONSGML v1.0//EN
CALSCALE:GREGORIAN
METHOD:PUBLISH
X-ORIGINAL-URL:https://streamwoodparks.org
X-WR-CALDESC:Events for Streamwood Park District
REFRESH-INTERVAL;VALUE=DURATION:PT1H
X-Robots-Tag:noindex
X-PUBLISHED-TTL:PT1H
BEGIN:VTIMEZONE
TZID:America/Chicago
BEGIN:DAYLIGHT
TZOFFSETFROM:-0600
TZOFFSETTO:-0500
TZNAME:CDT
DTSTART:20240310T080000
END:DAYLIGHT
BEGIN:STANDARD
TZOFFSETFROM:-0500
TZOFFSETTO:-0600
TZNAME:CST
DTSTART:20241103T070000
END:STANDARD
BEGIN:DAYLIGHT
TZOFFSETFROM:-0600
TZOFFSETTO:-0500
TZNAME:CDT
DTSTART:20250309T080000
END:DAYLIGHT
BEGIN:STANDARD
TZOFFSETFROM:-0500
TZOFFSETTO:-0600
TZNAME:CST
DTSTART:20251102T070000
END:STANDARD
BEGIN:DAYLIGHT
TZOFFSETFROM:-0600
TZOFFSETTO:-0500
TZNAME:CDT
DTSTART:20260308T080000
END:DAYLIGHT
BEGIN:STANDARD
TZOFFSETFROM:-0500
TZOFFSETTO:-0600
TZNAME:CST
DTSTART:20261101T070000
END:STANDARD
END:VTIMEZONE
BEGIN:VEVENT
DTSTART;TZID=America/Chicago:20250310T090000
DTEND;TZID=America/Chicago:20250310T100000
DTSTAMP:20260420T071052
CREATED:20230630T165814Z
LAST-MODIFIED:20230630T165814Z
UID:20000-1741597200-1741600800@streamwoodparks.org
SUMMARY:Aqua Fit
DESCRIPTION:INSTRUCTOR: MARY \nAqua Fit is a challenging water workout fit for everyone\, especially those with joint ailments or injuries. The class begins with a gentle warm-up and from there\, you’ll ease into exercises using your own body weight and water-resistance dumbbells. This 60-minute cardio and resistance training class will have you splashing your way to improved strength and overall refreshment.
URL:https://streamwoodparks.org/event/aqua-fit/2025-03-10/
LOCATION:Park Place Family Recreation Center\, 550 S. Park Blvd.\, Park Place Family Rec Center\, Streamwood\, IL\, 60107\, United States
CATEGORIES:Recreation
ORGANIZER;CN="Adam Vasquez":MAILTO:avasquez@spdcares.com
END:VEVENT
BEGIN:VEVENT
DTSTART;TZID=America/Chicago:20250310T093000
DTEND;TZID=America/Chicago:20250310T103000
DTSTAMP:20260420T071052
CREATED:20230630T170050Z
LAST-MODIFIED:20230630T170050Z
UID:21035-1741599000-1741602600@streamwoodparks.org
SUMMARY:Spin®
DESCRIPTION:INSTRUCTOR: CATHY \nGet your sweat on to time or music-based aerobic endurance\, conditioning\, and anaerobic interval training motivated by expert instruction. Classes focus on drills that build power and endurance on the bike and brief\, high-intensity bursts that push past your anaerobic threshold to increase your cycling power.
URL:https://streamwoodparks.org/event/spin/2025-03-10/
LOCATION:Park Place Family Recreation Center\, 550 S. Park Blvd.\, Park Place Family Rec Center\, Streamwood\, IL\, 60107\, United States
CATEGORIES:Recreation
ORGANIZER;CN="Adam Vasquez":MAILTO:avasquez@spdcares.com
END:VEVENT
BEGIN:VEVENT
DTSTART;TZID=America/Chicago:20250310T171000
DTEND;TZID=America/Chicago:20250310T181000
DTSTAMP:20260420T071052
CREATED:20230630T173629Z
LAST-MODIFIED:20230630T173629Z
UID:21731-1741626600-1741630200@streamwoodparks.org
SUMMARY:Jazzercise®
DESCRIPTION:
URL:https://streamwoodparks.org/event/jazzercise/2025-03-10/
LOCATION:Park Place Family Recreation Center\, 550 S. Park Blvd.\, Park Place Family Rec Center\, Streamwood\, IL\, 60107\, United States
CATEGORIES:Recreation
ORGANIZER;CN="Adam Vasquez":MAILTO:avasquez@spdcares.com
END:VEVENT
BEGIN:VEVENT
DTSTART;TZID=America/Chicago:20250310T180000
DTEND;TZID=America/Chicago:20250310T190000
DTSTAMP:20260420T071052
CREATED:20250228T205509Z
LAST-MODIFIED:20250228T205509Z
UID:28389-1741629600-1741633200@streamwoodparks.org
SUMMARY:Glitzy Girlz Treasure Hunt
DESCRIPTION:Staff will lead families on a treasure hunt to reveal a chest with fun goodies to take home. Together\, they will decorate a wooden treasure chest with paints\, jewels\, coins and personalization. They will design a beaded item together with assorted theme beads.
URL:https://streamwoodparks.org/event/glitzy-girlz-treasure-hunt/
LOCATION:Bartlett Park District\, 700 S. Bartlett Road\, Bartlett\, IL\, 60103
CATEGORIES:General Interest,Programs,Recreation
ATTACH;FMTTYPE=image/png:https://streamwoodparks.org/wp-content/uploads/2025/02/FB-Event-Photo-GlitzyGirlz-25.png
END:VEVENT
END:VCALENDAR