BEGIN:VCALENDAR
VERSION:2.0
PRODID:-//Streamwood Park District - ECPv6.15.18//NONSGML v1.0//EN
CALSCALE:GREGORIAN
METHOD:PUBLISH
X-WR-CALNAME:Streamwood Park District
X-ORIGINAL-URL:https://streamwoodparks.org
X-WR-CALDESC:Events for Streamwood Park District
REFRESH-INTERVAL;VALUE=DURATION:PT1H
X-Robots-Tag:noindex
X-PUBLISHED-TTL:PT1H
BEGIN:VTIMEZONE
TZID:America/Chicago
BEGIN:DAYLIGHT
TZOFFSETFROM:-0600
TZOFFSETTO:-0500
TZNAME:CDT
DTSTART:20230312T080000
END:DAYLIGHT
BEGIN:STANDARD
TZOFFSETFROM:-0500
TZOFFSETTO:-0600
TZNAME:CST
DTSTART:20231105T070000
END:STANDARD
BEGIN:DAYLIGHT
TZOFFSETFROM:-0600
TZOFFSETTO:-0500
TZNAME:CDT
DTSTART:20240310T080000
END:DAYLIGHT
BEGIN:STANDARD
TZOFFSETFROM:-0500
TZOFFSETTO:-0600
TZNAME:CST
DTSTART:20241103T070000
END:STANDARD
BEGIN:DAYLIGHT
TZOFFSETFROM:-0600
TZOFFSETTO:-0500
TZNAME:CDT
DTSTART:20250309T080000
END:DAYLIGHT
BEGIN:STANDARD
TZOFFSETFROM:-0500
TZOFFSETTO:-0600
TZNAME:CST
DTSTART:20251102T070000
END:STANDARD
END:VTIMEZONE
BEGIN:VEVENT
DTSTART;TZID=America/Chicago:20241201T080000
DTEND;TZID=America/Chicago:20241215T170000
DTSTAMP:20260422T182953
CREATED:20240813T141757Z
LAST-MODIFIED:20240813T141757Z
UID:27570-1733040000-1734282000@streamwoodparks.org
SUMMARY:Letters to Santa
DESCRIPTION:Santa Claus will once again have a special mailbox placed at Park Place\, Community Center\, and Hoosier Grove Barn. All children who write a letter to Santa will receive a letter directly from the North Pole! \nDrop off your letter in one of Santa’s mailboxes\, or mail your letter directly to:\nSanta Claus\nc/o Streamwood Park District\n550 S Park Blvd\nStreamwood\, IL 60107 \nPlease remember to include your child’s name and address on the back of the envelope. We don’t want any letters to get lost!
URL:https://streamwoodparks.org/event/letters-to-santa-3/
LOCATION:IL
CATEGORIES:Events,Programs,Special Event
ATTACH;FMTTYPE=image/png:https://streamwoodparks.org/wp-content/uploads/2022/09/SPD_Web_Event_LettersToSanta.png
ORGANIZER;CN="Adam Vasquez":MAILTO:avasquez@spdcares.com
END:VEVENT
BEGIN:VEVENT
DTSTART;TZID=America/Chicago:20241215T104500
DTEND;TZID=America/Chicago:20241215T114500
DTSTAMP:20260422T182953
CREATED:20230630T173629Z
LAST-MODIFIED:20230630T173629Z
UID:21670-1734259500-1734263100@streamwoodparks.org
SUMMARY:Jazzercise®
DESCRIPTION:
URL:https://streamwoodparks.org/event/jazzercise/2024-12-15/
LOCATION:Park Place Family Recreation Center\, 550 S. Park Blvd.\, Park Place Family Rec Center\, Streamwood\, IL\, 60107\, United States
CATEGORIES:Recreation
ORGANIZER;CN="Adam Vasquez":MAILTO:avasquez@spdcares.com
END:VEVENT
BEGIN:VEVENT
DTSTART;TZID=America/Chicago:20241215T113000
DTEND;TZID=America/Chicago:20241215T140000
DTSTAMP:20260422T182953
CREATED:20230815T194311Z
LAST-MODIFIED:20240926T163057Z
UID:20786-1734262200-1734271200@streamwoodparks.org
SUMMARY:Santa's Storytime Express
DESCRIPTION:Santa’s Storytime Express will be leaving from the Bartlett Train Station and heading to the North Pole. (Centre of Elgin) Arts/Crafts\, Snacks\, Drinks\, and of course a photo op with the big guy himself will all be included at the final destination. \n$35/$45 per person. Lap children 2 and under are free. Please register every family member. \nThe first train is scheduled to leave Bartlett at 11:30 am and departs Elgin at 1:55 pm. The second train is scheduled to leave Bartlett at 3:30 pm and departs Elgin at 5:55 pm. \nRegistration opens on October 5. Registration deadline is December 1\, or when maximum capacity is filled. \n 
URL:https://streamwoodparks.org/event/polar-express-storytime-train/2024-12-15/
LOCATION:Bartlett Train Station\, 120 e railroad ave\, Bartlett\, IL\, 60103
CATEGORIES:Events,Programs,Recreation,Special Event
ATTACH;FMTTYPE=image/png:https://streamwoodparks.org/wp-content/uploads/2023/08/Web-Event-Storytime-Express.png
END:VEVENT
END:VCALENDAR