BEGIN:VCALENDAR
VERSION:2.0
PRODID:-//Streamwood Park District - ECPv6.15.18//NONSGML v1.0//EN
CALSCALE:GREGORIAN
METHOD:PUBLISH
X-ORIGINAL-URL:https://streamwoodparks.org
X-WR-CALDESC:Events for Streamwood Park District
REFRESH-INTERVAL;VALUE=DURATION:PT1H
X-Robots-Tag:noindex
X-PUBLISHED-TTL:PT1H
BEGIN:VTIMEZONE
TZID:America/Chicago
BEGIN:DAYLIGHT
TZOFFSETFROM:-0600
TZOFFSETTO:-0500
TZNAME:CDT
DTSTART:20230312T080000
END:DAYLIGHT
BEGIN:STANDARD
TZOFFSETFROM:-0500
TZOFFSETTO:-0600
TZNAME:CST
DTSTART:20231105T070000
END:STANDARD
BEGIN:DAYLIGHT
TZOFFSETFROM:-0600
TZOFFSETTO:-0500
TZNAME:CDT
DTSTART:20240310T080000
END:DAYLIGHT
BEGIN:STANDARD
TZOFFSETFROM:-0500
TZOFFSETTO:-0600
TZNAME:CST
DTSTART:20241103T070000
END:STANDARD
BEGIN:DAYLIGHT
TZOFFSETFROM:-0600
TZOFFSETTO:-0500
TZNAME:CDT
DTSTART:20250309T080000
END:DAYLIGHT
BEGIN:STANDARD
TZOFFSETFROM:-0500
TZOFFSETTO:-0600
TZNAME:CST
DTSTART:20251102T070000
END:STANDARD
END:VTIMEZONE
BEGIN:VEVENT
DTSTART;TZID=America/Chicago:20241201T080000
DTEND;TZID=America/Chicago:20241215T170000
DTSTAMP:20260422T164753
CREATED:20240813T141757Z
LAST-MODIFIED:20240813T141757Z
UID:27570-1733040000-1734282000@streamwoodparks.org
SUMMARY:Letters to Santa
DESCRIPTION:Santa Claus will once again have a special mailbox placed at Park Place\, Community Center\, and Hoosier Grove Barn. All children who write a letter to Santa will receive a letter directly from the North Pole! \nDrop off your letter in one of Santa’s mailboxes\, or mail your letter directly to:\nSanta Claus\nc/o Streamwood Park District\n550 S Park Blvd\nStreamwood\, IL 60107 \nPlease remember to include your child’s name and address on the back of the envelope. We don’t want any letters to get lost!
URL:https://streamwoodparks.org/event/letters-to-santa-3/
LOCATION:IL
CATEGORIES:Events,Programs,Special Event
ATTACH;FMTTYPE=image/png:https://streamwoodparks.org/wp-content/uploads/2022/09/SPD_Web_Event_LettersToSanta.png
ORGANIZER;CN="Adam Vasquez":MAILTO:avasquez@spdcares.com
END:VEVENT
BEGIN:VEVENT
DTSTART;TZID=America/Chicago:20241210T084000
DTEND;TZID=America/Chicago:20241210T094000
DTSTAMP:20260422T164753
CREATED:20230630T173629Z
LAST-MODIFIED:20230921T155824Z
UID:18632-1733820000-1733823600@streamwoodparks.org
SUMMARY:Jazzercise®
DESCRIPTION:
URL:https://streamwoodparks.org/event/jazzercise/2024-12-10/
LOCATION:Park Place Family Recreation Center\, 550 S. Park Blvd.\, Park Place Family Rec Center\, Streamwood\, IL\, 60107\, United States
CATEGORIES:Recreation
ORGANIZER;CN="Adam Vasquez":MAILTO:avasquez@spdcares.com
END:VEVENT
BEGIN:VEVENT
DTSTART;TZID=America/Chicago:20241210T171000
DTEND;TZID=America/Chicago:20241210T181000
DTSTAMP:20260422T164753
CREATED:20230630T173629Z
LAST-MODIFIED:20230630T173629Z
UID:21667-1733850600-1733854200@streamwoodparks.org
SUMMARY:Jazzercise®
DESCRIPTION:
URL:https://streamwoodparks.org/event/jazzercise/2024-12-10/
LOCATION:Park Place Family Recreation Center\, 550 S. Park Blvd.\, Park Place Family Rec Center\, Streamwood\, IL\, 60107\, United States
CATEGORIES:Recreation
ORGANIZER;CN="Adam Vasquez":MAILTO:avasquez@spdcares.com
END:VEVENT
BEGIN:VEVENT
DTSTART;TZID=America/Chicago:20241210T183000
DTEND;TZID=America/Chicago:20241210T200000
DTSTAMP:20260422T164753
CREATED:20240813T143103Z
LAST-MODIFIED:20240813T143103Z
UID:27572-1733855400-1733860800@streamwoodparks.org
SUMMARY:Mixology
DESCRIPTION:Join us for a festive evening of cocktail crafting as we celebrate the holiday season. \nLearn to make wintery cocktails perfect for Christmas and New Year’s Eve. \nTuesday\, December 10\n6:30 – 8pm\nHoosier Grove Barn\n$49/$59 \n21 years +
URL:https://streamwoodparks.org/event/mixology-2/
LOCATION:Hoosier Grove Barn\, 700 W. Irving Park Road\, Streamwood\, IL\, 60107\, United States
CATEGORIES:Adult Event,Events,Programs,Special Event
ATTACH;FMTTYPE=image/png:https://streamwoodparks.org/wp-content/uploads/2024/08/Web-Event-Mixology.png
ORGANIZER;CN="Adam Vasquez":MAILTO:avasquez@spdcares.com
END:VEVENT
END:VCALENDAR