BEGIN:VCALENDAR
VERSION:2.0
PRODID:-//Streamwood Park District - ECPv6.15.18//NONSGML v1.0//EN
CALSCALE:GREGORIAN
METHOD:PUBLISH
X-ORIGINAL-URL:https://streamwoodparks.org
X-WR-CALDESC:Events for Streamwood Park District
REFRESH-INTERVAL;VALUE=DURATION:PT1H
X-Robots-Tag:noindex
X-PUBLISHED-TTL:PT1H
BEGIN:VTIMEZONE
TZID:America/Chicago
BEGIN:DAYLIGHT
TZOFFSETFROM:-0600
TZOFFSETTO:-0500
TZNAME:CDT
DTSTART:20230312T080000
END:DAYLIGHT
BEGIN:STANDARD
TZOFFSETFROM:-0500
TZOFFSETTO:-0600
TZNAME:CST
DTSTART:20231105T070000
END:STANDARD
BEGIN:DAYLIGHT
TZOFFSETFROM:-0600
TZOFFSETTO:-0500
TZNAME:CDT
DTSTART:20240310T080000
END:DAYLIGHT
BEGIN:STANDARD
TZOFFSETFROM:-0500
TZOFFSETTO:-0600
TZNAME:CST
DTSTART:20241103T070000
END:STANDARD
BEGIN:DAYLIGHT
TZOFFSETFROM:-0600
TZOFFSETTO:-0500
TZNAME:CDT
DTSTART:20250309T080000
END:DAYLIGHT
BEGIN:STANDARD
TZOFFSETFROM:-0500
TZOFFSETTO:-0600
TZNAME:CST
DTSTART:20251102T070000
END:STANDARD
END:VTIMEZONE
BEGIN:VEVENT
DTSTART;TZID=America/Chicago:20241201T080000
DTEND;TZID=America/Chicago:20241215T170000
DTSTAMP:20260422T105701
CREATED:20240813T141757Z
LAST-MODIFIED:20240813T141757Z
UID:27570-1733040000-1734282000@streamwoodparks.org
SUMMARY:Letters to Santa
DESCRIPTION:Santa Claus will once again have a special mailbox placed at Park Place\, Community Center\, and Hoosier Grove Barn. All children who write a letter to Santa will receive a letter directly from the North Pole! \nDrop off your letter in one of Santa’s mailboxes\, or mail your letter directly to:\nSanta Claus\nc/o Streamwood Park District\n550 S Park Blvd\nStreamwood\, IL 60107 \nPlease remember to include your child’s name and address on the back of the envelope. We don’t want any letters to get lost!
URL:https://streamwoodparks.org/event/letters-to-santa-3/
LOCATION:IL
CATEGORIES:Events,Programs,Special Event
ATTACH;FMTTYPE=image/png:https://streamwoodparks.org/wp-content/uploads/2022/09/SPD_Web_Event_LettersToSanta.png
ORGANIZER;CN="Adam Vasquez":MAILTO:avasquez@spdcares.com
END:VEVENT
BEGIN:VEVENT
DTSTART;TZID=America/Chicago:20241203T084000
DTEND;TZID=America/Chicago:20241203T094000
DTSTAMP:20260422T105701
CREATED:20230630T173629Z
LAST-MODIFIED:20230921T155822Z
UID:18630-1733215200-1733218800@streamwoodparks.org
SUMMARY:Jazzercise®
DESCRIPTION:
URL:https://streamwoodparks.org/event/jazzercise/2024-12-03/
LOCATION:Park Place Family Recreation Center\, 550 S. Park Blvd.\, Park Place Family Rec Center\, Streamwood\, IL\, 60107\, United States
CATEGORIES:Recreation
ORGANIZER;CN="Adam Vasquez":MAILTO:avasquez@spdcares.com
END:VEVENT
BEGIN:VEVENT
DTSTART;TZID=America/Chicago:20241203T170000
DTEND;TZID=America/Chicago:20241203T190000
DTSTAMP:20260422T105701
CREATED:20240816T192343Z
LAST-MODIFIED:20240816T192343Z
UID:27658-1733245200-1733252400@streamwoodparks.org
SUMMARY:Winter Soccer Camp Begins
DESCRIPTION:This soccer camp is coached by our fantastic Park District volunteer coaches and partnered with the Goleadores Soccer program. Players will work on different drills each week in our newly renovated turf indoor soccer field at the Streamwood Community Center. No class on December 24 or December 31. \n7-9 year olds; 5-6 p.m.\n10-12 year olds: 6-7 p.m.\n13-15 year olds: 7-8 p.m.
URL:https://streamwoodparks.org/event/winter-soccer-camp-begins/
LOCATION:Community Center\, 777 S. Bartlett Road\, Streamwood Park District\, Streamwood\, IL\, 60107\, United States
CATEGORIES:Athletics,Programs,Recreation
ATTACH;FMTTYPE=image/jpeg:https://streamwoodparks.org/wp-content/uploads/2024/03/Indoor-Soccer-CC.jpg
END:VEVENT
BEGIN:VEVENT
DTSTART;TZID=America/Chicago:20241203T171000
DTEND;TZID=America/Chicago:20241203T181000
DTSTAMP:20260422T105701
CREATED:20230630T173629Z
LAST-MODIFIED:20230630T173629Z
UID:21662-1733245800-1733249400@streamwoodparks.org
SUMMARY:Jazzercise®
DESCRIPTION:
URL:https://streamwoodparks.org/event/jazzercise/2024-12-03/
LOCATION:Park Place Family Recreation Center\, 550 S. Park Blvd.\, Park Place Family Rec Center\, Streamwood\, IL\, 60107\, United States
CATEGORIES:Recreation
ORGANIZER;CN="Adam Vasquez":MAILTO:avasquez@spdcares.com
END:VEVENT
BEGIN:VEVENT
DTSTART;TZID=America/Chicago:20241203T180000
DTEND;TZID=America/Chicago:20241203T180000
DTSTAMP:20260422T105701
CREATED:20240816T184222Z
LAST-MODIFIED:20240816T184222Z
UID:27645-1733248800-1733248800@streamwoodparks.org
SUMMARY:Youth Volleyball Camp Begins
DESCRIPTION:This opportunity will allow players to run some drills with our volunteer coaches followed by some scrimmage time. It is the perfect way to prepare for the upcoming Spring Volleyball League
URL:https://streamwoodparks.org/event/youth-volleyball-camp-begins/
LOCATION:Park Place Family Recreation Center\, 550 S. Park Blvd.\, Park Place Family Rec Center\, Streamwood\, IL\, 60107\, United States
CATEGORIES:Athletics,Programs,Recreation
ATTACH;FMTTYPE=image/png:https://streamwoodparks.org/wp-content/uploads/2023/06/Volleyball-Clinic.png
END:VEVENT
END:VCALENDAR