BEGIN:VCALENDAR
VERSION:2.0
PRODID:-//Streamwood Park District - ECPv6.15.18//NONSGML v1.0//EN
CALSCALE:GREGORIAN
METHOD:PUBLISH
X-WR-CALNAME:Streamwood Park District
X-ORIGINAL-URL:https://streamwoodparks.org
X-WR-CALDESC:Events for Streamwood Park District
REFRESH-INTERVAL;VALUE=DURATION:PT1H
X-Robots-Tag:noindex
X-PUBLISHED-TTL:PT1H
BEGIN:VTIMEZONE
TZID:America/Chicago
BEGIN:DAYLIGHT
TZOFFSETFROM:-0600
TZOFFSETTO:-0500
TZNAME:CDT
DTSTART:20230312T080000
END:DAYLIGHT
BEGIN:STANDARD
TZOFFSETFROM:-0500
TZOFFSETTO:-0600
TZNAME:CST
DTSTART:20231105T070000
END:STANDARD
BEGIN:DAYLIGHT
TZOFFSETFROM:-0600
TZOFFSETTO:-0500
TZNAME:CDT
DTSTART:20240310T080000
END:DAYLIGHT
BEGIN:STANDARD
TZOFFSETFROM:-0500
TZOFFSETTO:-0600
TZNAME:CST
DTSTART:20241103T070000
END:STANDARD
BEGIN:DAYLIGHT
TZOFFSETFROM:-0600
TZOFFSETTO:-0500
TZNAME:CDT
DTSTART:20250309T080000
END:DAYLIGHT
BEGIN:STANDARD
TZOFFSETFROM:-0500
TZOFFSETTO:-0600
TZNAME:CST
DTSTART:20251102T070000
END:STANDARD
END:VTIMEZONE
BEGIN:VEVENT
DTSTART;TZID=America/Chicago:20241123T070000
DTEND;TZID=America/Chicago:20241123T080000
DTSTAMP:20260423T105920
CREATED:20240306T192554Z
LAST-MODIFIED:20240306T192554Z
UID:26776-1732345200-1732348800@streamwoodparks.org
SUMMARY:Alignment Yoga
DESCRIPTION:with Diane \nThis all-levels class is a slow-paced flow with a focus on the foundations of postures.  The class has a combination of mobility\, strength\, and alignment drills that enhance any level of practitioner interested in developing more awareness in breath and movement.
URL:https://streamwoodparks.org/event/alignment-yoga/2024-11-23/
LOCATION:Park Place Family Recreation Center\, 550 S. Park Blvd.\, Park Place Family Rec Center\, Streamwood\, IL\, 60107\, United States
CATEGORIES:Recreation
ORGANIZER;CN="Adam Vasquez":MAILTO:avasquez@spdcares.com
END:VEVENT
BEGIN:VEVENT
DTSTART;TZID=America/Chicago:20241123T080000
DTEND;TZID=America/Chicago:20241123T170000
DTSTAMP:20260423T105920
CREATED:20240816T190736Z
LAST-MODIFIED:20241009T184422Z
UID:27652-1732348800-1732381200@streamwoodparks.org
SUMMARY:Girls Basketball League Deadline
DESCRIPTION:3rd – 8th graders \nThis inter-village league season consists of 10 games beginning in early January 2025. Games will be played once a week on Saturdays. Practices will be held during the week at the Park Place. Each participant will receive a uniform consisting of a jersey top. Specific game times will be released on our athletics page at www.spdathletics.com. \nRegistration deadline is November 23. League begins January 11\, 2025. \n2nd-4th graders: $145\n5th & 6th graders: $155\n7th & 8th graders: $165
URL:https://streamwoodparks.org/event/girls-basketball-league-deadline/
LOCATION:Park Place Family Recreation Center\, 550 S. Park Blvd.\, Park Place Family Rec Center\, Streamwood\, IL\, 60107\, United States
CATEGORIES:Athletics,Programs,Recreation
ATTACH;FMTTYPE=image/jpeg:https://streamwoodparks.org/wp-content/uploads/2024/08/Girls-Basketball1.jpg
END:VEVENT
BEGIN:VEVENT
DTSTART;TZID=America/Chicago:20241123T080000
DTEND;TZID=America/Chicago:20241123T170000
DTSTAMP:20260423T105920
CREATED:20240816T191024Z
LAST-MODIFIED:20240816T191024Z
UID:27654-1732348800-1732381200@streamwoodparks.org
SUMMARY:Boys Basketball League Deadline
DESCRIPTION:Games and practices will be held at Park Place. Teams will have at least 1 practice per week and games will be played on Saturday mornings/afternoons with the possible addition of a Sunday game. The goal of the program is to help each participant experience success as they develop their skills and abilities. An emphasis is placed not only on the basic skills of basketball but also upon the development of important character qualities such as sportsmanship and teamwork. All players will receive a jersey. \n1st & 2nd graders (co-ed); $135\n1st-3rd grade boys: $145\n4th & 5th grade boys: $155\n6th-8th grade boys: $165
URL:https://streamwoodparks.org/event/boys-basketball-league-deadline/
LOCATION:Park Place Family Recreation Center\, 550 S. Park Blvd.\, Park Place Family Rec Center\, Streamwood\, IL\, 60107\, United States
CATEGORIES:Athletics,Programs,Recreation
ATTACH;FMTTYPE=image/png:https://streamwoodparks.org/wp-content/uploads/2024/02/Web-Event-YOUTH-BASKETBALL.png
END:VEVENT
BEGIN:VEVENT
DTSTART;TZID=America/Chicago:20241123T083000
DTEND;TZID=America/Chicago:20241123T093000
DTSTAMP:20260423T105920
CREATED:20240110T175054Z
LAST-MODIFIED:20240110T175054Z
UID:26310-1732350600-1732354200@streamwoodparks.org
SUMMARY:Boot Camp
DESCRIPTION:with Debbie & Cari \nWork at your own pace and ability as your instructor takes you through a series of both strength training and cardio full body movements that will help you improve your strength\, power\, and movement. Class variety designed to push and challenge the body.
URL:https://streamwoodparks.org/event/boot-camp/2024-11-23/
LOCATION:Park Place Family Recreation Center\, 550 S. Park Blvd.\, Park Place Family Rec Center\, Streamwood\, IL\, 60107\, United States
CATEGORIES:Recreation
ORGANIZER;CN="Adam Vasquez":MAILTO:avasquez@spdcares.com
END:VEVENT
END:VCALENDAR