BEGIN:VCALENDAR
VERSION:2.0
PRODID:-//Streamwood Park District - ECPv6.15.18//NONSGML v1.0//EN
CALSCALE:GREGORIAN
METHOD:PUBLISH
X-WR-CALNAME:Streamwood Park District
X-ORIGINAL-URL:https://streamwoodparks.org
X-WR-CALDESC:Events for Streamwood Park District
REFRESH-INTERVAL;VALUE=DURATION:PT1H
X-Robots-Tag:noindex
X-PUBLISHED-TTL:PT1H
BEGIN:VTIMEZONE
TZID:America/Chicago
BEGIN:DAYLIGHT
TZOFFSETFROM:-0600
TZOFFSETTO:-0500
TZNAME:CDT
DTSTART:20230312T080000
END:DAYLIGHT
BEGIN:STANDARD
TZOFFSETFROM:-0500
TZOFFSETTO:-0600
TZNAME:CST
DTSTART:20231105T070000
END:STANDARD
BEGIN:DAYLIGHT
TZOFFSETFROM:-0600
TZOFFSETTO:-0500
TZNAME:CDT
DTSTART:20240310T080000
END:DAYLIGHT
BEGIN:STANDARD
TZOFFSETFROM:-0500
TZOFFSETTO:-0600
TZNAME:CST
DTSTART:20241103T070000
END:STANDARD
BEGIN:DAYLIGHT
TZOFFSETFROM:-0600
TZOFFSETTO:-0500
TZNAME:CDT
DTSTART:20250309T080000
END:DAYLIGHT
BEGIN:STANDARD
TZOFFSETFROM:-0500
TZOFFSETTO:-0600
TZNAME:CST
DTSTART:20251102T070000
END:STANDARD
END:VTIMEZONE
BEGIN:VEVENT
DTSTART;TZID=America/Chicago:20241102T070000
DTEND;TZID=America/Chicago:20241102T080000
DTSTAMP:20260423T220018
CREATED:20240306T192554Z
LAST-MODIFIED:20240306T192554Z
UID:26773-1730530800-1730534400@streamwoodparks.org
SUMMARY:Alignment Yoga
DESCRIPTION:with Diane \nThis all-levels class is a slow-paced flow with a focus on the foundations of postures.  The class has a combination of mobility\, strength\, and alignment drills that enhance any level of practitioner interested in developing more awareness in breath and movement.
URL:https://streamwoodparks.org/event/alignment-yoga/2024-11-02/
LOCATION:Park Place Family Recreation Center\, 550 S. Park Blvd.\, Park Place Family Rec Center\, Streamwood\, IL\, 60107\, United States
CATEGORIES:Recreation
ORGANIZER;CN="Adam Vasquez":MAILTO:avasquez@spdcares.com
END:VEVENT
BEGIN:VEVENT
DTSTART;TZID=America/Chicago:20241102T083000
DTEND;TZID=America/Chicago:20241102T093000
DTSTAMP:20260423T220018
CREATED:20240110T175054Z
LAST-MODIFIED:20240110T175054Z
UID:26307-1730536200-1730539800@streamwoodparks.org
SUMMARY:Boot Camp
DESCRIPTION:with Debbie & Cari \nWork at your own pace and ability as your instructor takes you through a series of both strength training and cardio full body movements that will help you improve your strength\, power\, and movement. Class variety designed to push and challenge the body.
URL:https://streamwoodparks.org/event/boot-camp/2024-11-02/
LOCATION:Park Place Family Recreation Center\, 550 S. Park Blvd.\, Park Place Family Rec Center\, Streamwood\, IL\, 60107\, United States
CATEGORIES:Recreation
ORGANIZER;CN="Adam Vasquez":MAILTO:avasquez@spdcares.com
END:VEVENT
BEGIN:VEVENT
DTSTART;TZID=America/Chicago:20241102T110000
DTEND;TZID=America/Chicago:20241102T160000
DTSTAMP:20260423T220018
CREATED:20240619T184721Z
LAST-MODIFIED:20241001T203737Z
UID:27386-1730545200-1730563200@streamwoodparks.org
SUMMARY:Unity in Art
DESCRIPTION:The Streamwood Park District and the Village of Streamwood Community Relations Commission invite the public to Unity in Art – A Celebration of Cultural Diversity Saturday\, Nov. 2 at Park Place Family Recreation Center in partnership with RUSH Physical Therapy\, 550 S. Park Blvd. \nArt show: 11 a.m. – 4 p.m.Live Performances: 12 p.m. \nThis free event will showcase the cultural diversity in and around Streamwood through art and performance to help foster better understanding and relationships of area residents. \nAre you interested in participating? We are looking for a variety of individuals and groups to share their cultural expression through the performing arts\, such as instrumental music\, song\, storytelling\, dance\, poetry\, etc. Applications and information are listed below: \n’24 Performers Application \n’24 Artist Information Form \n’24 Artist Event Application \nFor more information\, please contact Deputy Chief Mike Schwartz at mschwartz@streamwood.org.
URL:https://streamwoodparks.org/event/unity-in-art/
LOCATION:Park Place Family Recreation Center\, 550 S. Park Blvd.\, Park Place Family Rec Center\, Streamwood\, IL\, 60107\, United States
CATEGORIES:Events,Special Event
ATTACH;FMTTYPE=image/png:https://streamwoodparks.org/wp-content/uploads/2024/06/FB-Event-Unity-Art.png
END:VEVENT
END:VCALENDAR