BEGIN:VCALENDAR
VERSION:2.0
PRODID:-//Streamwood Park District - ECPv6.15.18//NONSGML v1.0//EN
CALSCALE:GREGORIAN
METHOD:PUBLISH
X-ORIGINAL-URL:https://streamwoodparks.org
X-WR-CALDESC:Events for Streamwood Park District
REFRESH-INTERVAL;VALUE=DURATION:PT1H
X-Robots-Tag:noindex
X-PUBLISHED-TTL:PT1H
BEGIN:VTIMEZONE
TZID:America/Chicago
BEGIN:DAYLIGHT
TZOFFSETFROM:-0600
TZOFFSETTO:-0500
TZNAME:CDT
DTSTART:20230312T080000
END:DAYLIGHT
BEGIN:STANDARD
TZOFFSETFROM:-0500
TZOFFSETTO:-0600
TZNAME:CST
DTSTART:20231105T070000
END:STANDARD
BEGIN:DAYLIGHT
TZOFFSETFROM:-0600
TZOFFSETTO:-0500
TZNAME:CDT
DTSTART:20240310T080000
END:DAYLIGHT
BEGIN:STANDARD
TZOFFSETFROM:-0500
TZOFFSETTO:-0600
TZNAME:CST
DTSTART:20241103T070000
END:STANDARD
BEGIN:DAYLIGHT
TZOFFSETFROM:-0600
TZOFFSETTO:-0500
TZNAME:CDT
DTSTART:20250309T080000
END:DAYLIGHT
BEGIN:STANDARD
TZOFFSETFROM:-0500
TZOFFSETTO:-0600
TZNAME:CST
DTSTART:20251102T070000
END:STANDARD
END:VTIMEZONE
BEGIN:VEVENT
DTSTART;TZID=America/Chicago:20240922T104500
DTEND;TZID=America/Chicago:20240922T114500
DTSTAMP:20260419T114024
CREATED:20230630T173629Z
LAST-MODIFIED:20230630T173629Z
UID:21610-1727001900-1727005500@streamwoodparks.org
SUMMARY:Jazzercise®
DESCRIPTION:
URL:https://streamwoodparks.org/event/jazzercise/2024-09-22/
LOCATION:Park Place Family Recreation Center\, 550 S. Park Blvd.\, Park Place Family Rec Center\, Streamwood\, IL\, 60107\, United States
CATEGORIES:Recreation
ORGANIZER;CN="Adam Vasquez":MAILTO:avasquez@spdcares.com
END:VEVENT
BEGIN:VEVENT
DTSTART;TZID=America/Chicago:20240922T130000
DTEND;TZID=America/Chicago:20240922T170000
DTSTAMP:20260419T114024
CREATED:20240813T132826Z
LAST-MODIFIED:20240813T132826Z
UID:27559-1727010000-1727024400@streamwoodparks.org
SUMMARY:Oktoberfest
DESCRIPTION:Guten tag! It’s back. Enjoy Oktoberfest…Streamwood style! \nThe event takes place 1-5 p.m. on Sunday\, September 22 and features more than 30 brewers who will have an assortment of biers\, ciders\, and meads. Enjoy food and live music all on the campus of the beautiful and historic Hoosier Grove Barn in Streamwood\, IL. This is an event you do not want to miss! \nEarly bird tickets are $40 per person through Friday\, August 2 ($45 general admission and $50 at the gate) and grant each ticket holder 15 three-ounce samples of the various biers available as well as a souvenir glass or mug. There are also Designated Driver tickets available for $10 per person offering those ticket holders unlimited pop and water. \nPreliminary list of 2024 participating breweries (subject to change): \n\nArt History Brewing\, Geneva\, IL\nBrother Chimp Brewing\, North Aurora\, IL\nBuffalo Creek Brewing\, Long Grove\, IL\nBubblehouse Brewing\, Lisle\, IL\nChurch Street Brewing\, Itasca\, IL\nConrad Seipp Brewing\, Chicago\, IL\nGoldfinger Brewing Company\, Downers Grove\, IL\nHop District Brewing\, LaGrange\, IL\nKishwaukee Brewing\, Woodstock\, IL\nLynfred Winery\, Roselle\, IL\nMarz Community Brewing\, Chicago\, IL\nMiskatonic Brewing\, Darien\, IL\nNosy Neighbor Brewing\, Kenosha\, WI\nObscurity Brewing\, Elburn\, IL\nPenrose Brewing\, Geneva\, IL\nRiverlands Brewing\, St. Charles\, IL\nSkeleton Key Brewing Company\, Woodridge\, IL\nSturdy Shelter Brewing\, Batavia\, IL\nTangled Roots Brewing\, Ottawa\, IL\nUrban Chestnut Brewing\, St. Louis\, MO\nWolfden Brewing\, Bloomingdale\, IL\n\nA complete list of participating breweries\, vendors\, live entertainment and food options will be shared closer to the event date. \nA portion of all proceeds goes to the Streamwood Park District Scholarship Program to provide recreational and educational opportunities to families in need. \nLimited tickets available – order now! Prost! \nEvent is for ages 21+. No children allowed.
URL:https://streamwoodparks.org/event/oktoberfest-3/
LOCATION:Hoosier Grove Barn\, 700 W. Irving Park Road\, Streamwood\, IL\, 60107\, United States
CATEGORIES:Adult Event,Events,Programs,Special Event
ATTACH;FMTTYPE=image/png:https://streamwoodparks.org/wp-content/uploads/2024/07/SPD-HP-Slider-Oktoberfest.png
END:VEVENT
END:VCALENDAR