BEGIN:VCALENDAR
VERSION:2.0
PRODID:-//Streamwood Park District - ECPv6.15.18//NONSGML v1.0//EN
CALSCALE:GREGORIAN
METHOD:PUBLISH
X-ORIGINAL-URL:https://streamwoodparks.org
X-WR-CALDESC:Events for Streamwood Park District
REFRESH-INTERVAL;VALUE=DURATION:PT1H
X-Robots-Tag:noindex
X-PUBLISHED-TTL:PT1H
BEGIN:VTIMEZONE
TZID:America/Chicago
BEGIN:DAYLIGHT
TZOFFSETFROM:-0600
TZOFFSETTO:-0500
TZNAME:CDT
DTSTART:20230312T080000
END:DAYLIGHT
BEGIN:STANDARD
TZOFFSETFROM:-0500
TZOFFSETTO:-0600
TZNAME:CST
DTSTART:20231105T070000
END:STANDARD
BEGIN:DAYLIGHT
TZOFFSETFROM:-0600
TZOFFSETTO:-0500
TZNAME:CDT
DTSTART:20240310T080000
END:DAYLIGHT
BEGIN:STANDARD
TZOFFSETFROM:-0500
TZOFFSETTO:-0600
TZNAME:CST
DTSTART:20241103T070000
END:STANDARD
BEGIN:DAYLIGHT
TZOFFSETFROM:-0600
TZOFFSETTO:-0500
TZNAME:CDT
DTSTART:20250309T080000
END:DAYLIGHT
BEGIN:STANDARD
TZOFFSETFROM:-0500
TZOFFSETTO:-0600
TZNAME:CST
DTSTART:20251102T070000
END:STANDARD
END:VTIMEZONE
BEGIN:VEVENT
DTSTART;TZID=America/Chicago:20240914T070000
DTEND;TZID=America/Chicago:20240914T080000
DTSTAMP:20260419T081932
CREATED:20240306T192554Z
LAST-MODIFIED:20240306T192554Z
UID:26766-1726297200-1726300800@streamwoodparks.org
SUMMARY:Alignment Yoga
DESCRIPTION:with Diane \nThis all-levels class is a slow-paced flow with a focus on the foundations of postures.  The class has a combination of mobility\, strength\, and alignment drills that enhance any level of practitioner interested in developing more awareness in breath and movement.
URL:https://streamwoodparks.org/event/alignment-yoga/2024-09-14/
LOCATION:Park Place Family Recreation Center\, 550 S. Park Blvd.\, Park Place Family Rec Center\, Streamwood\, IL\, 60107\, United States
CATEGORIES:Recreation
ORGANIZER;CN="Adam Vasquez":MAILTO:avasquez@spdcares.com
END:VEVENT
BEGIN:VEVENT
DTSTART;TZID=America/Chicago:20240914T080000
DTEND;TZID=America/Chicago:20240914T103000
DTSTAMP:20260419T081932
CREATED:20240816T155909Z
LAST-MODIFIED:20240816T155909Z
UID:27617-1726300800-1726309800@streamwoodparks.org
SUMMARY:Hot Shots Begin
DESCRIPTION:Hot Shots Sports was founded in 1994 by Steve Duman and has been bringing its message of positive\, growth-focused coaching to the Midwest and beyond ever since. Our goal from the beginning was to provide a place for passionate people to have careers coaching kids\, and to help kids find passion for sports. We dedicate our lives to providing the absolute best instruction possible to you and your family. We pride ourselves at being the most professional organization both on and off the court. Coaching is a way of life for us\, something that does not turn off when we leave the gym. Our dedicated staff are driven to impact your community\, family\, and child’s life for the better. \nAdult/Tot Soccer\n2-3 year olds with a parent\n8-8:30 a.m. \nPeewee Soccer\n4-6 year olds\n8:30-9 a.m. \nBoys Flag Football\n8-13 year olds\n9:30-10:30 a.m. \nGirls Flag Football\n8-13 year olds\n10:30-11:30 a.m.
URL:https://streamwoodparks.org/event/hot-shots-begin/2024-09-14/
LOCATION:Community Center\, 777 S. Bartlett Road\, Streamwood Park District\, Streamwood\, IL\, 60107\, United States
CATEGORIES:Athletics,Programs,Recreation
ATTACH;FMTTYPE=image/png:https://streamwoodparks.org/wp-content/uploads/2024/02/Web-Event-HOT-SHOTS-SPORTS.png
ORGANIZER;CN="Chris Fetterman":MAILTO:cfetterman@spdcares.com
END:VEVENT
BEGIN:VEVENT
DTSTART;TZID=America/Chicago:20240914T083000
DTEND;TZID=America/Chicago:20240914T093000
DTSTAMP:20260419T081932
CREATED:20240110T175054Z
LAST-MODIFIED:20240110T175054Z
UID:26300-1726302600-1726306200@streamwoodparks.org
SUMMARY:Boot Camp
DESCRIPTION:with Debbie & Cari \nWork at your own pace and ability as your instructor takes you through a series of both strength training and cardio full body movements that will help you improve your strength\, power\, and movement. Class variety designed to push and challenge the body.
URL:https://streamwoodparks.org/event/boot-camp/2024-09-14/
LOCATION:Park Place Family Recreation Center\, 550 S. Park Blvd.\, Park Place Family Rec Center\, Streamwood\, IL\, 60107\, United States
CATEGORIES:Recreation
ORGANIZER;CN="Adam Vasquez":MAILTO:avasquez@spdcares.com
END:VEVENT
END:VCALENDAR