BEGIN:VCALENDAR
VERSION:2.0
PRODID:-//Streamwood Park District - ECPv6.15.18//NONSGML v1.0//EN
CALSCALE:GREGORIAN
METHOD:PUBLISH
X-ORIGINAL-URL:https://streamwoodparks.org
X-WR-CALDESC:Events for Streamwood Park District
REFRESH-INTERVAL;VALUE=DURATION:PT1H
X-Robots-Tag:noindex
X-PUBLISHED-TTL:PT1H
BEGIN:VTIMEZONE
TZID:America/Chicago
BEGIN:DAYLIGHT
TZOFFSETFROM:-0600
TZOFFSETTO:-0500
TZNAME:CDT
DTSTART:20230312T080000
END:DAYLIGHT
BEGIN:STANDARD
TZOFFSETFROM:-0500
TZOFFSETTO:-0600
TZNAME:CST
DTSTART:20231105T070000
END:STANDARD
BEGIN:DAYLIGHT
TZOFFSETFROM:-0600
TZOFFSETTO:-0500
TZNAME:CDT
DTSTART:20240310T080000
END:DAYLIGHT
BEGIN:STANDARD
TZOFFSETFROM:-0500
TZOFFSETTO:-0600
TZNAME:CST
DTSTART:20241103T070000
END:STANDARD
BEGIN:DAYLIGHT
TZOFFSETFROM:-0600
TZOFFSETTO:-0500
TZNAME:CDT
DTSTART:20250309T080000
END:DAYLIGHT
BEGIN:STANDARD
TZOFFSETFROM:-0500
TZOFFSETTO:-0600
TZNAME:CST
DTSTART:20251102T070000
END:STANDARD
END:VTIMEZONE
BEGIN:VEVENT
DTSTART;TZID=America/Chicago:20240907T070000
DTEND;TZID=America/Chicago:20240907T080000
DTSTAMP:20260419T113727
CREATED:20240306T192554Z
LAST-MODIFIED:20240306T192554Z
UID:26765-1725692400-1725696000@streamwoodparks.org
SUMMARY:Alignment Yoga
DESCRIPTION:with Diane \nThis all-levels class is a slow-paced flow with a focus on the foundations of postures.  The class has a combination of mobility\, strength\, and alignment drills that enhance any level of practitioner interested in developing more awareness in breath and movement.
URL:https://streamwoodparks.org/event/alignment-yoga/2024-09-07/
LOCATION:Park Place Family Recreation Center\, 550 S. Park Blvd.\, Park Place Family Rec Center\, Streamwood\, IL\, 60107\, United States
CATEGORIES:Recreation
ORGANIZER;CN="Adam Vasquez":MAILTO:avasquez@spdcares.com
END:VEVENT
BEGIN:VEVENT
DTSTART;TZID=America/Chicago:20240907T080000
DTEND;TZID=America/Chicago:20240907T144500
DTSTAMP:20260419T113727
CREATED:20240816T164402Z
LAST-MODIFIED:20240816T164402Z
UID:27640-1725696000-1725720300@streamwoodparks.org
SUMMARY:Shotokan Karate Begins
DESCRIPTION:Illinois Shotokan Karate’s classes put students in touch with their bodies and offer a good mix of strength training with cardiovascular and flexibility exercises. Students increase their coordination\, agility\, and poise as well as learn lasting personal safety traits. \nRegistration for Continuers through Advanced students will be accepted after the start date\, but the full class fee is required. \nPre-Karate\n4-6 year olds \nYouth/Adult Karate\n7 years +
URL:https://streamwoodparks.org/event/shotokan-karate-begins-4/2024-09-07/
LOCATION:IL
CATEGORIES:Athletics,Programs,Recreation
ATTACH;FMTTYPE=image/png:https://streamwoodparks.org/wp-content/uploads/2024/02/Web-Event-SHOTOKAN.png
END:VEVENT
BEGIN:VEVENT
DTSTART;TZID=America/Chicago:20240907T080000
DTEND;TZID=America/Chicago:20240907T170000
DTSTAMP:20260419T113727
CREATED:20240816T183940Z
LAST-MODIFIED:20240816T183940Z
UID:27643-1725696000-1725728400@streamwoodparks.org
SUMMARY:Youth Volleyball League Deadline
DESCRIPTION:Learn the fundamentals of the game as well as teamwork and sportsmanship. Practices begin in late September and coaches will determine the specific practice date. Games will start October 5. Specific game times will depend on where the game is being held. \nRegistration Deadline: September 7
URL:https://streamwoodparks.org/event/youth-volleyball-league-deadline/
LOCATION:Park Place Family Recreation Center\, 550 S. Park Blvd.\, Park Place Family Rec Center\, Streamwood\, IL\, 60107\, United States
CATEGORIES:Athletics,Programs,Recreation
ATTACH;FMTTYPE=image/png:https://streamwoodparks.org/wp-content/uploads/2023/02/Web-Event-Girls-Volleyball-Deadline.png
END:VEVENT
BEGIN:VEVENT
DTSTART;TZID=America/Chicago:20240907T083000
DTEND;TZID=America/Chicago:20240907T093000
DTSTAMP:20260419T113727
CREATED:20240110T175054Z
LAST-MODIFIED:20240110T175054Z
UID:26299-1725697800-1725701400@streamwoodparks.org
SUMMARY:Boot Camp
DESCRIPTION:with Debbie & Cari \nWork at your own pace and ability as your instructor takes you through a series of both strength training and cardio full body movements that will help you improve your strength\, power\, and movement. Class variety designed to push and challenge the body.
URL:https://streamwoodparks.org/event/boot-camp/2024-09-07/
LOCATION:Park Place Family Recreation Center\, 550 S. Park Blvd.\, Park Place Family Rec Center\, Streamwood\, IL\, 60107\, United States
CATEGORIES:Recreation
ORGANIZER;CN="Adam Vasquez":MAILTO:avasquez@spdcares.com
END:VEVENT
BEGIN:VEVENT
DTSTART;TZID=America/Chicago:20240907T083000
DTEND;TZID=America/Chicago:20240907T103000
DTSTAMP:20260419T113727
CREATED:20240813T132451Z
LAST-MODIFIED:20240813T132451Z
UID:27557-1725697800-1725705000@streamwoodparks.org
SUMMARY:Fishing Derby
DESCRIPTION:Kids ages 3-12 years old are invited to join the Kiwanis Club of Streamwood for the annual Fishing Derby. \nRegistration begins at 8:30am. Awards presentation to begin at 10:15am. \nBait will be available in limited quantities. All children must be accompanied by an adult.
URL:https://streamwoodparks.org/event/fishing-derby-2/
LOCATION:Surrey Woods Park\, 560 Ascot Lane\, Streamwood\, 60107
CATEGORIES:Events,Special Event
ATTACH;FMTTYPE=image/png:https://streamwoodparks.org/wp-content/uploads/2024/05/WebEvent-Fishing-Derby.png
END:VEVENT
END:VCALENDAR