BEGIN:VCALENDAR
VERSION:2.0
PRODID:-//Streamwood Park District - ECPv6.15.18//NONSGML v1.0//EN
CALSCALE:GREGORIAN
METHOD:PUBLISH
X-WR-CALNAME:Streamwood Park District
X-ORIGINAL-URL:https://streamwoodparks.org
X-WR-CALDESC:Events for Streamwood Park District
REFRESH-INTERVAL;VALUE=DURATION:PT1H
X-Robots-Tag:noindex
X-PUBLISHED-TTL:PT1H
BEGIN:VTIMEZONE
TZID:America/Chicago
BEGIN:DAYLIGHT
TZOFFSETFROM:-0600
TZOFFSETTO:-0500
TZNAME:CDT
DTSTART:20220313T080000
END:DAYLIGHT
BEGIN:STANDARD
TZOFFSETFROM:-0500
TZOFFSETTO:-0600
TZNAME:CST
DTSTART:20221106T070000
END:STANDARD
BEGIN:DAYLIGHT
TZOFFSETFROM:-0600
TZOFFSETTO:-0500
TZNAME:CDT
DTSTART:20230312T080000
END:DAYLIGHT
BEGIN:STANDARD
TZOFFSETFROM:-0500
TZOFFSETTO:-0600
TZNAME:CST
DTSTART:20231105T070000
END:STANDARD
BEGIN:DAYLIGHT
TZOFFSETFROM:-0600
TZOFFSETTO:-0500
TZNAME:CDT
DTSTART:20240310T080000
END:DAYLIGHT
BEGIN:STANDARD
TZOFFSETFROM:-0500
TZOFFSETTO:-0600
TZNAME:CST
DTSTART:20241103T070000
END:STANDARD
END:VTIMEZONE
BEGIN:VEVENT
DTSTART;TZID=America/Chicago:20231004T083000
DTEND;TZID=America/Chicago:20231004T091500
DTSTAMP:20260419T125315
CREATED:20231128T192117Z
LAST-MODIFIED:20231128T192117Z
UID:24455-1696408200-1696410900@streamwoodparks.org
SUMMARY:Cardio Kickboxing
DESCRIPTION:with Lilly \nA total body workout that involves utilizing multiple muscle groups to elevate the heart rate and train participants in speed\, agility\, and quickness. In the movement prep segment\, participants will be introduced to the proper technique in executing the four main punches (jab\, cross\, hook\, uppercut).
URL:https://streamwoodparks.org/event/cardio-kickboxing/2023-10-04/
LOCATION:Park Place Family Recreation Center\, 550 S. Park Blvd.\, Park Place Family Rec Center\, Streamwood\, IL\, 60107\, United States
ORGANIZER;CN="Adam Vasquez":MAILTO:avasquez@spdcares.com
END:VEVENT
BEGIN:VEVENT
DTSTART;TZID=America/Chicago:20231004T093000
DTEND;TZID=America/Chicago:20231004T101500
DTSTAMP:20260419T125315
CREATED:20231128T192330Z
LAST-MODIFIED:20240112T152806Z
UID:24478-1696411800-1696414500@streamwoodparks.org
SUMMARY:Stretch Infusion
DESCRIPTION:Instructor: Cathy \nFloor-based mat class designed for everyone. Non-impact\, safe\, and effective\, you
URL:https://streamwoodparks.org/event/stretch-infusion/2023-10-04/
LOCATION:Park Place Family Recreation Center\, 550 S. Park Blvd.\, Park Place Family Rec Center\, Streamwood\, IL\, 60107\, United States
ORGANIZER;CN="Adam Vasquez":MAILTO:avasquez@spdcares.com
END:VEVENT
END:VCALENDAR