BEGIN:VCALENDAR
VERSION:2.0
PRODID:-//Streamwood Park District - ECPv6.15.18//NONSGML v1.0//EN
CALSCALE:GREGORIAN
METHOD:PUBLISH
X-ORIGINAL-URL:https://streamwoodparks.org
X-WR-CALDESC:Events for Streamwood Park District
REFRESH-INTERVAL;VALUE=DURATION:PT1H
X-Robots-Tag:noindex
X-PUBLISHED-TTL:PT1H
BEGIN:VTIMEZONE
TZID:America/Chicago
BEGIN:DAYLIGHT
TZOFFSETFROM:-0600
TZOFFSETTO:-0500
TZNAME:CDT
DTSTART:20220313T080000
END:DAYLIGHT
BEGIN:STANDARD
TZOFFSETFROM:-0500
TZOFFSETTO:-0600
TZNAME:CST
DTSTART:20221106T070000
END:STANDARD
BEGIN:DAYLIGHT
TZOFFSETFROM:-0600
TZOFFSETTO:-0500
TZNAME:CDT
DTSTART:20230312T080000
END:DAYLIGHT
BEGIN:STANDARD
TZOFFSETFROM:-0500
TZOFFSETTO:-0600
TZNAME:CST
DTSTART:20231105T070000
END:STANDARD
BEGIN:DAYLIGHT
TZOFFSETFROM:-0600
TZOFFSETTO:-0500
TZNAME:CDT
DTSTART:20240310T080000
END:DAYLIGHT
BEGIN:STANDARD
TZOFFSETFROM:-0500
TZOFFSETTO:-0600
TZNAME:CST
DTSTART:20241103T070000
END:STANDARD
END:VTIMEZONE
BEGIN:VEVENT
DTSTART;VALUE=DATE:20230107
DTEND;VALUE=DATE:20230108
DTSTAMP:20260423T055526
CREATED:20221121T162426Z
LAST-MODIFIED:20221121T162426Z
UID:15100-1673049600-1673135999@streamwoodparks.org
SUMMARY:Youth Indoor Soccer League Registration Deadline
DESCRIPTION:REGISTER online or in person. \nIn-person registration is at Park Place Family Recreation Center in partnership with RUSH Physical Therapy.
URL:https://streamwoodparks.org/event/youth-indoor-soccer-league-registration-deadline/
LOCATION:Park Place Family Recreation Center\, 550 S. Park Blvd.\, Park Place Family Rec Center\, Streamwood\, IL\, 60107\, United States
CATEGORIES:Athletics,Programs,Recreation,Registration Deadline
END:VEVENT
BEGIN:VEVENT
DTSTART;TZID=America/Chicago:20230107T090000
DTEND;TZID=America/Chicago:20230107T120000
DTSTAMP:20260423T055526
CREATED:20220912T134513Z
LAST-MODIFIED:20220912T134513Z
UID:13488-1673082000-1673092800@streamwoodparks.org
SUMMARY:Girls Basketball Tips Off
DESCRIPTION:3rd – 8th GRADERS  \n\n\n\n\nThis inter-village league is for grades 3rd-8th. The season will consist of 10 games beginning in early January 2023. Games will be played once a week on Saturdays\, with practices being held during the week. Each participant will receive a jersey.
URL:https://streamwoodparks.org/event/girls-basketball-tips-off/
LOCATION:Park Place Family Recreation Center\, 550 S. Park Blvd.\, Park Place Family Rec Center\, Streamwood\, IL\, 60107\, United States
CATEGORIES:Athletics,Programs,Recreation
ATTACH;FMTTYPE=image/jpeg:https://streamwoodparks.org/wp-content/uploads/2022/09/Girls_YouthBBall.jpg
ORGANIZER;CN="Chris Fetterman":MAILTO:cfetterman@spdcares.com
END:VEVENT
END:VCALENDAR