BEGIN:VCALENDAR
VERSION:2.0
PRODID:-//Streamwood Park District - ECPv6.15.18//NONSGML v1.0//EN
CALSCALE:GREGORIAN
METHOD:PUBLISH
X-ORIGINAL-URL:https://streamwoodparks.org
X-WR-CALDESC:Events for Streamwood Park District
REFRESH-INTERVAL;VALUE=DURATION:PT1H
X-Robots-Tag:noindex
X-PUBLISHED-TTL:PT1H
BEGIN:VTIMEZONE
TZID:America/Chicago
BEGIN:DAYLIGHT
TZOFFSETFROM:-0600
TZOFFSETTO:-0500
TZNAME:CDT
DTSTART:20210314T080000
END:DAYLIGHT
BEGIN:STANDARD
TZOFFSETFROM:-0500
TZOFFSETTO:-0600
TZNAME:CST
DTSTART:20211107T070000
END:STANDARD
BEGIN:DAYLIGHT
TZOFFSETFROM:-0600
TZOFFSETTO:-0500
TZNAME:CDT
DTSTART:20220313T080000
END:DAYLIGHT
BEGIN:STANDARD
TZOFFSETFROM:-0500
TZOFFSETTO:-0600
TZNAME:CST
DTSTART:20221106T070000
END:STANDARD
BEGIN:DAYLIGHT
TZOFFSETFROM:-0600
TZOFFSETTO:-0500
TZNAME:CDT
DTSTART:20230312T080000
END:DAYLIGHT
BEGIN:STANDARD
TZOFFSETFROM:-0500
TZOFFSETTO:-0600
TZNAME:CST
DTSTART:20231105T070000
END:STANDARD
END:VTIMEZONE
BEGIN:VEVENT
DTSTART;VALUE=DATE:20221201
DTEND;VALUE=DATE:20221216
DTSTAMP:20260423T125908
CREATED:20220922T170923Z
LAST-MODIFIED:20220922T171031Z
UID:14246-1669852800-1671148799@streamwoodparks.org
SUMMARY:Letters to Santa
DESCRIPTION:Santa will once again have special mailboxes where children can drop off a letter that goes directly to the North Pole. Mailboxes will be at Park Place\, Community Center\, and Hoosier Grove Barn. \nAll children who write a letter will receive one directly from the North Pole. \nSanta Claus\nc/o Streamwood Park District\n550 S. Park Blvd. Streamwood\, IL 60107  \nPlease remember to include your child’s name and address on the back of the envelope.
URL:https://streamwoodparks.org/event/letters-to-santa/
LOCATION:IL
CATEGORIES:Events,Special Event
ATTACH;FMTTYPE=image/png:https://streamwoodparks.org/wp-content/uploads/2022/09/SPD_Web_Event_LettersToSanta.png
END:VEVENT
BEGIN:VEVENT
DTSTART;TZID=America/Chicago:20221205T170000
DTEND;TZID=America/Chicago:20221205T200000
DTSTAMP:20260423T125908
CREATED:20221121T154659Z
LAST-MODIFIED:20221121T154847Z
UID:15081-1670259600-1670270400@streamwoodparks.org
SUMMARY:Youth Soccer Camp
DESCRIPTION:7 – 15-year-olds \nThis soccer camp is coached by our fantastic Park District volunteer coaches. Players will work on different drills each week. \n7 – 9 year olds\nM/W\, December 5 – January 25\n5 – 6p\n$100 \n10 – 12 year olds\nM/W\, December 5 – January 25\n6 – 7p\n$100 \n13 – 15 year olds\nM/W\, December 5 – January 25\n7 – 8p\n$100
URL:https://streamwoodparks.org/event/youth-soccer-camp/
LOCATION:Community Center\, 777 S. Bartlett Road\, Streamwood Park District\, Streamwood\, IL\, 60107\, United States
CATEGORIES:Athletics,Programs,Recreation
END:VEVENT
END:VCALENDAR